Workbook

Sheet Instructions
A1: Nordic Bird Race 2026 instructions
A3: 1 | B3: Use one country tab per team: Denmark, Norway, Finland, and Sweden.
A4: 2 | B4: The two left columns list the species in English and the local language for that country.
A5: 3 | B5: Write each participant's name in row 4 of their country tab. Use one column per participant.
A6: 4 | B6: For each species seen, enter a date, x, or a short note in the participant's column. Any non-empty cell counts as seen.
A7: 5 | B7: The Fun stats tab updates high scores for countries, observers, most shared species, rare species seen by fewer than 3 observers, and species seen in all four countries.
A8: 6 | B8: Pictures from the race can be uploaded in the drive folder "Pictures".
A9: 7 | B9: Do not add new species to the species list. Please write if you see any species thats not in the list in the box below.
B16: Species that are missing in the species list: | C16: Seen by:

Sheet Fun stats
A1: Nordic Bird Race 2026
A2: Live high scores. Fill the country tabs; this page updates for Nordic Bird Race 2026.
A4: Total species | C4: Active observers | E4: All-country species | G4: Rare species | I4: Leading country
B5: =COUNTIF(Calculations!$P$4:$P$310,">0") -> 217 | D5: =SUM(Calculations!$C$4:$C$7) -> 59 | F5: =COUNTIF(Calculations!$Q$4:$Q$310,4) -> 0 | H5: =COUNTIFS(Calculations!$P$4:$P$310,">0",Calculations!$P$4:$P$310,"<3") -> 48 | J5: {=IF(SUM(Calculations!$B$4:$B$7)=0,"",IFERROR(INDEX(Calculations!$AC$4:$AC$7,MATCH(MAX(Calculations!$AG$4:$AG$7),Calculations!$AG$4:$AG$7,0)),""))} -> Sweden
A6: Country high score - species recorded by each country | F6: Observer high score - species and rare species per person
A7: Country | B7: Species | C7: Observers | D7: Species / observer | F7: Country | G7: Observer | H7: Species | I7: Rare species <3 | K7: Country | L7: Species
A8: {=IFERROR(INDEX(Calculations!$AC$4:$AC$7,MATCH(LARGE(Calculations!$AG$4:$AG$7,1),Calculations!$AG$4:$AG$7,0)),"")} -> Sweden | B8: {=IFERROR(INDEX(Calculations!$AD$4:$AD$7,MATCH(LARGE(Calculations!$AG$4:$AG$7,1),Calculations!$AG$4:$AG$7,0)),"")} -> 180 | C8: {=IFERROR(INDEX(Calculations!$AE$4:$AE$7,MATCH(LARGE(Calculations!$AG$4:$AG$7,1),Calculations!$AG$4:$AG$7,0)),"")} -> 23 | D8: {=IFERROR(INDEX(Calculations!$AF$4:$AF$7,MATCH(LARGE(Calculations!$AG$4:$AG$7,1),Calculations!$AG$4:$AG$7,0)),"")} -> 7.826087 | F8: {=IF(LARGE(Calculations!$AM$4:$AM$203,1)<0,"",IFERROR(INDEX(Calculations!$AI$4:$AI$203,MATCH(LARGE(Calculations!$AM$4:$AM$203,1),Calculations!$AM$4:$AM$203,0)),""))} -> Finland | G8: {=IF(LARGE(Calculations!$AM$4:$AM$203,1)<0,"",IFERROR(INDEX(Calculations!$AJ$4:$AJ$203,MATCH(LARGE(Calculations!$AM$4:$AM$203,1),Calculations!$AM$4:$AM$203,0)),""))} -> Viljami Selander | H8: {=IF(LARGE(Calculations!$AM$4:$AM$203,1)<0,"",IFERROR(INDEX(Calculations!$AK$4:$AK$203,MATCH(LARGE(Calculations!$AM$4:$AM$203,1),Calculations!$AM$4:$AM$203,0)),""))} -> 110 | I8: {=IF(LARGE(Calculations!$AM$4:$AM$203,1)<0,"",IFERROR(INDEX(Calculations!$AL$4:$AL$203,MATCH(LARGE(Calculations!$AM$4:$AM$203,1),Calculations!$AM$4:$AM$203,0)),""))} -> 16 | K8: Denmark | L8: =Calculations!B4 -> 0
A9: {=IFERROR(INDEX(Calculations!$AC$4:$AC$7,MATCH(LARGE(Calculations!$AG$4:$AG$7,2),Calculations!$AG$4:$AG$7,0)),"")} -> Finland | B9: {=IFERROR(INDEX(Calculations!$AD$4:$AD$7,MATCH(LARGE(Calculations!$AG$4:$AG$7,2),Calculations!$AG$4:$AG$7,0)),"")} -> 177 | C9: {=IFERROR(INDEX(Calculations!$AE$4:$AE$7,MATCH(LARGE(Calculations!$AG$4:$AG$7,2),Calculations!$AG$4:$AG$7,0)),"")} -> 31 | D9: {=IFERROR(INDEX(Calculations!$AF$4:$AF$7,MATCH(LARGE(Calculations!$AG$4:$AG$7,2),Calculations!$AG$4:$AG$7,0)),"")} -> 5.7096774 | F9: {=IF(LARGE(Calculations!$AM$4:$AM$203,2)<0,"",IFERROR(INDEX(Calculations!$AI$4:$AI$203,MATCH(LARGE(Calculations!$AM$4:$AM$203,2),Calculations!$AM$4:$AM$203,0)),""))} -> Sweden | G9: {=IF(LARGE(Calculations!$AM$4:$AM$203,2)<0,"",IFERROR(INDEX(Calculations!$AJ$4:$AJ$203,MATCH(LARGE(Calculations!$AM$4:$AM$203,2),Calculations!$AM$4:$AM$203,0)),""))} -> Gordon Lundvall | H9: {=IF(LARGE(Calculations!$AM$4:$AM$203,2)<0,"",IFERROR(INDEX(Calculations!$AK$4:$AK$203,MATCH(LARGE(Calculations!$AM$4:$AM$203,2),Calculations!$AM$4:$AM$203,0)),""))} -> 102 | I9: {=IF(LARGE(Calculations!$AM$4:$AM$203,2)<0,"",IFERROR(INDEX(Calculations!$AL$4:$AL$203,MATCH(LARGE(Calculations!$AM$4:$AM$203,2),Calculations!$AM$4:$AM$203,0)),""))} -> 1 | K9: Norway | L9: =Calculations!B5 -> 75
A10: {=IFERROR(INDEX(Calculations!$AC$4:$AC$7,MATCH(LARGE(Calculations!$AG$4:$AG$7,3),Calculations!$AG$4:$AG$7,0)),"")} -> Norway | B10: {=IFERROR(INDEX(Calculations!$AD$4:$AD$7,MATCH(LARGE(Calculations!$AG$4:$AG$7,3),Calculations!$AG$4:$AG$7,0)),"")} -> 75 | C10: {=IFERROR(INDEX(Calculations!$AE$4:$AE$7,MATCH(LARGE(Calculations!$AG$4:$AG$7,3),Calculations!$AG$4:$AG$7,0)),"")} -> 5 | D10: {=IFERROR(INDEX(Calculations!$AF$4:$AF$7,MATCH(LARGE(Calculations!$AG$4:$AG$7,3),Calculations!$AG$4:$AG$7,0)),"")} -> 15 | F10: {=IF(LARGE(Calculations!$AM$4:$AM$203,3)<0,"",IFERROR(INDEX(Calculations!$AI$4:$AI$203,MATCH(LARGE(Calculations!$AM$4:$AM$203,3),Calculations!$AM$4:$AM$203,0)),""))} -> Finland | G10: {=IF(LARGE(Calculations!$AM$4:$AM$203,3)<0,"",IFERROR(INDEX(Calculations!$AJ$4:$AJ$203,MATCH(LARGE(Calculations!$AM$4:$AM$203,3),Calculations!$AM$4:$AM$203,0)),""))} -> Kia Varjonen | H10: {=IF(LARGE(Calculations!$AM$4:$AM$203,3)<0,"",IFERROR(INDEX(Calculations!$AK$4:$AK$203,MATCH(LARGE(Calculations!$AM$4:$AM$203,3),Calculations!$AM$4:$AM$203,0)),""))} -> 101 | I10: {=IF(LARGE(Calculations!$AM$4:$AM$203,3)<0,"",IFERROR(INDEX(Calculations!$AL$4:$AL$203,MATCH(LARGE(Calculations!$AM$4:$AM$203,3),Calculations!$AM$4:$AM$203,0)),""))} -> 9 | K10: Finland | L10: =Calculations!B6 -> 177
A11: {=IFERROR(INDEX(Calculations!$AC$4:$AC$7,MATCH(LARGE(Calculations!$AG$4:$AG$7,4),Calculations!$AG$4:$AG$7,0)),"")} -> Denmark | B11: {=IFERROR(INDEX(Calculations!$AD$4:$AD$7,MATCH(LARGE(Calculations!$AG$4:$AG$7,4),Calculations!$AG$4:$AG$7,0)),"")} -> 0 | C11: {=IFERROR(INDEX(Calculations!$AE$4:$AE$7,MATCH(LARGE(Calculations!$AG$4:$AG$7,4),Calculations!$AG$4:$AG$7,0)),"")} -> 0 | D11: {=IFERROR(INDEX(Calculations!$AF$4:$AF$7,MATCH(LARGE(Calculations!$AG$4:$AG$7,4),Calculations!$AG$4:$AG$7,0)),"")} -> 0 | F11: {=IF(LARGE(Calculations!$AM$4:$AM$203,4)<0,"",IFERROR(INDEX(Calculations!$AI$4:$AI$203,MATCH(LARGE(Calculations!$AM$4:$AM$203,4),Calculations!$AM$4:$AM$203,0)),""))} -> Sweden | G11: {=IF(LARGE(Calculations!$AM$4:$AM$203,4)<0,"",IFERROR(INDEX(Calculations!$AJ$4:$AJ$203,MATCH(LARGE(Calculations!$AM$4:$AM$203,4),Calculations!$AM$4:$AM$203,0)),""))} -> Brian Löfkvist | H11: {=IF(LARGE(Calculations!$AM$4:$AM$203,4)<0,"",IFERROR(INDEX(Calculations!$AK$4:$AK$203,MATCH(LARGE(Calculations!$AM$4:$AM$203,4),Calculations!$AM$4:$AM$203,0)),""))} -> 99 | I11: {=IF(LARGE(Calculations!$AM$4:$AM$203,4)<0,"",IFERROR(INDEX(Calculations!$AL$4:$AL$203,MATCH(LARGE(Calculations!$AM$4:$AM$203,4),Calculations!$AM$4:$AM$203,0)),""))} -> 0 | K11: Sweden | L11: =Calculations!B7 -> 180
A12: Signature species - seen in only one country | F12: {=IF(LARGE(Calculations!$AM$4:$AM$203,5)<0,"",IFERROR(INDEX(Calculations!$AI$4:$AI$203,MATCH(LARGE(Calculations!$AM$4:$AM$203,5),Calculations!$AM$4:$AM$203,0)),""))} -> Sweden | G12: {=IF(LARGE(Calculations!$AM$4:$AM$203,5)<0,"",IFERROR(INDEX(Calculations!$AJ$4:$AJ$203,MATCH(LARGE(Calculations!$AM$4:$AM$203,5),Calculations!$AM$4:$AM$203,0)),""))} -> Albin Nordlund | H12: {=IF(LARGE(Calculations!$AM$4:$AM$203,5)<0,"",IFERROR(INDEX(Calculations!$AK$4:$AK$203,MATCH(LARGE(Calculations!$AM$4:$AM$203,5),Calculations!$AM$4:$AM$203,0)),""))} -> 98 | I12: {=IF(LARGE(Calculations!$AM$4:$AM$203,5)<0,"",IFERROR(INDEX(Calculations!$AL$4:$AL$203,MATCH(LARGE(Calculations!$AM$4:$AM$203,5),Calculations!$AM$4:$AM$203,0)),""))} -> 1
A13: Species | B13: Country | D13: Total observers | F13: {=IF(LARGE(Calculations!$AM$4:$AM$203,6)<0,"",IFERROR(INDEX(Calculations!$AI$4:$AI$203,MATCH(LARGE(Calculations!$AM$4:$AM$203,6),Calculations!$AM$4:$AM$203,0)),""))} -> Sweden | G13: {=IF(LARGE(Calculations!$AM$4:$AM$203,6)<0,"",IFERROR(INDEX(Calculations!$AJ$4:$AJ$203,MATCH(LARGE(Calculations!$AM$4:$AM$203,6),Calculations!$AM$4:$AM$203,0)),""))} -> Arild Norberg | H13: {=IF(LARGE(Calculations!$AM$4:$AM$203,6)<0,"",IFERROR(INDEX(Calculations!$AK$4:$AK$203,MATCH(LARGE(Calculations!$AM$4:$AM$203,6),Calculations!$AM$4:$AM$203,0)),""))} -> 93 | I13: {=IF(LARGE(Calculations!$AM$4:$AM$203,6)<0,"",IFERROR(INDEX(Calculations!$AL$4:$AL$203,MATCH(LARGE(Calculations!$AM$4:$AM$203,6),Calculations!$AM$4:$AM$203,0)),""))} -> 2
A14: {=IF(LARGE(Calculations!$BK$4:$BK$310,1)<0,"",IFERROR(INDEX(Calculations!$BG$4:$BG$310,MATCH(LARGE(Calculations!$BK$4:$BK$310,1),Calculations!$BK$4:$BK$310,0)),""))} -> Common murre | B14: {=IF(LARGE(Calculations!$BK$4:$BK$310,1)<0,"",IFERROR(INDEX(Calculations!$BH$4:$BH$310,MATCH(LARGE(Calculations!$BK$4:$BK$310,1),Calculations!$BK$4:$BK$310,0)),""))} -> Sweden | D14: {=IF(LARGE(Calculations!$BK$4:$BK$310,1)<0,"",IFERROR(INDEX(Calculations!$BJ$4:$BJ$310,MATCH(LARGE(Calculations!$BK$4:$BK$310,1),Calculations!$BK$4:$BK$310,0)),""))} -> 10 | F14: {=IF(LARGE(Calculations!$AM$4:$AM$203,7)<0,"",IFERROR(INDEX(Calculations!$AI$4:$AI$203,MATCH(LARGE(Calculations!$AM$4:$AM$203,7),Calculations!$AM$4:$AM$203,0)),""))} -> Sweden | G14: {=IF(LARGE(Calculations!$AM$4:$AM$203,7)<0,"",IFERROR(INDEX(Calculations!$AJ$4:$AJ$203,MATCH(LARGE(Calculations!$AM$4:$AM$203,7),Calculations!$AM$4:$AM$203,0)),""))} -> Eskil Friberg | H14: {=IF(LARGE(Calculations!$AM$4:$AM$203,7)<0,"",IFERROR(INDEX(Calculations!$AK$4:$AK$203,MATCH(LARGE(Calculations!$AM$4:$AM$203,7),Calculations!$AM$4:$AM$203,0)),""))} -> 87 | I14: {=IF(LARGE(Calculations!$AM$4:$AM$203,7)<0,"",IFERROR(INDEX(Calculations!$AL$4:$AL$203,MATCH(LARGE(Calculations!$AM$4:$AM$203,7),Calculations!$AM$4:$AM$203,0)),""))} -> 5
A15: {=IF(LARGE(Calculations!$BK$4:$BK$310,2)<0,"",IFERROR(INDEX(Calculations!$BG$4:$BG$310,MATCH(LARGE(Calculations!$BK$4:$BK$310,2),Calculations!$BK$4:$BK$310,0)),""))} -> Common redshank | B15: {=IF(LARGE(Calculations!$BK$4:$BK$310,2)<0,"",IFERROR(INDEX(Calculations!$BH$4:$BH$310,MATCH(LARGE(Calculations!$BK$4:$BK$310,2),Calculations!$BK$4:$BK$310,0)),""))} -> Sweden | D15: {=IF(LARGE(Calculations!$BK$4:$BK$310,2)<0,"",IFERROR(INDEX(Calculations!$BJ$4:$BJ$310,MATCH(LARGE(Calculations!$BK$4:$BK$310,2),Calculations!$BK$4:$BK$310,0)),""))} -> 8 | F15: {=IF(LARGE(Calculations!$AM$4:$AM$203,8)<0,"",IFERROR(INDEX(Calculations!$AI$4:$AI$203,MATCH(LARGE(Calculations!$AM$4:$AM$203,8),Calculations!$AM$4:$AM$203,0)),""))} -> Finland | G15: {=IF(LARGE(Calculations!$AM$4:$AM$203,8)<0,"",IFERROR(INDEX(Calculations!$AJ$4:$AJ$203,MATCH(LARGE(Calculations!$AM$4:$AM$203,8),Calculations!$AM$4:$AM$203,0)),""))} -> ELIA Raappana | H15: {=IF(LARGE(Calculations!$AM$4:$AM$203,8)<0,"",IFERROR(INDEX(Calculations!$AK$4:$AK$203,MATCH(LARGE(Calculations!$AM$4:$AM$203,8),Calculations!$AM$4:$AM$203,0)),""))} -> 83 | I15: {=IF(LARGE(Calculations!$AM$4:$AM$203,8)<0,"",IFERROR(INDEX(Calculations!$AL$4:$AL$203,MATCH(LARGE(Calculations!$AM$4:$AM$203,8),Calculations!$AM$4:$AM$203,0)),""))} -> 0
A16: {=IF(LARGE(Calculations!$BK$4:$BK$310,3)<0,"",IFERROR(INDEX(Calculations!$BG$4:$BG$310,MATCH(LARGE(Calculations!$BK$4:$BK$310,3),Calculations!$BK$4:$BK$310,0)),""))} -> Red kite | B16: {=IF(LARGE(Calculations!$BK$4:$BK$310,3)<0,"",IFERROR(INDEX(Calculations!$BH$4:$BH$310,MATCH(LARGE(Calculations!$BK$4:$BK$310,3),Calculations!$BK$4:$BK$310,0)),""))} -> Sweden | D16: {=IF(LARGE(Calculations!$BK$4:$BK$310,3)<0,"",IFERROR(INDEX(Calculations!$BJ$4:$BJ$310,MATCH(LARGE(Calculations!$BK$4:$BK$310,3),Calculations!$BK$4:$BK$310,0)),""))} -> 7 | F16: {=IF(LARGE(Calculations!$AM$4:$AM$203,9)<0,"",IFERROR(INDEX(Calculations!$AI$4:$AI$203,MATCH(LARGE(Calculations!$AM$4:$AM$203,9),Calculations!$AM$4:$AM$203,0)),""))} -> Finland | G16: {=IF(LARGE(Calculations!$AM$4:$AM$203,9)<0,"",IFERROR(INDEX(Calculations!$AJ$4:$AJ$203,MATCH(LARGE(Calculations!$AM$4:$AM$203,9),Calculations!$AM$4:$AM$203,0)),""))} -> Mikael Särkelä | H16: {=IF(LARGE(Calculations!$AM$4:$AM$203,9)<0,"",IFERROR(INDEX(Calculations!$AK$4:$AK$203,MATCH(LARGE(Calculations!$AM$4:$AM$203,9),Calculations!$AM$4:$AM$203,0)),""))} -> 82 | I16: {=IF(LARGE(Calculations!$AM$4:$AM$203,9)<0,"",IFERROR(INDEX(Calculations!$AL$4:$AL$203,MATCH(LARGE(Calculations!$AM$4:$AM$203,9),Calculations!$AM$4:$AM$203,0)),""))} -> 3
A17: {=IF(LARGE(Calculations!$BK$4:$BK$310,4)<0,"",IFERROR(INDEX(Calculations!$BG$4:$BG$310,MATCH(LARGE(Calculations!$BK$4:$BK$310,4),Calculations!$BK$4:$BK$310,0)),""))} -> Sandwich tern | B17: {=IF(LARGE(Calculations!$BK$4:$BK$310,4)<0,"",IFERROR(INDEX(Calculations!$BH$4:$BH$310,MATCH(LARGE(Calculations!$BK$4:$BK$310,4),Calculations!$BK$4:$BK$310,0)),""))} -> Sweden | D17: {=IF(LARGE(Calculations!$BK$4:$BK$310,4)<0,"",IFERROR(INDEX(Calculations!$BJ$4:$BJ$310,MATCH(LARGE(Calculations!$BK$4:$BK$310,4),Calculations!$BK$4:$BK$310,0)),""))} -> 7 | F17: {=IF(LARGE(Calculations!$AM$4:$AM$203,10)<0,"",IFERROR(INDEX(Calculations!$AI$4:$AI$203,MATCH(LARGE(Calculations!$AM$4:$AM$203,10),Calculations!$AM$4:$AM$203,0)),""))} -> Sweden | G17: {=IF(LARGE(Calculations!$AM$4:$AM$203,10)<0,"",IFERROR(INDEX(Calculations!$AJ$4:$AJ$203,MATCH(LARGE(Calculations!$AM$4:$AM$203,10),Calculations!$AM$4:$AM$203,0)),""))} -> Sigge Alfredsson | H17: {=IF(LARGE(Calculations!$AM$4:$AM$203,10)<0,"",IFERROR(INDEX(Calculations!$AK$4:$AK$203,MATCH(LARGE(Calculations!$AM$4:$AM$203,10),Calculations!$AM$4:$AM$203,0)),""))} -> 79 | I17: {=IF(LARGE(Calculations!$AM$4:$AM$203,10)<0,"",IFERROR(INDEX(Calculations!$AL$4:$AL$203,MATCH(LARGE(Calculations!$AM$4:$AM$203,10),Calculations!$AM$4:$AM$203,0)),""))} -> 1
A18: {=IF(LARGE(Calculations!$BK$4:$BK$310,5)<0,"",IFERROR(INDEX(Calculations!$BG$4:$BG$310,MATCH(LARGE(Calculations!$BK$4:$BK$310,5),Calculations!$BK$4:$BK$310,0)),""))} -> Sooty shearwater | B18: {=IF(LARGE(Calculations!$BK$4:$BK$310,5)<0,"",IFERROR(INDEX(Calculations!$BH$4:$BH$310,MATCH(LARGE(Calculations!$BK$4:$BK$310,5),Calculations!$BK$4:$BK$310,0)),""))} -> Sweden | D18: {=IF(LARGE(Calculations!$BK$4:$BK$310,5)<0,"",IFERROR(INDEX(Calculations!$BJ$4:$BJ$310,MATCH(LARGE(Calculations!$BK$4:$BK$310,5),Calculations!$BK$4:$BK$310,0)),""))} -> 6 | F18: {=IF(LARGE(Calculations!$AM$4:$AM$203,11)<0,"",IFERROR(INDEX(Calculations!$AI$4:$AI$203,MATCH(LARGE(Calculations!$AM$4:$AM$203,11),Calculations!$AM$4:$AM$203,0)),""))} -> Sweden | G18: {=IF(LARGE(Calculations!$AM$4:$AM$203,11)<0,"",IFERROR(INDEX(Calculations!$AJ$4:$AJ$203,MATCH(LARGE(Calculations!$AM$4:$AM$203,11),Calculations!$AM$4:$AM$203,0)),""))} -> Kaleido Carrillo | H18: {=IF(LARGE(Calculations!$AM$4:$AM$203,11)<0,"",IFERROR(INDEX(Calculations!$AK$4:$AK$203,MATCH(LARGE(Calculations!$AM$4:$AM$203,11),Calculations!$AM$4:$AM$203,0)),""))} -> 77 | I18: {=IF(LARGE(Calculations!$AM$4:$AM$203,11)<0,"",IFERROR(INDEX(Calculations!$AL$4:$AL$203,MATCH(LARGE(Calculations!$AM$4:$AM$203,11),Calculations!$AM$4:$AM$203,0)),""))} -> 1
A19: {=IF(LARGE(Calculations!$BK$4:$BK$310,6)<0,"",IFERROR(INDEX(Calculations!$BG$4:$BG$310,MATCH(LARGE(Calculations!$BK$4:$BK$310,6),Calculations!$BK$4:$BK$310,0)),""))} -> Black-tailed godwit | B19: {=IF(LARGE(Calculations!$BK$4:$BK$310,6)<0,"",IFERROR(INDEX(Calculations!$BH$4:$BH$310,MATCH(LARGE(Calculations!$BK$4:$BK$310,6),Calculations!$BK$4:$BK$310,0)),""))} -> Sweden | D19: {=IF(LARGE(Calculations!$BK$4:$BK$310,6)<0,"",IFERROR(INDEX(Calculations!$BJ$4:$BJ$310,MATCH(LARGE(Calculations!$BK$4:$BK$310,6),Calculations!$BK$4:$BK$310,0)),""))} -> 6 | F19: {=IF(LARGE(Calculations!$AM$4:$AM$203,12)<0,"",IFERROR(INDEX(Calculations!$AI$4:$AI$203,MATCH(LARGE(Calculations!$AM$4:$AM$203,12),Calculations!$AM$4:$AM$203,0)),""))} -> Finland | G19: {=IF(LARGE(Calculations!$AM$4:$AM$203,12)<0,"",IFERROR(INDEX(Calculations!$AJ$4:$AJ$203,MATCH(LARGE(Calculations!$AM$4:$AM$203,12),Calculations!$AM$4:$AM$203,0)),""))} -> Veeti Varismäki | H19: {=IF(LARGE(Calculations!$AM$4:$AM$203,12)<0,"",IFERROR(INDEX(Calculations!$AK$4:$AK$203,MATCH(LARGE(Calculations!$AM$4:$AM$203,12),Calculations!$AM$4:$AM$203,0)),""))} -> 76 | I19: {=IF(LARGE(Calculations!$AM$4:$AM$203,12)<0,"",IFERROR(INDEX(Calculations!$AL$4:$AL$203,MATCH(LARGE(Calculations!$AM$4:$AM$203,12),Calculations!$AM$4:$AM$203,0)),""))} -> 0
A20: {=IF(LARGE(Calculations!$BK$4:$BK$310,7)<0,"",IFERROR(INDEX(Calculations!$BG$4:$BG$310,MATCH(LARGE(Calculations!$BK$4:$BK$310,7),Calculations!$BK$4:$BK$310,0)),""))} -> Pied avocet | B20: {=IF(LARGE(Calculations!$BK$4:$BK$310,7)<0,"",IFERROR(INDEX(Calculations!$BH$4:$BH$310,MATCH(LARGE(Calculations!$BK$4:$BK$310,7),Calculations!$BK$4:$BK$310,0)),""))} -> Sweden | D20: {=IF(LARGE(Calculations!$BK$4:$BK$310,7)<0,"",IFERROR(INDEX(Calculations!$BJ$4:$BJ$310,MATCH(LARGE(Calculations!$BK$4:$BK$310,7),Calculations!$BK$4:$BK$310,0)),""))} -> 5 | F20: {=IF(LARGE(Calculations!$AM$4:$AM$203,13)<0,"",IFERROR(INDEX(Calculations!$AI$4:$AI$203,MATCH(LARGE(Calculations!$AM$4:$AM$203,13),Calculations!$AM$4:$AM$203,0)),""))} -> Finland | G20: {=IF(LARGE(Calculations!$AM$4:$AM$203,13)<0,"",IFERROR(INDEX(Calculations!$AJ$4:$AJ$203,MATCH(LARGE(Calculations!$AM$4:$AM$203,13),Calculations!$AM$4:$AM$203,0)),""))} -> Eino Jouppila | H20: {=IF(LARGE(Calculations!$AM$4:$AM$203,13)<0,"",IFERROR(INDEX(Calculations!$AK$4:$AK$203,MATCH(LARGE(Calculations!$AM$4:$AM$203,13),Calculations!$AM$4:$AM$203,0)),""))} -> 76 | I20: {=IF(LARGE(Calculations!$AM$4:$AM$203,13)<0,"",IFERROR(INDEX(Calculations!$AL$4:$AL$203,MATCH(LARGE(Calculations!$AM$4:$AM$203,13),Calculations!$AM$4:$AM$203,0)),""))} -> 0
A21: {=IF(LARGE(Calculations!$BK$4:$BK$310,8)<0,"",IFERROR(INDEX(Calculations!$BG$4:$BG$310,MATCH(LARGE(Calculations!$BK$4:$BK$310,8),Calculations!$BK$4:$BK$310,0)),""))} -> Rustic bunting | B21: {=IF(LARGE(Calculations!$BK$4:$BK$310,8)<0,"",IFERROR(INDEX(Calculations!$BH$4:$BH$310,MATCH(LARGE(Calculations!$BK$4:$BK$310,8),Calculations!$BK$4:$BK$310,0)),""))} -> Finland | D21: {=IF(LARGE(Calculations!$BK$4:$BK$310,8)<0,"",IFERROR(INDEX(Calculations!$BJ$4:$BJ$310,MATCH(LARGE(Calculations!$BK$4:$BK$310,8),Calculations!$BK$4:$BK$310,0)),""))} -> 5 | F21: {=IF(LARGE(Calculations!$AM$4:$AM$203,14)<0,"",IFERROR(INDEX(Calculations!$AI$4:$AI$203,MATCH(LARGE(Calculations!$AM$4:$AM$203,14),Calculations!$AM$4:$AM$203,0)),""))} -> Sweden | G21: {=IF(LARGE(Calculations!$AM$4:$AM$203,14)<0,"",IFERROR(INDEX(Calculations!$AJ$4:$AJ$203,MATCH(LARGE(Calculations!$AM$4:$AM$203,14),Calculations!$AM$4:$AM$203,0)),""))} -> Vilgot Sagerfors | H21: {=IF(LARGE(Calculations!$AM$4:$AM$203,14)<0,"",IFERROR(INDEX(Calculations!$AK$4:$AK$203,MATCH(LARGE(Calculations!$AM$4:$AM$203,14),Calculations!$AM$4:$AM$203,0)),""))} -> 76 | I21: {=IF(LARGE(Calculations!$AM$4:$AM$203,14)<0,"",IFERROR(INDEX(Calculations!$AL$4:$AL$203,MATCH(LARGE(Calculations!$AM$4:$AM$203,14),Calculations!$AM$4:$AM$203,0)),""))} -> 1
A22: {=IF(LARGE(Calculations!$BK$4:$BK$310,9)<0,"",IFERROR(INDEX(Calculations!$BG$4:$BG$310,MATCH(LARGE(Calculations!$BK$4:$BK$310,9),Calculations!$BK$4:$BK$310,0)),""))} -> Hazel grouse | B22: {=IF(LARGE(Calculations!$BK$4:$BK$310,9)<0,"",IFERROR(INDEX(Calculations!$BH$4:$BH$310,MATCH(LARGE(Calculations!$BK$4:$BK$310,9),Calculations!$BK$4:$BK$310,0)),""))} -> Finland | D22: {=IF(LARGE(Calculations!$BK$4:$BK$310,9)<0,"",IFERROR(INDEX(Calculations!$BJ$4:$BJ$310,MATCH(LARGE(Calculations!$BK$4:$BK$310,9),Calculations!$BK$4:$BK$310,0)),""))} -> 4 | F22: {=IF(LARGE(Calculations!$AM$4:$AM$203,15)<0,"",IFERROR(INDEX(Calculations!$AI$4:$AI$203,MATCH(LARGE(Calculations!$AM$4:$AM$203,15),Calculations!$AM$4:$AM$203,0)),""))} -> Finland | G22: {=IF(LARGE(Calculations!$AM$4:$AM$203,15)<0,"",IFERROR(INDEX(Calculations!$AJ$4:$AJ$203,MATCH(LARGE(Calculations!$AM$4:$AM$203,15),Calculations!$AM$4:$AM$203,0)),""))} -> Eetu Paljakka | H22: {=IF(LARGE(Calculations!$AM$4:$AM$203,15)<0,"",IFERROR(INDEX(Calculations!$AK$4:$AK$203,MATCH(LARGE(Calculations!$AM$4:$AM$203,15),Calculations!$AM$4:$AM$203,0)),""))} -> 75 | I22: {=IF(LARGE(Calculations!$AM$4:$AM$203,15)<0,"",IFERROR(INDEX(Calculations!$AL$4:$AL$203,MATCH(LARGE(Calculations!$AM$4:$AM$203,15),Calculations!$AM$4:$AM$203,0)),""))} -> 1
A23: {=IF(LARGE(Calculations!$BK$4:$BK$310,10)<0,"",IFERROR(INDEX(Calculations!$BG$4:$BG$310,MATCH(LARGE(Calculations!$BK$4:$BK$310,10),Calculations!$BK$4:$BK$310,0)),""))} -> Long-tailed jaeger | B23: {=IF(LARGE(Calculations!$BK$4:$BK$310,10)<0,"",IFERROR(INDEX(Calculations!$BH$4:$BH$310,MATCH(LARGE(Calculations!$BK$4:$BK$310,10),Calculations!$BK$4:$BK$310,0)),""))} -> Sweden | D23: {=IF(LARGE(Calculations!$BK$4:$BK$310,10)<0,"",IFERROR(INDEX(Calculations!$BJ$4:$BJ$310,MATCH(LARGE(Calculations!$BK$4:$BK$310,10),Calculations!$BK$4:$BK$310,0)),""))} -> 4 | F23: Rare species high score - most rare species per person
A24: {=IF(LARGE(Calculations!$BK$4:$BK$310,11)<0,"",IFERROR(INDEX(Calculations!$BG$4:$BG$310,MATCH(LARGE(Calculations!$BK$4:$BK$310,11),Calculations!$BK$4:$BK$310,0)),""))} -> Great skua | B24: {=IF(LARGE(Calculations!$BK$4:$BK$310,11)<0,"",IFERROR(INDEX(Calculations!$BH$4:$BH$310,MATCH(LARGE(Calculations!$BK$4:$BK$310,11),Calculations!$BK$4:$BK$310,0)),""))} -> Sweden | D24: {=IF(LARGE(Calculations!$BK$4:$BK$310,11)<0,"",IFERROR(INDEX(Calculations!$BJ$4:$BJ$310,MATCH(LARGE(Calculations!$BK$4:$BK$310,11),Calculations!$BK$4:$BK$310,0)),""))} -> 4 | F24: Country | G24: Observer | H24: Species | I24: Rare species <3
A25: {=IF(LARGE(Calculations!$BK$4:$BK$310,12)<0,"",IFERROR(INDEX(Calculations!$BG$4:$BG$310,MATCH(LARGE(Calculations!$BK$4:$BK$310,12),Calculations!$BK$4:$BK$310,0)),""))} -> Eurasian three-toed woodpecker | B25: {=IF(LARGE(Calculations!$BK$4:$BK$310,12)<0,"",IFERROR(INDEX(Calculations!$BH$4:$BH$310,MATCH(LARGE(Calculations!$BK$4:$BK$310,12),Calculations!$BK$4:$BK$310,0)),""))} -> Finland | D25: {=IF(LARGE(Calculations!$BK$4:$BK$310,12)<0,"",IFERROR(INDEX(Calculations!$BJ$4:$BJ$310,MATCH(LARGE(Calculations!$BK$4:$BK$310,12),Calculations!$BK$4:$BK$310,0)),""))} -> 4 | F25: {=IF(LARGE(Calculations!$AN$4:$AN$203,1)<0,"",IFERROR(INDEX(Calculations!$AI$4:$AI$203,MATCH(LARGE(Calculations!$AN$4:$AN$203,1),Calculations!$AN$4:$AN$203,0)),""))} -> Finland | G25: {=IF(LARGE(Calculations!$AN$4:$AN$203,1)<0,"",IFERROR(INDEX(Calculations!$AJ$4:$AJ$203,MATCH(LARGE(Calculations!$AN$4:$AN$203,1),Calculations!$AN$4:$AN$203,0)),""))} -> Viljami Selander | H25: {=IF(LARGE(Calculations!$AN$4:$AN$203,1)<0,"",IFERROR(INDEX(Calculations!$AK$4:$AK$203,MATCH(LARGE(Calculations!$AN$4:$AN$203,1),Calculations!$AN$4:$AN$203,0)),""))} -> 110 | I25: {=IF(LARGE(Calculations!$AN$4:$AN$203,1)<0,"",IFERROR(INDEX(Calculations!$AL$4:$AL$203,MATCH(LARGE(Calculations!$AN$4:$AN$203,1),Calculations!$AN$4:$AN$203,0)),""))} -> 16
A26: {=IF(LARGE(Calculations!$BK$4:$BK$310,13)<0,"",IFERROR(INDEX(Calculations!$BG$4:$BG$310,MATCH(LARGE(Calculations!$BK$4:$BK$310,13),Calculations!$BK$4:$BK$310,0)),""))} -> Lesser whitethroat | B26: {=IF(LARGE(Calculations!$BK$4:$BK$310,13)<0,"",IFERROR(INDEX(Calculations!$BH$4:$BH$310,MATCH(LARGE(Calculations!$BK$4:$BK$310,13),Calculations!$BK$4:$BK$310,0)),""))} -> Finland | D26: {=IF(LARGE(Calculations!$BK$4:$BK$310,13)<0,"",IFERROR(INDEX(Calculations!$BJ$4:$BJ$310,MATCH(LARGE(Calculations!$BK$4:$BK$310,13),Calculations!$BK$4:$BK$310,0)),""))} -> 4 | F26: {=IF(LARGE(Calculations!$AN$4:$AN$203,2)<0,"",IFERROR(INDEX(Calculations!$AI$4:$AI$203,MATCH(LARGE(Calculations!$AN$4:$AN$203,2),Calculations!$AN$4:$AN$203,0)),""))} -> Finland | G26: {=IF(LARGE(Calculations!$AN$4:$AN$203,2)<0,"",IFERROR(INDEX(Calculations!$AJ$4:$AJ$203,MATCH(LARGE(Calculations!$AN$4:$AN$203,2),Calculations!$AN$4:$AN$203,0)),""))} -> Kia Varjonen | H26: {=IF(LARGE(Calculations!$AN$4:$AN$203,2)<0,"",IFERROR(INDEX(Calculations!$AK$4:$AK$203,MATCH(LARGE(Calculations!$AN$4:$AN$203,2),Calculations!$AN$4:$AN$203,0)),""))} -> 101 | I26: {=IF(LARGE(Calculations!$AN$4:$AN$203,2)<0,"",IFERROR(INDEX(Calculations!$AL$4:$AL$203,MATCH(LARGE(Calculations!$AN$4:$AN$203,2),Calculations!$AN$4:$AN$203,0)),""))} -> 9
A27: {=IF(LARGE(Calculations!$BK$4:$BK$310,14)<0,"",IFERROR(INDEX(Calculations!$BG$4:$BG$310,MATCH(LARGE(Calculations!$BK$4:$BK$310,14),Calculations!$BK$4:$BK$310,0)),""))} -> Leach's storm petrel | B27: {=IF(LARGE(Calculations!$BK$4:$BK$310,14)<0,"",IFERROR(INDEX(Calculations!$BH$4:$BH$310,MATCH(LARGE(Calculations!$BK$4:$BK$310,14),Calculations!$BK$4:$BK$310,0)),""))} -> Sweden | D27: {=IF(LARGE(Calculations!$BK$4:$BK$310,14)<0,"",IFERROR(INDEX(Calculations!$BJ$4:$BJ$310,MATCH(LARGE(Calculations!$BK$4:$BK$310,14),Calculations!$BK$4:$BK$310,0)),""))} -> 3 | F27: {=IF(LARGE(Calculations!$AN$4:$AN$203,3)<0,"",IFERROR(INDEX(Calculations!$AI$4:$AI$203,MATCH(LARGE(Calculations!$AN$4:$AN$203,3),Calculations!$AN$4:$AN$203,0)),""))} -> Norway | G27: {=IF(LARGE(Calculations!$AN$4:$AN$203,3)<0,"",IFERROR(INDEX(Calculations!$AJ$4:$AJ$203,MATCH(LARGE(Calculations!$AN$4:$AN$203,3),Calculations!$AN$4:$AN$203,0)),""))} -> Aleksanteri Mikkola | H27: {=IF(LARGE(Calculations!$AN$4:$AN$203,3)<0,"",IFERROR(INDEX(Calculations!$AK$4:$AK$203,MATCH(LARGE(Calculations!$AN$4:$AN$203,3),Calculations!$AN$4:$AN$203,0)),""))} -> 11 | I27: {=IF(LARGE(Calculations!$AN$4:$AN$203,3)<0,"",IFERROR(INDEX(Calculations!$AL$4:$AL$203,MATCH(LARGE(Calculations!$AN$4:$AN$203,3),Calculations!$AN$4:$AN$203,0)),""))} -> 5
A28: {=IF(LARGE(Calculations!$BK$4:$BK$310,15)<0,"",IFERROR(INDEX(Calculations!$BG$4:$BG$310,MATCH(LARGE(Calculations!$BK$4:$BK$310,15),Calculations!$BK$4:$BK$310,0)),""))} -> Eurasian green woodpecker | B28: {=IF(LARGE(Calculations!$BK$4:$BK$310,15)<0,"",IFERROR(INDEX(Calculations!$BH$4:$BH$310,MATCH(LARGE(Calculations!$BK$4:$BK$310,15),Calculations!$BK$4:$BK$310,0)),""))} -> Sweden | D28: {=IF(LARGE(Calculations!$BK$4:$BK$310,15)<0,"",IFERROR(INDEX(Calculations!$BJ$4:$BJ$310,MATCH(LARGE(Calculations!$BK$4:$BK$310,15),Calculations!$BK$4:$BK$310,0)),""))} -> 3 | F28: {=IF(LARGE(Calculations!$AN$4:$AN$203,4)<0,"",IFERROR(INDEX(Calculations!$AI$4:$AI$203,MATCH(LARGE(Calculations!$AN$4:$AN$203,4),Calculations!$AN$4:$AN$203,0)),""))} -> Sweden | G28: {=IF(LARGE(Calculations!$AN$4:$AN$203,4)<0,"",IFERROR(INDEX(Calculations!$AJ$4:$AJ$203,MATCH(LARGE(Calculations!$AN$4:$AN$203,4),Calculations!$AN$4:$AN$203,0)),""))} -> Eskil Friberg | H28: {=IF(LARGE(Calculations!$AN$4:$AN$203,4)<0,"",IFERROR(INDEX(Calculations!$AK$4:$AK$203,MATCH(LARGE(Calculations!$AN$4:$AN$203,4),Calculations!$AN$4:$AN$203,0)),""))} -> 87 | I28: {=IF(LARGE(Calculations!$AN$4:$AN$203,4)<0,"",IFERROR(INDEX(Calculations!$AL$4:$AL$203,MATCH(LARGE(Calculations!$AN$4:$AN$203,4),Calculations!$AN$4:$AN$203,0)),""))} -> 5
A29: {=IF(LARGE(Calculations!$BK$4:$BK$310,16)<0,"",IFERROR(INDEX(Calculations!$BG$4:$BG$310,MATCH(LARGE(Calculations!$BK$4:$BK$310,16),Calculations!$BK$4:$BK$310,0)),""))} -> White-backed woodpecker | B29: {=IF(LARGE(Calculations!$BK$4:$BK$310,16)<0,"",IFERROR(INDEX(Calculations!$BH$4:$BH$310,MATCH(LARGE(Calculations!$BK$4:$BK$310,16),Calculations!$BK$4:$BK$310,0)),""))} -> Finland | D29: {=IF(LARGE(Calculations!$BK$4:$BK$310,16)<0,"",IFERROR(INDEX(Calculations!$BJ$4:$BJ$310,MATCH(LARGE(Calculations!$BK$4:$BK$310,16),Calculations!$BK$4:$BK$310,0)),""))} -> 3 | F29: {=IF(LARGE(Calculations!$AN$4:$AN$203,5)<0,"",IFERROR(INDEX(Calculations!$AI$4:$AI$203,MATCH(LARGE(Calculations!$AN$4:$AN$203,5),Calculations!$AN$4:$AN$203,0)),""))} -> Finland | G29: {=IF(LARGE(Calculations!$AN$4:$AN$203,5)<0,"",IFERROR(INDEX(Calculations!$AJ$4:$AJ$203,MATCH(LARGE(Calculations!$AN$4:$AN$203,5),Calculations!$AN$4:$AN$203,0)),""))} -> Aapo Määttä | H29: {=IF(LARGE(Calculations!$AN$4:$AN$203,5)<0,"",IFERROR(INDEX(Calculations!$AK$4:$AK$203,MATCH(LARGE(Calculations!$AN$4:$AN$203,5),Calculations!$AN$4:$AN$203,0)),""))} -> 63 | I29: {=IF(LARGE(Calculations!$AN$4:$AN$203,5)<0,"",IFERROR(INDEX(Calculations!$AL$4:$AL$203,MATCH(LARGE(Calculations!$AN$4:$AN$203,5),Calculations!$AN$4:$AN$203,0)),""))} -> 3
A30: {=IF(LARGE(Calculations!$BK$4:$BK$310,17)<0,"",IFERROR(INDEX(Calculations!$BG$4:$BG$310,MATCH(LARGE(Calculations!$BK$4:$BK$310,17),Calculations!$BK$4:$BK$310,0)),""))} -> Bearded reedling | B30: {=IF(LARGE(Calculations!$BK$4:$BK$310,17)<0,"",IFERROR(INDEX(Calculations!$BH$4:$BH$310,MATCH(LARGE(Calculations!$BK$4:$BK$310,17),Calculations!$BK$4:$BK$310,0)),""))} -> Sweden | D30: {=IF(LARGE(Calculations!$BK$4:$BK$310,17)<0,"",IFERROR(INDEX(Calculations!$BJ$4:$BJ$310,MATCH(LARGE(Calculations!$BK$4:$BK$310,17),Calculations!$BK$4:$BK$310,0)),""))} -> 3 | F30: {=IF(LARGE(Calculations!$AN$4:$AN$203,6)<0,"",IFERROR(INDEX(Calculations!$AI$4:$AI$203,MATCH(LARGE(Calculations!$AN$4:$AN$203,6),Calculations!$AN$4:$AN$203,0)),""))} -> Finland | G30: {=IF(LARGE(Calculations!$AN$4:$AN$203,6)<0,"",IFERROR(INDEX(Calculations!$AJ$4:$AJ$203,MATCH(LARGE(Calculations!$AN$4:$AN$203,6),Calculations!$AN$4:$AN$203,0)),""))} -> Mikael Särkelä | H30: {=IF(LARGE(Calculations!$AN$4:$AN$203,6)<0,"",IFERROR(INDEX(Calculations!$AK$4:$AK$203,MATCH(LARGE(Calculations!$AN$4:$AN$203,6),Calculations!$AN$4:$AN$203,0)),""))} -> 82 | I30: {=IF(LARGE(Calculations!$AN$4:$AN$203,6)<0,"",IFERROR(INDEX(Calculations!$AL$4:$AL$203,MATCH(LARGE(Calculations!$AN$4:$AN$203,6),Calculations!$AN$4:$AN$203,0)),""))} -> 3
A31: {=IF(LARGE(Calculations!$BK$4:$BK$310,18)<0,"",IFERROR(INDEX(Calculations!$BG$4:$BG$310,MATCH(LARGE(Calculations!$BK$4:$BK$310,18),Calculations!$BK$4:$BK$310,0)),""))} -> Red-necked grebe | B31: {=IF(LARGE(Calculations!$BK$4:$BK$310,18)<0,"",IFERROR(INDEX(Calculations!$BH$4:$BH$310,MATCH(LARGE(Calculations!$BK$4:$BK$310,18),Calculations!$BK$4:$BK$310,0)),""))} -> Sweden | D31: {=IF(LARGE(Calculations!$BK$4:$BK$310,18)<0,"",IFERROR(INDEX(Calculations!$BJ$4:$BJ$310,MATCH(LARGE(Calculations!$BK$4:$BK$310,18),Calculations!$BK$4:$BK$310,0)),""))} -> 2 | F31: {=IF(LARGE(Calculations!$AN$4:$AN$203,7)<0,"",IFERROR(INDEX(Calculations!$AI$4:$AI$203,MATCH(LARGE(Calculations!$AN$4:$AN$203,7),Calculations!$AN$4:$AN$203,0)),""))} -> Finland | G31: {=IF(LARGE(Calculations!$AN$4:$AN$203,7)<0,"",IFERROR(INDEX(Calculations!$AJ$4:$AJ$203,MATCH(LARGE(Calculations!$AN$4:$AN$203,7),Calculations!$AN$4:$AN$203,0)),""))} -> David Enkvist | H31: {=IF(LARGE(Calculations!$AN$4:$AN$203,7)<0,"",IFERROR(INDEX(Calculations!$AK$4:$AK$203,MATCH(LARGE(Calculations!$AN$4:$AN$203,7),Calculations!$AN$4:$AN$203,0)),""))} -> 51 | I31: {=IF(LARGE(Calculations!$AN$4:$AN$203,7)<0,"",IFERROR(INDEX(Calculations!$AL$4:$AL$203,MATCH(LARGE(Calculations!$AN$4:$AN$203,7),Calculations!$AN$4:$AN$203,0)),""))} -> 3
A32: {=IF(LARGE(Calculations!$BK$4:$BK$310,19)<0,"",IFERROR(INDEX(Calculations!$BG$4:$BG$310,MATCH(LARGE(Calculations!$BK$4:$BK$310,19),Calculations!$BK$4:$BK$310,0)),""))} -> Wood sandpiper | B32: {=IF(LARGE(Calculations!$BK$4:$BK$310,19)<0,"",IFERROR(INDEX(Calculations!$BH$4:$BH$310,MATCH(LARGE(Calculations!$BK$4:$BK$310,19),Calculations!$BK$4:$BK$310,0)),""))} -> Finland | D32: {=IF(LARGE(Calculations!$BK$4:$BK$310,19)<0,"",IFERROR(INDEX(Calculations!$BJ$4:$BJ$310,MATCH(LARGE(Calculations!$BK$4:$BK$310,19),Calculations!$BK$4:$BK$310,0)),""))} -> 2 | F32: {=IF(LARGE(Calculations!$AN$4:$AN$203,8)<0,"",IFERROR(INDEX(Calculations!$AI$4:$AI$203,MATCH(LARGE(Calculations!$AN$4:$AN$203,8),Calculations!$AN$4:$AN$203,0)),""))} -> Finland | G32: {=IF(LARGE(Calculations!$AN$4:$AN$203,8)<0,"",IFERROR(INDEX(Calculations!$AJ$4:$AJ$203,MATCH(LARGE(Calculations!$AN$4:$AN$203,8),Calculations!$AN$4:$AN$203,0)),""))} -> Veeti Räty | H32: {=IF(LARGE(Calculations!$AN$4:$AN$203,8)<0,"",IFERROR(INDEX(Calculations!$AK$4:$AK$203,MATCH(LARGE(Calculations!$AN$4:$AN$203,8),Calculations!$AN$4:$AN$203,0)),""))} -> 66 | I32: {=IF(LARGE(Calculations!$AN$4:$AN$203,8)<0,"",IFERROR(INDEX(Calculations!$AL$4:$AL$203,MATCH(LARGE(Calculations!$AN$4:$AN$203,8),Calculations!$AN$4:$AN$203,0)),""))} -> 2
A33: {=IF(LARGE(Calculations!$BK$4:$BK$310,20)<0,"",IFERROR(INDEX(Calculations!$BG$4:$BG$310,MATCH(LARGE(Calculations!$BK$4:$BK$310,20),Calculations!$BK$4:$BK$310,0)),""))} -> Sabine's gull | B33: =IF(LARGE(Calculations!$BK$4:$BK$310,20)<0,"",IFERROR(INDEX(Calculations!$BH$4:$BH$310,MATCH(LARGE(Calculations!$BK$4:$BK$310,20),Calculations!$BK$4:$BK$310,0)),"")) -> Sweden | D33: {=IF(LARGE(Calculations!$BK$4:$BK$310,20)<0,"",IFERROR(INDEX(Calculations!$BJ$4:$BJ$310,MATCH(LARGE(Calculations!$BK$4:$BK$310,20),Calculations!$BK$4:$BK$310,0)),""))} -> 2 | F33: {=IF(LARGE(Calculations!$AN$4:$AN$203,9)<0,"",IFERROR(INDEX(Calculations!$AI$4:$AI$203,MATCH(LARGE(Calculations!$AN$4:$AN$203,9),Calculations!$AN$4:$AN$203,0)),""))} -> Sweden | G33: {=IF(LARGE(Calculations!$AN$4:$AN$203,9)<0,"",IFERROR(INDEX(Calculations!$AJ$4:$AJ$203,MATCH(LARGE(Calculations!$AN$4:$AN$203,9),Calculations!$AN$4:$AN$203,0)),""))} -> Arild Norberg | H33: {=IF(LARGE(Calculations!$AN$4:$AN$203,9)<0,"",IFERROR(INDEX(Calculations!$AK$4:$AK$203,MATCH(LARGE(Calculations!$AN$4:$AN$203,9),Calculations!$AN$4:$AN$203,0)),""))} -> 93 | I33: {=IF(LARGE(Calculations!$AN$4:$AN$203,9)<0,"",IFERROR(INDEX(Calculations!$AL$4:$AL$203,MATCH(LARGE(Calculations!$AN$4:$AN$203,9),Calculations!$AN$4:$AN$203,0)),""))} -> 2
A34: =IF(LARGE(Calculations!$BK$4:$BK$310,21)<0,"",IFERROR(INDEX(Calculations!$BG$4:$BG$310,MATCH(LARGE(Calculations!$BK$4:$BK$310,21),Calculations!$BK$4:$BK$310,0)),"")) -> Eurasian pygmy owl | B34: =IF(LARGE(Calculations!$BK$4:$BK$310,21)<0,"",IFERROR(INDEX(Calculations!$BH$4:$BH$310,MATCH(LARGE(Calculations!$BK$4:$BK$310,21),Calculations!$BK$4:$BK$310,0)),"")) -> Finland | D34: =IF(LARGE(Calculations!$BK$4:$BK$310,21)<0,"",IFERROR(INDEX(Calculations!$BJ$4:$BJ$310,MATCH(LARGE(Calculations!$BK$4:$BK$310,21),Calculations!$BK$4:$BK$310,0)),"")) -> 2 | F34: {=IF(LARGE(Calculations!$AN$4:$AN$203,10)<0,"",IFERROR(INDEX(Calculations!$AI$4:$AI$203,MATCH(LARGE(Calculations!$AN$4:$AN$203,10),Calculations!$AN$4:$AN$203,0)),""))} -> Sweden | G34: {=IF(LARGE(Calculations!$AN$4:$AN$203,10)<0,"",IFERROR(INDEX(Calculations!$AJ$4:$AJ$203,MATCH(LARGE(Calculations!$AN$4:$AN$203,10),Calculations!$AN$4:$AN$203,0)),""))} -> Oscar Gustavsson | H34: {=IF(LARGE(Calculations!$AN$4:$AN$203,10)<0,"",IFERROR(INDEX(Calculations!$AK$4:$AK$203,MATCH(LARGE(Calculations!$AN$4:$AN$203,10),Calculations!$AN$4:$AN$203,0)),""))} -> 64 | I34: {=IF(LARGE(Calculations!$AN$4:$AN$203,10)<0,"",IFERROR(INDEX(Calculations!$AL$4:$AL$203,MATCH(LARGE(Calculations!$AN$4:$AN$203,10),Calculations!$AN$4:$AN$203,0)),""))} -> 2
A35: =IF(LARGE(Calculations!$BK$4:$BK$310,22)<0,"",IFERROR(INDEX(Calculations!$BG$4:$BG$310,MATCH(LARGE(Calculations!$BK$4:$BK$310,22),Calculations!$BK$4:$BK$310,0)),"")) -> Short-eared owl | B35: =IF(LARGE(Calculations!$BK$4:$BK$310,22)<0,"",IFERROR(INDEX(Calculations!$BH$4:$BH$310,MATCH(LARGE(Calculations!$BK$4:$BK$310,22),Calculations!$BK$4:$BK$310,0)),"")) -> Finland | D35: =IF(LARGE(Calculations!$BK$4:$BK$310,22)<0,"",IFERROR(INDEX(Calculations!$BJ$4:$BJ$310,MATCH(LARGE(Calculations!$BK$4:$BK$310,22),Calculations!$BK$4:$BK$310,0)),"")) -> 2 | F35: {=IF(LARGE(Calculations!$AN$4:$AN$203,11)<0,"",IFERROR(INDEX(Calculations!$AI$4:$AI$203,MATCH(LARGE(Calculations!$AN$4:$AN$203,11),Calculations!$AN$4:$AN$203,0)),""))} -> Sweden | G35: {=IF(LARGE(Calculations!$AN$4:$AN$203,11)<0,"",IFERROR(INDEX(Calculations!$AJ$4:$AJ$203,MATCH(LARGE(Calculations!$AN$4:$AN$203,11),Calculations!$AN$4:$AN$203,0)),""))} -> Kasper Wieck | H35: {=IF(LARGE(Calculations!$AN$4:$AN$203,11)<0,"",IFERROR(INDEX(Calculations!$AK$4:$AK$203,MATCH(LARGE(Calculations!$AN$4:$AN$203,11),Calculations!$AN$4:$AN$203,0)),""))} -> 64 | I35: {=IF(LARGE(Calculations!$AN$4:$AN$203,11)<0,"",IFERROR(INDEX(Calculations!$AL$4:$AL$203,MATCH(LARGE(Calculations!$AN$4:$AN$203,11),Calculations!$AN$4:$AN$203,0)),""))} -> 2
A36: =IF(LARGE(Calculations!$BK$4:$BK$310,23)<0,"",IFERROR(INDEX(Calculations!$BG$4:$BG$310,MATCH(LARGE(Calculations!$BK$4:$BK$310,23),Calculations!$BK$4:$BK$310,0)),"")) -> Common redstart | B36: =IF(LARGE(Calculations!$BK$4:$BK$310,23)<0,"",IFERROR(INDEX(Calculations!$BH$4:$BH$310,MATCH(LARGE(Calculations!$BK$4:$BK$310,23),Calculations!$BK$4:$BK$310,0)),"")) -> Finland | D36: =IF(LARGE(Calculations!$BK$4:$BK$310,23)<0,"",IFERROR(INDEX(Calculations!$BJ$4:$BJ$310,MATCH(LARGE(Calculations!$BK$4:$BK$310,23),Calculations!$BK$4:$BK$310,0)),"")) -> 2 | F36: {=IF(LARGE(Calculations!$AN$4:$AN$203,12)<0,"",IFERROR(INDEX(Calculations!$AI$4:$AI$203,MATCH(LARGE(Calculations!$AN$4:$AN$203,12),Calculations!$AN$4:$AN$203,0)),""))} -> Sweden | G36: {=IF(LARGE(Calculations!$AN$4:$AN$203,12)<0,"",IFERROR(INDEX(Calculations!$AJ$4:$AJ$203,MATCH(LARGE(Calculations!$AN$4:$AN$203,12),Calculations!$AN$4:$AN$203,0)),""))} -> Oskar Karsikko | H36: {=IF(LARGE(Calculations!$AN$4:$AN$203,12)<0,"",IFERROR(INDEX(Calculations!$AK$4:$AK$203,MATCH(LARGE(Calculations!$AN$4:$AN$203,12),Calculations!$AN$4:$AN$203,0)),""))} -> 7 | I36: {=IF(LARGE(Calculations!$AN$4:$AN$203,12)<0,"",IFERROR(INDEX(Calculations!$AL$4:$AL$203,MATCH(LARGE(Calculations!$AN$4:$AN$203,12),Calculations!$AN$4:$AN$203,0)),""))} -> 2
A37: =IF(LARGE(Calculations!$BK$4:$BK$310,24)<0,"",IFERROR(INDEX(Calculations!$BG$4:$BG$310,MATCH(LARGE(Calculations!$BK$4:$BK$310,24),Calculations!$BK$4:$BK$310,0)),"")) -> Sedge warbler | B37: =IF(LARGE(Calculations!$BK$4:$BK$310,24)<0,"",IFERROR(INDEX(Calculations!$BH$4:$BH$310,MATCH(LARGE(Calculations!$BK$4:$BK$310,24),Calculations!$BK$4:$BK$310,0)),"")) -> Finland | D37: =IF(LARGE(Calculations!$BK$4:$BK$310,24)<0,"",IFERROR(INDEX(Calculations!$BJ$4:$BJ$310,MATCH(LARGE(Calculations!$BK$4:$BK$310,24),Calculations!$BK$4:$BK$310,0)),"")) -> 2 | F37: {=IF(LARGE(Calculations!$AN$4:$AN$203,13)<0,"",IFERROR(INDEX(Calculations!$AI$4:$AI$203,MATCH(LARGE(Calculations!$AN$4:$AN$203,13),Calculations!$AN$4:$AN$203,0)),""))} -> Sweden | G37: {=IF(LARGE(Calculations!$AN$4:$AN$203,13)<0,"",IFERROR(INDEX(Calculations!$AJ$4:$AJ$203,MATCH(LARGE(Calculations!$AN$4:$AN$203,13),Calculations!$AN$4:$AN$203,0)),""))} -> Hugo Isaksson o Liam Gustafsson | H37: {=IF(LARGE(Calculations!$AN$4:$AN$203,13)<0,"",IFERROR(INDEX(Calculations!$AK$4:$AK$203,MATCH(LARGE(Calculations!$AN$4:$AN$203,13),Calculations!$AN$4:$AN$203,0)),""))} -> 61 | I37: {=IF(LARGE(Calculations!$AN$4:$AN$203,13)<0,"",IFERROR(INDEX(Calculations!$AL$4:$AL$203,MATCH(LARGE(Calculations!$AN$4:$AN$203,13),Calculations!$AN$4:$AN$203,0)),""))} -> 2
A38: =IF(LARGE(Calculations!$BK$4:$BK$310,25)<0,"",IFERROR(INDEX(Calculations!$BG$4:$BG$310,MATCH(LARGE(Calculations!$BK$4:$BK$310,25),Calculations!$BK$4:$BK$310,0)),"")) -> Common whitethroat | B38: =IF(LARGE(Calculations!$BK$4:$BK$310,25)<0,"",IFERROR(INDEX(Calculations!$BH$4:$BH$310,MATCH(LARGE(Calculations!$BK$4:$BK$310,25),Calculations!$BK$4:$BK$310,0)),"")) -> Finland | D38: =IF(LARGE(Calculations!$BK$4:$BK$310,25)<0,"",IFERROR(INDEX(Calculations!$BJ$4:$BJ$310,MATCH(LARGE(Calculations!$BK$4:$BK$310,25),Calculations!$BK$4:$BK$310,0)),"")) -> 2 | F38: {=IF(LARGE(Calculations!$AN$4:$AN$203,14)<0,"",IFERROR(INDEX(Calculations!$AI$4:$AI$203,MATCH(LARGE(Calculations!$AN$4:$AN$203,14),Calculations!$AN$4:$AN$203,0)),""))} -> Sweden | G38: {=IF(LARGE(Calculations!$AN$4:$AN$203,14)<0,"",IFERROR(INDEX(Calculations!$AJ$4:$AJ$203,MATCH(LARGE(Calculations!$AN$4:$AN$203,14),Calculations!$AN$4:$AN$203,0)),""))} -> Malte Lindberg | H38: {=IF(LARGE(Calculations!$AN$4:$AN$203,14)<0,"",IFERROR(INDEX(Calculations!$AK$4:$AK$203,MATCH(LARGE(Calculations!$AN$4:$AN$203,14),Calculations!$AN$4:$AN$203,0)),""))} -> 3 | I38: {=IF(LARGE(Calculations!$AN$4:$AN$203,14)<0,"",IFERROR(INDEX(Calculations!$AL$4:$AL$203,MATCH(LARGE(Calculations!$AN$4:$AN$203,14),Calculations!$AN$4:$AN$203,0)),""))} -> 2
A39: =IF(LARGE(Calculations!$BK$4:$BK$310,26)<0,"",IFERROR(INDEX(Calculations!$BG$4:$BG$310,MATCH(LARGE(Calculations!$BK$4:$BK$310,26),Calculations!$BK$4:$BK$310,0)),"")) -> Garden warbler | B39: =IF(LARGE(Calculations!$BK$4:$BK$310,26)<0,"",IFERROR(INDEX(Calculations!$BH$4:$BH$310,MATCH(LARGE(Calculations!$BK$4:$BK$310,26),Calculations!$BK$4:$BK$310,0)),"")) -> Norway | D39: =IF(LARGE(Calculations!$BK$4:$BK$310,26)<0,"",IFERROR(INDEX(Calculations!$BJ$4:$BJ$310,MATCH(LARGE(Calculations!$BK$4:$BK$310,26),Calculations!$BK$4:$BK$310,0)),"")) -> 2 | F39: {=IF(LARGE(Calculations!$AN$4:$AN$203,15)<0,"",IFERROR(INDEX(Calculations!$AI$4:$AI$203,MATCH(LARGE(Calculations!$AN$4:$AN$203,15),Calculations!$AN$4:$AN$203,0)),""))} -> Norway | G39: {=IF(LARGE(Calculations!$AN$4:$AN$203,15)<0,"",IFERROR(INDEX(Calculations!$AJ$4:$AJ$203,MATCH(LARGE(Calculations!$AN$4:$AN$203,15),Calculations!$AN$4:$AN$203,0)),""))} -> Christina Hustvedt Myklebust | H39: {=IF(LARGE(Calculations!$AN$4:$AN$203,15)<0,"",IFERROR(INDEX(Calculations!$AK$4:$AK$203,MATCH(LARGE(Calculations!$AN$4:$AN$203,15),Calculations!$AN$4:$AN$203,0)),""))} -> 43 | I39: {=IF(LARGE(Calculations!$AN$4:$AN$203,15)<0,"",IFERROR(INDEX(Calculations!$AL$4:$AL$203,MATCH(LARGE(Calculations!$AN$4:$AN$203,15),Calculations!$AN$4:$AN$203,0)),""))} -> 1
A41: Most shared species - seen by the most observers | F41: Rare species - seen by fewer than 3 observers
A42: Species | B42: Total observers | C42: Countries | D42: Seen in | F42: Rare species (<3 observers) | G42: Countries | H42: Observer(s) | I42: Total observers
...

Sheet Denmark
A1: Nordic Bird Race 2026 - Denmark
A2: Write participant names in row 4. Mark species with a date, x, or any short note in that person's column. The dashboard counts every non-empty sighting cell.
A4: English name | B4: Danish name | BA4: Seen by | BB4: Unique in country
A5: Mute swan | B5: knopsvane | BA5: =COUNTIF(C5:AZ5,"<>") -> 0 | BB5: =IF(BA5=1,1,0) -> 0
A6: Tundra swan | B6: pibesvane | BA6: =COUNTIF(C6:AZ6,"<>") -> 0 | BB6: =IF(BA6=1,1,0) -> 0
A7: Whooper swan | B7: sangsvane | BA7: =COUNTIF(C7:AZ7,"<>") -> 0 | BB7: =IF(BA7=1,1,0) -> 0
A8: Tundra bean goose | B8: tundrasædgås | BA8: =COUNTIF(C8:AZ8,"<>") -> 0 | BB8: =IF(BA8=1,1,0) -> 0
A9: Pink-footed goose | B9: kortnæbbet gås | BA9: =COUNTIF(C9:AZ9,"<>") -> 0 | BB9: =IF(BA9=1,1,0) -> 0
A10: Taiga bean goose | B10: tajgasædgås | BA10: =COUNTIF(C10:AZ10,"<>") -> 0 | BB10: =IF(BA10=1,1,0) -> 0
A11: Greater white-fronted goose | B11: blisgås | BA11: =COUNTIF(C11:AZ11,"<>") -> 0 | BB11: =IF(BA11=1,1,0) -> 0
A12: Lesser white-fronted goose | B12: dværggås | BA12: =COUNTIF(C12:AZ12,"<>") -> 0 | BB12: =IF(BA12=1,1,0) -> 0
A13: Greylag goose | B13: grågås | BA13: =COUNTIF(C13:AZ13,"<>") -> 0 | BB13: =IF(BA13=1,1,0) -> 0
A14: Canada goose | B14: canadagås | BA14: =COUNTIF(C14:AZ14,"<>") -> 0 | BB14: =IF(BA14=1,1,0) -> 0
A15: Barnacle goose | B15: bramgås | BA15: =COUNTIF(C15:AZ15,"<>") -> 0 | BB15: =IF(BA15=1,1,0) -> 0
A16: Brant goose | B16: knortegås | BA16: =COUNTIF(C16:AZ16,"<>") -> 0 | BB16: =IF(BA16=1,1,0) -> 0
... A307: Short-toed treecreeper | B307: korttået træløber | BA307: =COUNTIF(C307:AZ307,"<>") -> 0 | BB307: =IF(BA307=1,1,0) -> 0
A308: Steppe eagle | BA308: =COUNTIF(C308:AZ308,"<>") -> 0 | BB308: =IF(BA308=1,1,0) -> 0
A309: European storm Petrel | BA309: =COUNTIF(C309:AZ309,"<>") -> 0 | BB309: =IF(BA309=1,1,0) -> 0
A310: American wigeon | B310: amerikansk pibeand | BA310: =COUNTIF(C310:AZ310,"<>") -> 0 | BB310: =IF(BA310=1,1,0) -> 0
A311: Ferruginous duck | BA311: =COUNTIF(C311:AZ311,"<>") -> 0 | BB311: =IF(BA311=1,1,0) -> 0
C312: =COUNTA(C5:C311) -> 0 | D312: =COUNTA(D5:D311) -> 0 | E312: =COUNTA(E5:E311) -> 0 | F312: =COUNTA(F5:F311) -> 0 | G312: =COUNTA(G5:G311) -> 0 | H312: =COUNTA(H5:H311) -> 0 | I312: =COUNTA(I5:I311) -> 0 | J312: =COUNTA(J5:J311) -> 0 | ... AF312: =COUNTA(AF5:AF311) -> 0

Sheet Norway
A1: Nordic Bird Race 2026 - Norway
A2: Write participant names in row 4. Mark species with a date, x, or any short note in that person's column. The dashboard counts every non-empty sighting cell.
A4: English name | B4: Norwegian name | C4: Sine Hagestad | D4: Syver Bratli | E4: Christina Hustvedt Myklebust | F4: Aleksanteri Mikkola | G4: Karen Stølan Nielsen | BA4: Seen by | BB4: Unique in country
A5: Mute swan | B5: knoppsvane | C5: X | D5: X | BA5: =COUNTIF(C5:AZ5,"<>") -> 2 | BB5: =IF(BA5=1,1,0) -> 0
A6: Tundra swan | B6: dvergsvane | BA6: =COUNTIF(C6:AZ6,"<>") -> 0 | BB6: =IF(BA6=1,1,0) -> 0
A7: Whooper swan | B7: sangsvane | BA7: =COUNTIF(C7:AZ7,"<>") -> 0 | BB7: =IF(BA7=1,1,0) -> 0
A8: Tundra bean goose | B8: tundrasædgås | BA8: =COUNTIF(C8:AZ8,"<>") -> 0 | BB8: =IF(BA8=1,1,0) -> 0
A9: Pink-footed goose | B9: kortnebbgås | F9: x | BA9: =COUNTIF(C9:AZ9,"<>") -> 1 | BB9: =IF(BA9=1,1,0) -> 1
A10: Taiga bean goose | B10: taigasædgås | BA10: =COUNTIF(C10:AZ10,"<>") -> 0 | BB10: =IF(BA10=1,1,0) -> 0
A11: Greater white-fronted goose | B11: tundragås | BA11: =COUNTIF(C11:AZ11,"<>") -> 0 | BB11: =IF(BA11=1,1,0) -> 0
A12: Lesser white-fronted goose | B12: dverggås | BA12: =COUNTIF(C12:AZ12,"<>") -> 0 | BB12: =IF(BA12=1,1,0) -> 0
A13: Greylag goose | B13: grågås | C13: X | D13: X | E13: x | BA13: =COUNTIF(C13:AZ13,"<>") -> 3 | BB13: =IF(BA13=1,1,0) -> 0
A14: Canada goose | B14: kanadagås | D14: X | BA14: =COUNTIF(C14:AZ14,"<>") -> 1 | BB14: =IF(BA14=1,1,0) -> 1
A15: Barnacle goose | B15: hvitkinngås | F15: x | BA15: =COUNTIF(C15:AZ15,"<>") -> 1 | BB15: =IF(BA15=1,1,0) -> 1
A16: Brant goose | B16: ringgås | F16: x | BA16: =COUNTIF(C16:AZ16,"<>") -> 1 | BB16: =IF(BA16=1,1,0) -> 1
A17: Red-breasted goose | B17: rødhalsgås | BA17: =COUNTIF(C17:AZ17,"<>") -> 0 | BB17: =IF(BA17=1,1,0) -> 0
A18: Ruddy shelduck | B18: rustand | BA18: =COUNTIF(C18:AZ18,"<>") -> 0 | BB18: =IF(BA18=1,1,0) -> 0
A19: Common shelduck | B19: gravand | G19: x | BA19: =COUNTIF(C19:AZ19,"<>") -> 1 | BB19: =IF(BA19=1,1,0) -> 1
A20: Eurasian wigeon | B20: brunnakke | D20: X | G20: x | BA20: =COUNTIF(C20:AZ20,"<>") -> 2 | BB20: =IF(BA20=1,1,0) -> 0
A21: Gadwall | B21: snadderand | G21: x | BA21: =COUNTIF(C21:AZ21,"<>") -> 1 | BB21: =IF(BA21=1,1,0) -> 1
A22: Common-teal | B22: krikkand | E22: x | BA22: =COUNTIF(C22:AZ22,"<>") -> 1 | BB22: =IF(BA22=1,1,0) -> 1
A23: Mallard | B23: stokkand | D23: X | E23: x | G23: x | BA23: =COUNTIF(C23:AZ23,"<>") -> 3 | BB23: =IF(BA23=1,1,0) -> 0
A24: Northern pintail | B24: stjertand | G24: x | BA24: =COUNTIF(C24:AZ24,"<>") -> 1 | BB24: =IF(BA24=1,1,0) -> 1
A25: Garganey | B25: knekkand | BA25: =COUNTIF(C25:AZ25,"<>") -> 0 | BB25: =IF(BA25=1,1,0) -> 0
A26: Northern shoveler | B26: skjeand | BA26: =COUNTIF(C26:AZ26,"<>") -> 0 | BB26: =IF(BA26=1,1,0) -> 0
A27: Common pochard | B27: taffeland | BA27: =COUNTIF(C27:AZ27,"<>") -> 0 | BB27: =IF(BA27=1,1,0) -> 0
A28: Tufted duck | B28: toppand | D28: X | BA28: =COUNTIF(C28:AZ28,"<>") -> 1 | BB28: =IF(BA28=1,1,0) -> 1
A29: Greater scaup | B29: bergand | BA29: =COUNTIF(C29:AZ29,"<>") -> 0 | BB29: =IF(BA29=1,1,0) -> 0
A30: Common eider | B30: ærfugl | C30: X | D30: X | E30: x | F30: x | G30: x | BA30: =COUNTIF(C30:AZ30,"<>") -> 5 | BB30: =IF(BA30=1,1,0) -> 0
A31: King eider | B31: praktærfugl | BA31: =COUNTIF(C31:AZ31,"<>") -> 0 | BB31: =IF(BA31=1,1,0) -> 0
A32: Steller's eider | B32: stellerand | BA32: =COUNTIF(C32:AZ32,"<>") -> 0 | BB32: =IF(BA32=1,1,0) -> 0
A33: Long-tailed duck | B33: havelle | BA33: =COUNTIF(C33:AZ33,"<>") -> 0 | BB33: =IF(BA33=1,1,0) -> 0
A34: Common scoter | B34: svartand | G34: x | BA34: =COUNTIF(C34:AZ34,"<>") -> 1 | BB34: =IF(BA34=1,1,0) -> 1
A35: Velvet scoter | B35: sjøorre | C35: X | E35: x | G35: x | BA35: =COUNTIF(C35:AZ35,"<>") -> 3 | BB35: =IF(BA35=1,1,0) -> 0
A36: Common goldeneye | B36: kvinand | D36: X | BA36: =COUNTIF(C36:AZ36,"<>") -> 1 | BB36: =IF(BA36=1,1,0) -> 1
A37: Smew | B37: lappfiskand | BA37: =COUNTIF(C37:AZ37,"<>") -> 0 | BB37: =IF(BA37=1,1,0) -> 0
A38: Red-breasted merganser | B38: siland | C38: X | G38: x | BA38: =COUNTIF(C38:AZ38,"<>") -> 2 | BB38: =IF(BA38=1,1,0) -> 0
A39: Common merganser | B39: laksand | BA39: =COUNTIF(C39:AZ39,"<>") -> 0 | BB39: =IF(BA39=1,1,0) -> 0
A40: Hazel grouse | B40: jerpe | BA40: =COUNTIF(C40:AZ40,"<>") -> 0 | BB40: =IF(BA40=1,1,0) -> 0
A41: Willow ptarmigan | B41: lirype | BA41: =COUNTIF(C41:AZ41,"<>") -> 0 | BB41: =IF(BA41=1,1,0) -> 0
...

Sheet Finland
A2: Write participant names in row 4. Mark species with a date, x, or any short note in that person's column. The dashboard counts every non-empty sighting cell.
A4: English name | B4: Finnish name | C4: Aino Heikkinen | D4: Eetu Paljakka | E4: Elias Bragge | F4: Teemu Rantanen | G4: Maria Hänninen | H4: Nestori Susiluoma | I4: Patrik Holstila | J4: Kia Varjonen | K4: Eeli Vahtola | L4: Viljami Selander | M4: Pauliina Palmu | N4: Aapo Määttä | O4: Eino Koskenranta | P4: Mikael Särkelä | Q4: Emma H | R4: Julia J | S4: Veeti Varismäki | T4: Eino Jouppila | U4: ELIA Raappana | V4: Justus Lassila | W4: Tuomas Meriläinen | X4: Oskari Mehtätalo | Y4: Jere Eerikäinen | Z4: Severi Heikkilä | AA4: Veeti Räty | AB4: Anika L | AC4: Nico N | AD4: Akseli Piha | AE4: Aleksi A | AF4: Jere H | AG4: David Enkvist | BA4: Seen by | BB4: Unique in country
A5: Mute swan | B5: kyhmyjoutsen | C5: x | D5: x | J5: x | O5: x | P5: X | S5: x | T5: x | U5: x | AB5: x | AD5: x | AE5: x | BA5: =COUNTIF(C5:AZ5,"<>") -> 11 | BB5: =IF(BA5=1,1,0) -> 0
A6: Tundra swan | B6: pikkujoutsen | BA6: =COUNTIF(C6:AZ6,"<>") -> 0 | BB6: =IF(BA6=1,1,0) -> 0
A7: Whooper swan | B7: laulujoutsen | D7: x | G7: x | I7: x | J7: x | K7: x | L7: x | M7: x | N7: x | O7: x | Q7: x | R7: x | S7: x | T7: x | U7: x | V7: X | W7: x | X7: x | Z7: x | AA7: x | AB7: x | AE7: x | AF7: x | AG7: x | BA7: =COUNTIF(C7:AZ7,"<>") -> 23 | BB7: =IF(BA7=1,1,0) -> 0
A8: Tundra bean goose | B8: tundrametsähanhi | S8: x | T8: x | U8: x | BA8: =COUNTIF(C8:AZ8,"<>") -> 3 | BB8: =IF(BA8=1,1,0) -> 0
A9: Pink-footed goose | B9: lyhytnokkahanhi | S9: x | T9: x | U9: x | BA9: =COUNTIF(C9:AZ9,"<>") -> 3 | BB9: =IF(BA9=1,1,0) -> 0
A10: Taiga bean goose | B10: taigametsähanhi | G10: x | J10: x | K10: x | N10: x | S10: x | T10: x | U10: x | AA10: x | BA10: =COUNTIF(C10:AZ10,"<>") -> 8 | BB10: =IF(BA10=1,1,0) -> 0
A11: Greater white-fronted goose | B11: tundrahanhi | BA11: =COUNTIF(C11:AZ11,"<>") -> 0 | BB11: =IF(BA11=1,1,0) -> 0
A12: Lesser white-fronted goose | B12: kiljuhanhi | BA12: =COUNTIF(C12:AZ12,"<>") -> 0 | BB12: =IF(BA12=1,1,0) -> 0
A13: Greylag goose | B13: merihanhi | J13: x | K13: x | O13: x | Q13: x | S13: x | T13: x | U13: x | Z13: x | AE13: x | BA13: =COUNTIF(C13:AZ13,"<>") -> 9 | BB13: =IF(BA13=1,1,0) -> 0
A14: Canada goose | B14: kanadanhanhi | J14: x | L14: x | O14: x | W14: x | X14: x | AE14: x | BA14: =COUNTIF(C14:AZ14,"<>") -> 6 | BB14: =IF(BA14=1,1,0) -> 0
A15: Barnacle goose | B15: valkoposkihanhi | C15: x | J15: x | L15: x | O15: x | Q15: x | Z15: x | AA15: x | AB15: x | BA15: =COUNTIF(C15:AZ15,"<>") -> 8 | BB15: =IF(BA15=1,1,0) -> 0
A16: Brant goose | B16: sepelhanhi | BA16: =COUNTIF(C16:AZ16,"<>") -> 0 | BB16: =IF(BA16=1,1,0) -> 0
A17: Red-breasted goose | B17: punakaulahanhi | BA17: =COUNTIF(C17:AZ17,"<>") -> 0 | BB17: =IF(BA17=1,1,0) -> 0
A18: Ruddy shelduck | B18: ruostesorsa | BA18: =COUNTIF(C18:AZ18,"<>") -> 0 | BB18: =IF(BA18=1,1,0) -> 0
A19: Common shelduck | B19: ristisorsa | BA19: =COUNTIF(C19:AZ19,"<>") -> 0 | BB19: =IF(BA19=1,1,0) -> 0
A20: Eurasian wigeon | B20: haapana | C20: x | D20: x | J20: x | K20: x | L20: x | N20: x | O20: x | P20: x | Q20: x | S20: x | T20: x | U20: x | W20: x | Z20: x | AA20: x | AB20: x | AD20: x | AE20: x | AG20: x | BA20: =COUNTIF(C20:AZ20,"<>") -> 19 | BB20: =IF(BA20=1,1,0) -> 0
A21: Gadwall | B21: harmaasorsa | C21: x | D21: x | J21: x | L21: x | O21: x | S21: x | T21: x | U21: x | Z21: x | AB21: x | BA21: =COUNTIF(C21:AZ21,"<>") -> 10 | BB21: =IF(BA21=1,1,0) -> 0
A22: Common teal | B22: tavi | D22: x | J22: x | K22: x | L22: x | N22: x | P22: x | S22: x | T22: x | U22: x | Z22: x | AA22: x | AB22: x | AG22: x | BA22: =COUNTIF(C22:AZ22,"<>") -> 13 | BB22: =IF(BA22=1,1,0) -> 0
A23: Mallard | B23: sinisorsa | C23: x | D23: x | E23: x | G23: x | I23: x | J23: x | K23: x | L23: x | N23: x | O23: x | P23: x | Q23: x | S23: x | T23: x | U23: x | V23: X | W23: x | Y23: x | Z23: x | AA23: x | AB23: x | AD23: x | AE23: x | AF23: x | AG23: x | BA23: =COUNTIF(C23:AZ23,"<>") -> 25 | BB23: =IF(BA23=1,1,0) -> 0
A24: Northern pintail | B24: jouhisorsa | C24: x | D24: x | J24: x | K24: x | L24: x | N24: x | P24: x | S24: x | T24: x | U24: x | W24: x | Z24: x | AB24: x | AD24: x | BA24: =COUNTIF(C24:AZ24,"<>") -> 14 | BB24: =IF(BA24=1,1,0) -> 0
A25: Garganey | B25: heinätavi | L25: x | BA25: =COUNTIF(C25:AZ25,"<>") -> 1 | BB25: =IF(BA25=1,1,0) -> 1
A26: Northern shoveler | B26: lapasorsa | D26: x | J26: x | L26: x | O26: x | Q26: x | S26: x | T26: x | U26: x | AA26: x | BA26: =COUNTIF(C26:AZ26,"<>") -> 9 | BB26: =IF(BA26=1,1,0) -> 0
A27: Common pochard | B27: punasotka | L27: x | BA27: =COUNTIF(C27:AZ27,"<>") -> 1 | BB27: =IF(BA27=1,1,0) -> 1
A28: Tufted duck | B28: tukkasotka | D28: x | K28: x | L28: x | N28: x | O28: x | P28: x | S28: x | T28: x | U28: x | W28: x | Z28: x | AB28: x | AD28: x | AE28: x | BA28: =COUNTIF(C28:AZ28,"<>") -> 14 | BB28: =IF(BA28=1,1,0) -> 0
A29: Greater scaup | B29: lapasotka | L29: x | P29: x | S29: x | T29: x | BA29: =COUNTIF(C29:AZ29,"<>") -> 4 | BB29: =IF(BA29=1,1,0) -> 0
A30: Common eider | B30: haahka | C30: x | P30: x | AB30: x | AD30: x | BA30: =COUNTIF(C30:AZ30,"<>") -> 4 | BB30: =IF(BA30=1,1,0) -> 0
A31: King eider | B31: kyhmyhaahka | BA31: =COUNTIF(C31:AZ31,"<>") -> 0 | BB31: =IF(BA31=1,1,0) -> 0
A32: Steller's eider | B32: allihaahka | BA32: =COUNTIF(C32:AZ32,"<>") -> 0 | BB32: =IF(BA32=1,1,0) -> 0
A33: Long-tailed duck | B33: alli | C33: x | W33: x | AB33: x | AD33: x | BA33: =COUNTIF(C33:AZ33,"<>") -> 4 | BB33: =IF(BA33=1,1,0) -> 0
A34: Common scoter | B34: mustalintu | P34: x | AB34: x | AD34: x | BA34: =COUNTIF(C34:AZ34,"<>") -> 3 | BB34: =IF(BA34=1,1,0) -> 0
A35: Velvet scoter | B35: pilkkasiipi | C35: x | P35: x | AB35: x | AD35: x | BA35: =COUNTIF(C35:AZ35,"<>") -> 4 | BB35: =IF(BA35=1,1,0) -> 0
A36: Common goldeneye | B36: telkkä | C36: x | D36: x | E36: x | I36: x | J36: x | K36: x | L36: x | N36: x | O36: x | P36: x | Q36: x | S36: x | T36: x | U36: x | V36: X | W36: x | X36: x | AA36: x | AB36: x | AC36: x | AD36: x | AE36: x | AG36: x | BA36: =COUNTIF(C36:AZ36,"<>") -> 23 | BB36: =IF(BA36=1,1,0) -> 0
A37: Smew | B37: uivelo | K37: x | L37: x | N37: x | BA37: =COUNTIF(C37:AZ37,"<>") -> 3 | BB37: =IF(BA37=1,1,0) -> 0
A38: Red-breasted merganser | B38: tukkakoskelo | C38: x | J38: x | L38: x | P38: x | X38: x | AA38: x | AB38: x | AC38: x | AD38: x | BA38: =COUNTIF(C38:AZ38,"<>") -> 9 | BB38: =IF(BA38=1,1,0) -> 0
A39: Common merganser | B39: isokoskelo | C39: x | D39: x | E39: x | J39: x | K39: x | L39: x | N39: x | O39: x | P39: x | Q39: x | S39: x | T39: x | U39: x | V39: X | W39: x | X39: X | AB39: x | AC39: x | AD39: x | BA39: =COUNTIF(C39:AZ39,"<>") -> 19 | BB39: =IF(BA39=1,1,0) -> 0
A40: Hazel grouse | B40: pyy | E40: x | L40: x | U40: x | AG40: x | BA40: =COUNTIF(C40:AZ40,"<>") -> 4 | BB40: =IF(BA40=1,1,0) -> 0
A41: Willow ptarmigan | B41: riekko | BA41: =COUNTIF(C41:AZ41,"<>") -> 0 | BB41: =IF(BA41=1,1,0) -> 0
A42: Rock ptarmigan | B42: kiiruna | BA42: =COUNTIF(C42:AZ42,"<>") -> 0 | BB42: =IF(BA42=1,1,0) -> 0
...

Sheet Sweden
A1: Nordic Bird Race 2026 - Sweden
A2: Write participant names in row 4. Mark species with a date, x, or any short note in that person's column. The dashboard counts every non-empty sighting cell.
A4: English name | B4: Swedish name | C4: Brian Löfkvist | D4: Albin Nordlund | E4: Gordon Lundvall | F4: Kaleido Carrillo | G4: Eskil Friberg | H4: Benjamin Rodling | I4: Nikola Kostic | J4: Arild Norberg | K4: Knut Hjörnhede | L4: Gabriel Axelsson | M4: Petter Sahlström | N4: Max Lundell | O4: Oscar Gustavsson | P4: Kasper Wieck | Q4: Mathilda Lindberg | R4: Love & Saga Wallin | S4: Vilgot Sagerfors | T4: Oskar Karsikko | U4: Joel Eng | V4: Hugo Isaksson o Liam Gustafsson | W4: Sigge Alfredsson | X4: Malte Lindberg | Y4: Adam Johnsson | BA4: Seen by | BB4: Unique in country
A5: Mute swan | B5: Knölsvan | C5: x | D5: X | E5: X | F5: X | G5: X | H5: x | J5: x | L5: X | N5: X | R5: X | S5: X | U5: x | V5: X | W5: X | BA5: =COUNTIF(C5:AZ5,"<>") -> 14 | BB5: =IF(BA5=1,1,0) -> 0
A6: Tundra swan | B6: Mindre sångsvan | BA6: =COUNTIF(C6:AZ6,"<>") -> 0 | BB6: =IF(BA6=1,1,0) -> 0
A7: Whooper swan | B7: Sångsvan | C7: x | D7: X | G7: X | R7: X | S7: X | BA7: =COUNTIF(C7:AZ7,"<>") -> 5 | BB7: =IF(BA7=1,1,0) -> 0
A8: Tundra bean goose | B8: Tundragås | G8: X | BA8: =COUNTIF(C8:AZ8,"<>") -> 1 | BB8: =IF(BA8=1,1,0) -> 1
A9: Pink-footed goose | B9: Spetsbergsgås | BA9: =COUNTIF(C9:AZ9,"<>") -> 0 | BB9: =IF(BA9=1,1,0) -> 0
A10: Taiga bean goose | B10: Skogsgås | G10: X | BA10: =COUNTIF(C10:AZ10,"<>") -> 1 | BB10: =IF(BA10=1,1,0) -> 1
A11: Greater white-fronted goose | B11: Bläsgås | N11: X | BA11: =COUNTIF(C11:AZ11,"<>") -> 1 | BB11: =IF(BA11=1,1,0) -> 1
A12: Lesser white-fronted goose | B12: Fjällgås | BA12: =COUNTIF(C12:AZ12,"<>") -> 0 | BB12: =IF(BA12=1,1,0) -> 0
A13: Greylag goose | B13: Grågås | C13: x | D13: X | E13: X | F13: X | G13: X | H13: x | J13: x | N13: X | R13: X | S13: X | U13: x | W13: X | BA13: =COUNTIF(C13:AZ13,"<>") -> 12 | BB13: =IF(BA13=1,1,0) -> 0
A14: Canada goose | B14: Kanadagås | E14: X | F14: X | G14: X | J14: x | L14: X | N14: X | O14: X | P14: X | Q14: X | S14: X | U14: x | W14: X | BA14: =COUNTIF(C14:AZ14,"<>") -> 12 | BB14: =IF(BA14=1,1,0) -> 0
A15: Barnacle goose | B15: Vitkindad gås | E15: X | F15: X | G15: X | J15: x | W15: X | BA15: =COUNTIF(C15:AZ15,"<>") -> 5 | BB15: =IF(BA15=1,1,0) -> 0
A16: Brant goose | B16: Prutgås | BA16: =COUNTIF(C16:AZ16,"<>") -> 0 | BB16: =IF(BA16=1,1,0) -> 0
A17: Red-breasted goose | B17: Rödhalsad gås | BA17: =COUNTIF(C17:AZ17,"<>") -> 0 | BB17: =IF(BA17=1,1,0) -> 0
A18: Ruddy shelduck | B18: Rostand | BA18: =COUNTIF(C18:AZ18,"<>") -> 0 | BB18: =IF(BA18=1,1,0) -> 0
A19: Common shelduck | B19: Gravand | E19: X | J19: x | BA19: =COUNTIF(C19:AZ19,"<>") -> 2 | BB19: =IF(BA19=1,1,0) -> 0
A20: Eurasian wigeon | B20: Bläsand | C20: x | D20: X | E20: X | F20: X | G20: X | H20: x | J20: x | L20: X | N20: X | O20: X | P20: X | Q20: X | R20: X | S20: X | U20: x | V20: X | W20: X | BA20: =COUNTIF(C20:AZ20,"<>") -> 17 | BB20: =IF(BA20=1,1,0) -> 0
A21: Gadwall | B21: Snatterand | C21: x | D21: X | E21: X | F21: X | G21: X | H21: x | J21: x | W21: X | BA21: =COUNTIF(C21:AZ21,"<>") -> 8 | BB21: =IF(BA21=1,1,0) -> 0
A22: Common teal | B22: Kricka | C22: x | D22: X | E22: X | F22: X | G22: X | H22: x | J22: x | L22: X | S22: X | U22: x | V22: X | W22: X | BA22: =COUNTIF(C22:AZ22,"<>") -> 12 | BB22: =IF(BA22=1,1,0) -> 0
A23: Mallard | B23: Gräsand | C23: x | D23: X | E23: X | F23: X | G23: X | H23: x | J23: x | L23: X | N23: X | O23: X | P23: X | Q23: X | R23: X | S23: X | V23: X | W23: X | BA23: =COUNTIF(C23:AZ23,"<>") -> 16 | BB23: =IF(BA23=1,1,0) -> 0
A24: Northern pintail | B24: Stjärtand | C24: x | D24: X | E24: X | F24: X | G24: X | J24: x | O24: X | P24: X | Q24: X | S24: X | U24: x | V24: X | W24: X | BA24: =COUNTIF(C24:AZ24,"<>") -> 13 | BB24: =IF(BA24=1,1,0) -> 0
A25: Garganey | B25: Årta | BA25: =COUNTIF(C25:AZ25,"<>") -> 0 | BB25: =IF(BA25=1,1,0) -> 0
A26: Northern shoveler | B26: Skedand | C26: x | D26: X | E26: X | G26: X | S26: X | V26: X | BA26: =COUNTIF(C26:AZ26,"<>") -> 6 | BB26: =IF(BA26=1,1,0) -> 0
A27: Common pochard | B27: Brunand | G27: X | BA27: =COUNTIF(C27:AZ27,"<>") -> 1 | BB27: =IF(BA27=1,1,0) -> 1
A28: Tufted duck | B28: Vigg | C28: x | D28: X | E28: X | G28: X | H28: x | J28: x | L28: X | S28: X | V28: X | BA28: =COUNTIF(C28:AZ28,"<>") -> 9 | BB28: =IF(BA28=1,1,0) -> 0
A29: Greater scaup | B29: Bergand | C29: X | D29: X | G29: X | BA29: =COUNTIF(C29:AZ29,"<>") -> 3 | BB29: =IF(BA29=1,1,0) -> 0
A30: Common eider | B30: Ejder | C30: x | E30: X | F30: X | J30: x | L30: X | O30: X | P30: X | Q30: X | U30: x | V30: X | W30: X | BA30: =COUNTIF(C30:AZ30,"<>") -> 11 | BB30: =IF(BA30=1,1,0) -> 0
A31: King eider | B31: Praktejder | BA31: =COUNTIF(C31:AZ31,"<>") -> 0 | BB31: =IF(BA31=1,1,0) -> 0
A32: Steller's eider | B32: Alförrädare | BA32: =COUNTIF(C32:AZ32,"<>") -> 0 | BB32: =IF(BA32=1,1,0) -> 0
