Workbook

Sheet Instructions
A1: Nordic Bird Race 2026 instructions
A3: 1 | B3: Use one country tab per team: Denmark, Norway, Finland, and Sweden.
A4: 2 | B4: The two left columns list the species in English and the local language for that country.
A5: 3 | B5: Write each participant's name in row 4 of their country tab. Use one column per participant.
A6: 4 | B6: For each species seen, enter a date, x, or a short note in the participant's column. Any non-empty cell counts as seen.
A7: 5 | B7: The Fun stats tab updates high scores for countries, observers, most shared species, rare species seen by fewer than 3 observers, and species seen in all four countries.
A8: 6 | B8: Pictures from the race can be uploaded in the drive folder "Pictures".
A9: 7 | B9: Do not add new species to the species list. Please write if you see any species thats not in the list in the box below.
B16: Species that are missing in the species list: | C16: Seen by:

Sheet Fun stats
A1: Nordic Bird Race 2026
A2: Live high scores. Fill the country tabs; this page updates for Nordic Bird Race 2026.
A4: Total species | C4: Active observers | E4: All-country species | G4: Rare species | I4: Leading country
B5: =COUNTIF(Calculations!$P$4:$P$310,">0") -> 217 | D5: =SUM(Calculations!$C$4:$C$7) -> 59 | F5: =COUNTIF(Calculations!$Q$4:$Q$310,4) -> 0 | H5: =COUNTIFS(Calculations!$P$4:$P$310,">0",Calculations!$P$4:$P$310,"<3") -> 48 | J5: {=IF(SUM(Calculations!$B$4:$B$7)=0,"",IFERROR(INDEX(Calculations!$AC$4:$AC$7,MATCH(MAX(Calculations!$AG$4:$AG$7),Calculations!$AG$4:$AG$7,0)),""))} -> Sweden
A6: Country high score - species recorded by each country | F6: Observer high score - species and rare species per person
A7: Country | B7: Species | C7: Observers | D7: Species / observer | F7: Country | G7: Observer | H7: Species | I7: Rare species <3 | K7: Country | L7: Species
A8: {=IFERROR(INDEX(Calculations!$AC$4:$AC$7,MATCH(LARGE(Calculations!$AG$4:$AG$7,1),Calculations!$AG$4:$AG$7,0)),"")} -> Sweden | B8: {=IFERROR(INDEX(Calculations!$AD$4:$AD$7,MATCH(LARGE(Calculations!$AG$4:$AG$7,1),Calculations!$AG$4:$AG$7,0)),"")} -> 180 | C8: {=IFERROR(INDEX(Calculations!$AE$4:$AE$7,MATCH(LARGE(Calculations!$AG$4:$AG$7,1),Calculations!$AG$4:$AG$7,0)),"")} -> 23 | D8: {=IFERROR(INDEX(Calculations!$AF$4:$AF$7,MATCH(LARGE(Calculations!$AG$4:$AG$7,1),Calculations!$AG$4:$AG$7,0)),"")} -> 7.826087 | F8: {=IF(LARGE(Calculations!$AM$4:$AM$203,1)<0,"",IFERROR(INDEX(Calculations!$AI$4:$AI$203,MATCH(LARGE(Calculations!$AM$4:$AM$203,1),Calculations!$AM$4:$AM$203,0)),""))} -> Finland | G8: {=IF(LARGE(Calculations!$AM$4:$AM$203,1)<0,"",IFERROR(INDEX(Calculations!$AJ$4:$AJ$203,MATCH(LARGE(Calculations!$AM$4:$AM$203,1),Calculations!$AM$4:$AM$203,0)),""))} -> Viljami Selander | H8: {=IF(LARGE(Calculations!$AM$4:$AM$203,1)<0,"",IFERROR(INDEX(Calculations!$AK$4:$AK$203,MATCH(LARGE(Calculations!$AM$4:$AM$203,1),Calculations!$AM$4:$AM$203,0)),""))} -> 110 | I8: {=IF(LARGE(Calculations!$AM$4:$AM$203,1)<0,"",IFERROR(INDEX(Calculations!$AL$4:$AL$203,MATCH(LARGE(Calculations!$AM$4:$AM$203,1),Calculations!$AM$4:$AM$203,0)),""))} -> 16 | K8: Denmark | L8: =Calculations!B4 -> 0
A9: {=IFERROR(INDEX(Calculations!$AC$4:$AC$7,MATCH(LARGE(Calculations!$AG$4:$AG$7,2),Calculations!$AG$4:$AG$7,0)),"")} -> Finland | B9: {=IFERROR(INDEX(Calculations!$AD$4:$AD$7,MATCH(LARGE(Calculations!$AG$4:$AG$7,2),Calculations!$AG$4:$AG$7,0)),"")} -> 177 | C9: {=IFERROR(INDEX(Calculations!$AE$4:$AE$7,MATCH(LARGE(Calculations!$AG$4:$AG$7,2),Calculations!$AG$4:$AG$7,0)),"")} -> 31 | D9: {=IFERROR(INDEX(Calculations!$AF$4:$AF$7,MATCH(LARGE(Calculations!$AG$4:$AG$7,2),Calculations!$AG$4:$AG$7,0)),"")} -> 5.7096774 | F9: {=IF(LARGE(Calculations!$AM$4:$AM$203,2)<0,"",IFERROR(INDEX(Calculations!$AI$4:$AI$203,MATCH(LARGE(Calculations!$AM$4:$AM$203,2),Calculations!$AM$4:$AM$203,0)),""))} -> Sweden | G9: {=IF(LARGE(Calculations!$AM$4:$AM$203,2)<0,"",IFERROR(INDEX(Calculations!$AJ$4:$AJ$203,MATCH(LARGE(Calculations!$AM$4:$AM$203,2),Calculations!$AM$4:$AM$203,0)),""))} -> Gordon Lundvall | H9: {=IF(LARGE(Calculations!$AM$4:$AM$203,2)<0,"",IFERROR(INDEX(Calculations!$AK$4:$AK$203,MATCH(LARGE(Calculations!$AM$4:$AM$203,2),Calculations!$AM$4:$AM$203,0)),""))} -> 102 | I9: {=IF(LARGE(Calculations!$AM$4:$AM$203,2)<0,"",IFERROR(INDEX(Calculations!$AL$4:$AL$203,MATCH(LARGE(Calculations!$AM$4:$AM$203,2),Calculations!$AM$4:$AM$203,0)),""))} -> 1 | K9: Norway | L9: =Calculations!B5 -> 75
A10: {=IFERROR(INDEX(Calculations!$AC$4:$AC$7,MATCH(LARGE(Calculations!$AG$4:$AG$7,3),Calculations!$AG$4:$AG$7,0)),"")} -> Norway | B10: {=IFERROR(INDEX(Calculations!$AD$4:$AD$7,MATCH(LARGE(Calculations!$AG$4:$AG$7,3),Calculations!$AG$4:$AG$7,0)),"")} -> 75 | C10: {=IFERROR(INDEX(Calculations!$AE$4:$AE$7,MATCH(LARGE(Calculations!$AG$4:$AG$7,3),Calculations!$AG$4:$AG$7,0)),"")} -> 5 | D10: {=IFERROR(INDEX(Calculations!$AF$4:$AF$7,MATCH(LARGE(Calculations!$AG$4:$AG$7,3),Calculations!$AG$4:$AG$7,0)),"")} -> 15 | F10: {=IF(LARGE(Calculations!$AM$4:$AM$203,3)<0,"",IFERROR(INDEX(Calculations!$AI$4:$AI$203,MATCH(LARGE(Calculations!$AM$4:$AM$203,3),Calculations!$AM$4:$AM$203,0)),""))} -> Finland | G10: {=IF(LARGE(Calculations!$AM$4:$AM$203,3)<0,"",IFERROR(INDEX(Calculations!$AJ$4:$AJ$203,MATCH(LARGE(Calculations!$AM$4:$AM$203,3),Calculations!$AM$4:$AM$203,0)),""))} -> Kia Varjonen | H10: {=IF(LARGE(Calculations!$AM$4:$AM$203,3)<0,"",IFERROR(INDEX(Calculations!$AK$4:$AK$203,MATCH(LARGE(Calculations!$AM$4:$AM$203,3),Calculations!$AM$4:$AM$203,0)),""))} -> 101 | I10: {=IF(LARGE(Calculations!$AM$4:$AM$203,3)<0,"",IFERROR(INDEX(Calculations!$AL$4:$AL$203,MATCH(LARGE(Calculations!$AM$4:$AM$203,3),Calculations!$AM$4:$AM$203,0)),""))} -> 9 | K10: Finland | L10: =Calculations!B6 -> 177
A11: {=IFERROR(INDEX(Calculations!$AC$4:$AC$7,MATCH(LARGE(Calculations!$AG$4:$AG$7,4),Calculations!$AG$4:$AG$7,0)),"")} -> Denmark | B11: {=IFERROR(INDEX(Calculations!$AD$4:$AD$7,MATCH(LARGE(Calculations!$AG$4:$AG$7,4),Calculations!$AG$4:$AG$7,0)),"")} -> 0 | C11: {=IFERROR(INDEX(Calculations!$AE$4:$AE$7,MATCH(LARGE(Calculations!$AG$4:$AG$7,4),Calculations!$AG$4:$AG$7,0)),"")} -> 0 | D11: {=IFERROR(INDEX(Calculations!$AF$4:$AF$7,MATCH(LARGE(Calculations!$AG$4:$AG$7,4),Calculations!$AG$4:$AG$7,0)),"")} -> 0 | F11: {=IF(LARGE(Calculations!$AM$4:$AM$203,4)<0,"",IFERROR(INDEX(Calculations!$AI$4:$AI$203,MATCH(LARGE(Calculations!$AM$4:$AM$203,4),Calculations!$AM$4:$AM$203,0)),""))} -> Sweden | G11: {=IF(LARGE(Calculations!$AM$4:$AM$203,4)<0,"",IFERROR(INDEX(Calculations!$AJ$4:$AJ$203,MATCH(LARGE(Calculations!$AM$4:$AM$203,4),Calculations!$AM$4:$AM$203,0)),""))} -> Brian Löfkvist | H11: {=IF(LARGE(Calculations!$AM$4:$AM$203,4)<0,"",IFERROR(INDEX(Calculations!$AK$4:$AK$203,MATCH(LARGE(Calculations!$AM$4:$AM$203,4),Calculations!$AM$4:$AM$203,0)),""))} -> 99 | I11: {=IF(LARGE(Calculations!$AM$4:$AM$203,4)<0,"",IFERROR(INDEX(Calculations!$AL$4:$AL$203,MATCH(LARGE(Calculations!$AM$4:$AM$203,4),Calculations!$AM$4:$AM$203,0)),""))} -> 0 | K11: Sweden | L11: =Calculations!B7 -> 180
A12: Signature species - seen in only one country | F12: {=IF(LARGE(Calculations!$AM$4:$AM$203,5)<0,"",IFERROR(INDEX(Calculations!$AI$4:$AI$203,MATCH(LARGE(Calculations!$AM$4:$AM$203,5),Calculations!$AM$4:$AM$203,0)),""))} -> Sweden | G12: {=IF(LARGE(Calculations!$AM$4:$AM$203,5)<0,"",IFERROR(INDEX(Calculations!$AJ$4:$AJ$203,MATCH(LARGE(Calculations!$AM$4:$AM$203,5),Calculations!$AM$4:$AM$203,0)),""))} -> Albin Nordlund | H12: {=IF(LARGE(Calculations!$AM$4:$AM$203,5)<0,"",IFERROR(INDEX(Calculations!$AK$4:$AK$203,MATCH(LARGE(Calculations!$AM$4:$AM$203,5),Calculations!$AM$4:$AM$203,0)),""))} -> 98 | I12: {=IF(LARGE(Calculations!$AM$4:$AM$203,5)<0,"",IFERROR(INDEX(Calculations!$AL$4:$AL$203,MATCH(LARGE(Calculations!$AM$4:$AM$203,5),Calculations!$AM$4:$AM$203,0)),""))} -> 1
A13: Species | B13: Country | D13: Total observers | F13: {=IF(LARGE(Calculations!$AM$4:$AM$203,6)<0,"",IFERROR(INDEX(Calculations!$AI$4:$AI$203,MATCH(LARGE(Calculations!$AM$4:$AM$203,6),Calculations!$AM$4:$AM$203,0)),""))} -> Sweden | G13: {=IF(LARGE(Calculations!$AM$4:$AM$203,6)<0,"",IFERROR(INDEX(Calculations!$AJ$4:$AJ$203,MATCH(LARGE(Calculations!$AM$4:$AM$203,6),Calculations!$AM$4:$AM$203,0)),""))} -> Arild Norberg | H13: {=IF(LARGE(Calculations!$AM$4:$AM$203,6)<0,"",IFERROR(INDEX(Calculations!$AK$4:$AK$203,MATCH(LARGE(Calculations!$AM$4:$AM$203,6),Calculations!$AM$4:$AM$203,0)),""))} -> 93 | I13: {=IF(LARGE(Calculations!$AM$4:$AM$203,6)<0,"",IFERROR(INDEX(Calculations!$AL$4:$AL$203,MATCH(LARGE(Calculations!$AM$4:$AM$203,6),Calculations!$AM$4:$AM$203,0)),""))} -> 2
A14: {=IF(LARGE(Calculations!$BK$4:$BK$310,1)<0,"",IFERROR(INDEX(Calculations!$BG$4:$BG$310,MATCH(LARGE(Calculations!$BK$4:$BK$310,1),Calculations!$BK$4:$BK$310,0)),""))} -> Common murre | B14: {=IF(LARGE(Calculations!$BK$4:$BK$310,1)<0,"",IFERROR(INDEX(Calculations!$BH$4:$BH$310,MATCH(LARGE(Calculations!$BK$4:$BK$310,1),Calculations!$BK$4:$BK$310,0)),""))} -> Sweden | D14: {=IF(LARGE(Calculations!$BK$4:$BK$310,1)<0,"",IFERROR(INDEX(Calculations!$BJ$4:$BJ$310,MATCH(LARGE(Calculations!$BK$4:$BK$310,1),Calculations!$BK$4:$BK$310,0)),""))} -> 10 | F14: {=IF(LARGE(Calculations!$AM$4:$AM$203,7)<0,"",IFERROR(INDEX(Calculations!$AI$4:$AI$203,MATCH(LARGE(Calculations!$AM$4:$AM$203,7),Calculations!$AM$4:$AM$203,0)),""))} -> Sweden | G14: {=IF(LARGE(Calculations!$AM$4:$AM$203,7)<0,"",IFERROR(INDEX(Calculations!$AJ$4:$AJ$203,MATCH(LARGE(Calculations!$AM$4:$AM$203,7),Calculations!$AM$4:$AM$203,0)),""))} -> Eskil Friberg | H14: {=IF(LARGE(Calculations!$AM$4:$AM$203,7)<0,"",IFERROR(INDEX(Calculations!$AK$4:$AK$203,MATCH(LARGE(Calculations!$AM$4:$AM$203,7),Calculations!$AM$4:$AM$203,0)),""))} -> 87 | I14: {=IF(LARGE(Calculations!$AM$4:$AM$203,7)<0,"",IFERROR(INDEX(Calculations!$AL$4:$AL$203,MATCH(LARGE(Calculations!$AM$4:$AM$203,7),Calculations!$AM$4:$AM$203,0)),""))} -> 5
A15: {=IF(LARGE(Calculations!$BK$4:$BK$310,2)<0,"",IFERROR(INDEX(Calculations!$BG$4:$BG$310,MATCH(LARGE(Calculations!$BK$4:$BK$310,2),Calculations!$BK$4:$BK$310,0)),""))} -> Common redshank | B15: {=IF(LARGE(Calculations!$BK$4:$BK$310,2)<0,"",IFERROR(INDEX(Calculations!$BH$4:$BH$310,MATCH(LARGE(Calculations!$BK$4:$BK$310,2),Calculations!$BK$4:$BK$310,0)),""))} -> Sweden | D15: {=IF(LARGE(Calculations!$BK$4:$BK$310,2)<0,"",IFERROR(INDEX(Calculations!$BJ$4:$BJ$310,MATCH(LARGE(Calculations!$BK$4:$BK$310,2),Calculations!$BK$4:$BK$310,0)),""))} -> 8 | F15: {=IF(LARGE(Calculations!$AM$4:$AM$203,8)<0,"",IFERROR(INDEX(Calculations!$AI$4:$AI$203,MATCH(LARGE(Calculations!$AM$4:$AM$203,8),Calculations!$AM$4:$AM$203,0)),""))} -> Finland | G15: {=IF(LARGE(Calculations!$AM$4:$AM$203,8)<0,"",IFERROR(INDEX(Calculations!$AJ$4:$AJ$203,MATCH(LARGE(Calculations!$AM$4:$AM$203,8),Calculations!$AM$4:$AM$203,0)),""))} -> ELIA Raappana | H15: {=IF(LARGE(Calculations!$AM$4:$AM$203,8)<0,"",IFERROR(INDEX(Calculations!$AK$4:$AK$203,MATCH(LARGE(Calculations!$AM$4:$AM$203,8),Calculations!$AM$4:$AM$203,0)),""))} -> 83 | I15: {=IF(LARGE(Calculations!$AM$4:$AM$203,8)<0,"",IFERROR(INDEX(Calculations!$AL$4:$AL$203,MATCH(LARGE(Calculations!$AM$4:$AM$203,8),Calculations!$AM$4:$AM$203,0)),""))} -> 0
A16: {=IF(LARGE(Calculations!$BK$4:$BK$310,3)<0,"",IFERROR(INDEX(Calculations!$BG$4:$BG$310,MATCH(LARGE(Calculations!$BK$4:$BK$310,3),Calculations!$BK$4:$BK$310,0)),""))} -> Red kite | B16: {=IF(LARGE(Calculations!$BK$4:$BK$310,3)<0,"",IFERROR(INDEX(Calculations!$BH$4:$BH$310,MATCH(LARGE(Calculations!$BK$4:$BK$310,3),Calculations!$BK$4:$BK$310,0)),""))} -> Sweden | D16: {=IF(LARGE(Calculations!$BK$4:$BK$310,3)<0,"",IFERROR(INDEX(Calculations!$BJ$4:$BJ$310,MATCH(LARGE(Calculations!$BK$4:$BK$310,3),Calculations!$BK$4:$BK$310,0)),""))} -> 7 | F16: {=IF(LARGE(Calculations!$AM$4:$AM$203,9)<0,"",IFERROR(INDEX(Calculations!$AI$4:$AI$203,MATCH(LARGE(Calculations!$AM$4:$AM$203,9),Calculations!$AM$4:$AM$203,0)),""))} -> Finland | G16: {=IF(LARGE(Calculations!$AM$4:$AM$203,9)<0,"",IFERROR(INDEX(Calculations!$AJ$4:$AJ$203,MATCH(LARGE(Calculations!$AM$4:$AM$203,9),Calculations!$AM$4:$AM$203,0)),""))} -> Mikael Särkelä | H16: {=IF(LARGE(Calculations!$AM$4:$AM$203,9)<0,"",IFERROR(INDEX(Calculations!$AK$4:$AK$203,MATCH(LARGE(Calculations!$AM$4:$AM$203,9),Calculations!$AM$4:$AM$203,0)),""))} -> 82 | I16: {=IF(LARGE(Calculations!$AM$4:$AM$203,9)<0,"",IFERROR(INDEX(Calculations!$AL$4:$AL$203,MATCH(LARGE(Calculations!$AM$4:$AM$203,9),Calculations!$AM$4:$AM$203,0)),""))} -> 3
A17: {=IF(LARGE(Calculations!$BK$4:$BK$310,4)<0,"",IFERROR(INDEX(Calculations!$BG$4:$BG$310,MATCH(LARGE(Calculations!$BK$4:$BK$310,4),Calculations!$BK$4:$BK$310,0)),""))} -> Sandwich tern | B17: {=IF(LARGE(Calculations!$BK$4:$BK$310,4)<0,"",IFERROR(INDEX(Calculations!$BH$4:$BH$310,MATCH(LARGE(Calculations!$BK$4:$BK$310,4),Calculations!$BK$4:$BK$310,0)),""))} -> Sweden | D17: {=IF(LARGE(Calculations!$BK$4:$BK$310,4)<0,"",IFERROR(INDEX(Calculations!$BJ$4:$BJ$310,MATCH(LARGE(Calculations!$BK$4:$BK$310,4),Calculations!$BK$4:$BK$310,0)),""))} -> 7 | F17: {=IF(LARGE(Calculations!$AM$4:$AM$203,10)<0,"",IFERROR(INDEX(Calculations!$AI$4:$AI$203,MATCH(LARGE(Calculations!$AM$4:$AM$203,10),Calculations!$AM$4:$AM$203,0)),""))} -> Sweden | G17: {=IF(LARGE(Calculations!$AM$4:$AM$203,10)<0,"",IFERROR(INDEX(Calculations!$AJ$4:$AJ$203,MATCH(LARGE(Calculations!$AM$4:$AM$203,10),Calculations!$AM$4:$AM$203,0)),""))} -> Sigge Alfredsson | H17: {=IF(LARGE(Calculations!$AM$4:$AM$203,10)<0,"",IFERROR(INDEX(Calculations!$AK$4:$AK$203,MATCH(LARGE(Calculations!$AM$4:$AM$203,10),Calculations!$AM$4:$AM$203,0)),""))} -> 79 | I17: {=IF(LARGE(Calculations!$AM$4:$AM$203,10)<0,"",IFERROR(INDEX(Calculations!$AL$4:$AL$203,MATCH(LARGE(Calculations!$AM$4:$AM$203,10),Calculations!$AM$4:$AM$203,0)),""))} -> 1
A18: {=IF(LARGE(Calculations!$BK$4:$BK$310,5)<0,"",IFERROR(INDEX(Calculations!$BG$4:$BG$310,MATCH(LARGE(Calculations!$BK$4:$BK$310,5),Calculations!$BK$4:$BK$310,0)),""))} -> Sooty shearwater | B18: {=IF(LARGE(Calculations!$BK$4:$BK$310,5)<0,"",IFERROR(INDEX(Calculations!$BH$4:$BH$310,MATCH(LARGE(Calculations!$BK$4:$BK$310,5),Calculations!$BK$4:$BK$310,0)),""))} -> Sweden | D18: {=IF(LARGE(Calculations!$BK$4:$BK$310,5)<0,"",IFERROR(INDEX(Calculations!$BJ$4:$BJ$310,MATCH(LARGE(Calculations!$BK$4:$BK$310,5),Calculations!$BK$4:$BK$310,0)),""))} -> 6 | F18: {=IF(LARGE(Calculations!$AM$4:$AM$203,11)<0,"",IFERROR(INDEX(Calculations!$AI$4:$AI$203,MATCH(LARGE(Calculations!$AM$4:$AM$203,11),Calculations!$AM$4:$AM$203,0)),""))} -> Sweden | G18: {=IF(LARGE(Calculations!$AM$4:$AM$203,11)<0,"",IFERROR(INDEX(Calculations!$AJ$4:$AJ$203,MATCH(LARGE(Calculations!$AM$4:$AM$203,11),Calculations!$AM$4:$AM$203,0)),""))} -> Kaleido Carrillo | H18: {=IF(LARGE(Calculations!$AM$4:$AM$203,11)<0,"",IFERROR(INDEX(Calculations!$AK$4:$AK$203,MATCH(LARGE(Calculations!$AM$4:$AM$203,11),Calculations!$AM$4:$AM$203,0)),""))} -> 77 | I18: {=IF(LARGE(Calculations!$AM$4:$AM$203,11)<0,"",IFERROR(INDEX(Calculations!$AL$4:$AL$203,MATCH(LARGE(Calculations!$AM$4:$AM$203,11),Calculations!$AM$4:$AM$203,0)),""))} -> 1
A19: {=IF(LARGE(Calculations!$BK$4:$BK$310,6)<0,"",IFERROR(INDEX(Calculations!$BG$4:$BG$310,MATCH(LARGE(Calculations!$BK$4:$BK$310,6),Calculations!$BK$4:$BK$310,0)),""))} -> Black-tailed godwit | B19: {=IF(LARGE(Calculations!$BK$4:$BK$310,6)<0,"",IFERROR(INDEX(Calculations!$BH$4:$BH$310,MATCH(LARGE(Calculations!$BK$4:$BK$310,6),Calculations!$BK$4:$BK$310,0)),""))} -> Sweden | D19: {=IF(LARGE(Calculations!$BK$4:$BK$310,6)<0,"",IFERROR(INDEX(Calculations!$BJ$4:$BJ$310,MATCH(LARGE(Calculations!$BK$4:$BK$310,6),Calculations!$BK$4:$BK$310,0)),""))} -> 6 | F19: {=IF(LARGE(Calculations!$AM$4:$AM$203,12)<0,"",IFERROR(INDEX(Calculations!$AI$4:$AI$203,MATCH(LARGE(Calculations!$AM$4:$AM$203,12),Calculations!$AM$4:$AM$203,0)),""))} -> Finland | G19: {=IF(LARGE(Calculations!$AM$4:$AM$203,12)<0,"",IFERROR(INDEX(Calculations!$AJ$4:$AJ$203,MATCH(LARGE(Calculations!$AM$4:$AM$203,12),Calculations!$AM$4:$AM$203,0)),""))} -> Veeti Varismäki | H19: {=IF(LARGE(Calculations!$AM$4:$AM$203,12)<0,"",IFERROR(INDEX(Calculations!$AK$4:$AK$203,MATCH(LARGE(Calculations!$AM$4:$AM$203,12),Calculations!$AM$4:$AM$203,0)),""))} -> 76 | I19: {=IF(LARGE(Calculations!$AM$4:$AM$203,12)<0,"",IFERROR(INDEX(Calculations!$AL$4:$AL$203,MATCH(LARGE(Calculations!$AM$4:$AM$203,12),Calculations!$AM$4:$AM$203,0)),""))} -> 0
A20: {=IF(LARGE(Calculations!$BK$4:$BK$310,7)<0,"",IFERROR(INDEX(Calculations!$BG$4:$BG$310,MATCH(LARGE(Calculations!$BK$4:$BK$310,7),Calculations!$BK$4:$BK$310,0)),""))} -> Pied avocet | B20: {=IF(LARGE(Calculations!$BK$4:$BK$310,7)<0,"",IFERROR(INDEX(Calculations!$BH$4:$BH$310,MATCH(LARGE(Calculations!$BK$4:$BK$310,7),Calculations!$BK$4:$BK$310,0)),""))} -> Sweden | D20: {=IF(LARGE(Calculations!$BK$4:$BK$310,7)<0,"",IFERROR(INDEX(Calculations!$BJ$4:$BJ$310,MATCH(LARGE(Calculations!$BK$4:$BK$310,7),Calculations!$BK$4:$BK$310,0)),""))} -> 5 | F20: {=IF(LARGE(Calculations!$AM$4:$AM$203,13)<0,"",IFERROR(INDEX(Calculations!$AI$4:$AI$203,MATCH(LARGE(Calculations!$AM$4:$AM$203,13),Calculations!$AM$4:$AM$203,0)),""))} -> Finland | G20: {=IF(LARGE(Calculations!$AM$4:$AM$203,13)<0,"",IFERROR(INDEX(Calculations!$AJ$4:$AJ$203,MATCH(LARGE(Calculations!$AM$4:$AM$203,13),Calculations!$AM$4:$AM$203,0)),""))} -> Eino Jouppila | H20: {=IF(LARGE(Calculations!$AM$4:$AM$203,13)<0,"",IFERROR(INDEX(Calculations!$AK$4:$AK$203,MATCH(LARGE(Calculations!$AM$4:$AM$203,13),Calculations!$AM$4:$AM$203,0)),""))} -> 76 | I20: {=IF(LARGE(Calculations!$AM$4:$AM$203,13)<0,"",IFERROR(INDEX(Calculations!$AL$4:$AL$203,MATCH(LARGE(Calculations!$AM$4:$AM$203,13),Calculations!$AM$4:$AM$203,0)),""))} -> 0
A21: {=IF(LARGE(Calculations!$BK$4:$BK$310,8)<0,"",IFERROR(INDEX(Calculations!$BG$4:$BG$310,MATCH(LARGE(Calculations!$BK$4:$BK$310,8),Calculations!$BK$4:$BK$310,0)),""))} -> Rustic bunting | B21: {=IF(LARGE(Calculations!$BK$4:$BK$310,8)<0,"",IFERROR(INDEX(Calculations!$BH$4:$BH$310,MATCH(LARGE(Calculations!$BK$4:$BK$310,8),Calculations!$BK$4:$BK$310,0)),""))} -> Finland | D21: {=IF(LARGE(Calculations!$BK$4:$BK$310,8)<0,"",IFERROR(INDEX(Calculations!$BJ$4:$BJ$310,MATCH(LARGE(Calculations!$BK$4:$BK$310,8),Calculations!$BK$4:$BK$310,0)),""))} -> 5 | F21: {=IF(LARGE(Calculations!$AM$4:$AM$203,14)<0,"",IFERROR(INDEX(Calculations!$AI$4:$AI$203,MATCH(LARGE(Calculations!$AM$4:$AM$203,14),Calculations!$AM$4:$AM$203,0)),""))} -> Sweden | G21: {=IF(LARGE(Calculations!$AM$4:$AM$203,14)<0,"",IFERROR(INDEX(Calculations!$AJ$4:$AJ$203,MATCH(LARGE(Calculations!$AM$4:$AM$203,14),Calculations!$AM$4:$AM$203,0)),""))} -> Vilgot Sagerfors | H21: {=IF(LARGE(Calculations!$AM$4:$AM$203,14)<0,"",IFERROR(INDEX(Calculations!$AK$4:$AK$203,MATCH(LARGE(Calculations!$AM$4:$AM$203,14),Calculations!$AM$4:$AM$203,0)),""))} -> 76 | I21: {=IF(LARGE(Calculations!$AM$4:$AM$203,14)<0,"",IFERROR(INDEX(Calculations!$AL$4:$AL$203,MATCH(LARGE(Calculations!$AM$4:$AM$203,14),Calculations!$AM$4:$AM$203,0)),""))} -> 1
A22: {=IF(LARGE(Calculations!$BK$4:$BK$310,9)<0,"",IFERROR(INDEX(Calculations!$BG$4:$BG$310,MATCH(LARGE(Calculations!$BK$4:$BK$310,9),Calculations!$BK$4:$BK$310,0)),""))} -> Hazel grouse | B22: {=IF(LARGE(Calculations!$BK$4:$BK$310,9)<0,"",IFERROR(INDEX(Calculations!$BH$4:$BH$310,MATCH(LARGE(Calculations!$BK$4:$BK$310,9),Calculations!$BK$4:$BK$310,0)),""))} -> Finland | D22: {=IF(LARGE(Calculations!$BK$4:$BK$310,9)<0,"",IFERROR(INDEX(Calculations!$BJ$4:$BJ$310,MATCH(LARGE(Calculations!$BK$4:$BK$310,9),Calculations!$BK$4:$BK$310,0)),""))} -> 4 | F22: {=IF(LARGE(Calculations!$AM$4:$AM$203,15)<0,"",IFERROR(INDEX(Calculations!$AI$4:$AI$203,MATCH(LARGE(Calculations!$AM$4:$AM$203,15),Calculations!$AM$4:$AM$203,0)),""))} -> Finland | G22: {=IF(LARGE(Calculations!$AM$4:$AM$203,15)<0,"",IFERROR(INDEX(Calculations!$AJ$4:$AJ$203,MATCH(LARGE(Calculations!$AM$4:$AM$203,15),Calculations!$AM$4:$AM$203,0)),""))} -> Eetu Paljakka | H22: {=IF(LARGE(Calculations!$AM$4:$AM$203,15)<0,"",IFERROR(INDEX(Calculations!$AK$4:$AK$203,MATCH(LARGE(Calculations!$AM$4:$AM$203,15),Calculations!$AM$4:$AM$203,0)),""))} -> 75 | I22: {=IF(LARGE(Calculations!$AM$4:$AM$203,15)<0,"",IFERROR(INDEX(Calculations!$AL$4:$AL$203,MATCH(LARGE(Calculations!$AM$4:$AM$203,15),Calculations!$AM$4:$AM$203,0)),""))} -> 1
A23: {=IF(LARGE(Calculations!$BK$4:$BK$310,10)<0,"",IFERROR(INDEX(Calculations!$BG$4:$BG$310,MATCH(LARGE(Calculations!$BK$4:$BK$310,10),Calculations!$BK$4:$BK$310,0)),""))} -> Long-tailed jaeger | B23: {=IF(LARGE(Calculations!$BK$4:$BK$310,10)<0,"",IFERROR(INDEX(Calculations!$BH$4:$BH$310,MATCH(LARGE(Calculations!$BK$4:$BK$310,10),Calculations!$BK$4:$BK$310,0)),""))} -> Sweden | D23: {=IF(LARGE(Calculations!$BK$4:$BK$310,10)<0,"",IFERROR(INDEX(Calculations!$BJ$4:$BJ$310,MATCH(LARGE(Calculations!$BK$4:$BK$310,10),Calculations!$BK$4:$BK$310,0)),""))} -> 4 | F23: Rare species high score - most rare species per person
A24: {=IF(LARGE(Calculations!$BK$4:$BK$310,11)<0,"",IFERROR(INDEX(Calculations!$BG$4:$BG$310,MATCH(LARGE(Calculations!$BK$4:$BK$310,11),Calculations!$BK$4:$BK$310,0)),""))} -> Great skua | B24: {=IF(LARGE(Calculations!$BK$4:$BK$310,11)<0,"",IFERROR(INDEX(Calculations!$BH$4:$BH$310,MATCH(LARGE(Calculations!$BK$4:$BK$310,11),Calculations!$BK$4:$BK$310,0)),""))} -> Sweden | D24: {=IF(LARGE(Calculations!$BK$4:$BK$310,11)<0,"",IFERROR(INDEX(Calculations!$BJ$4:$BJ$310,MATCH(LARGE(Calculations!$BK$4:$BK$310,11),Calculations!$BK$4:$BK$310,0)),""))} -> 4 | F24: Country | G24: Observer | H24: Species | I24: Rare species <3
A25: {=IF(LARGE(Calculations!$BK$4:$BK$310,12)<0,"",IFERROR(INDEX(Calculations!$BG$4:$BG$310,MATCH(LARGE(Calculations!$BK$4:$BK$310,12),Calculations!$BK$4:$BK$310,0)),""))} -> Eurasian three-toed woodpecker | B25: {=IF(LARGE(Calculations!$BK$4:$BK$310,12)<0,"",IFERROR(INDEX(Calculations!$BH$4:$BH$310,MATCH(LARGE(Calculations!$BK$4:$BK$310,12),Calculations!$BK$4:$BK$310,0)),""))} -> Finland | D25: {=IF(LARGE(Calculations!$BK$4:$BK$310,12)<0,"",IFERROR(INDEX(Calculations!$BJ$4:$BJ$310,MATCH(LARGE(Calculations!$BK$4:$BK$310,12),Calculations!$BK$4:$BK$310,0)),""))} -> 4 | F25: {=IF(LARGE(Calculations!$AN$4:$AN$203,1)<0,"",IFERROR(INDEX(Calculations!$AI$4:$AI$203,MATCH(LARGE(Calculations!$AN$4:$AN$203,1),Calculations!$AN$4:$AN$203,0)),""))} -> Finland | G25: {=IF(LARGE(Calculations!$AN$4:$AN$203,1)<0,"",IFERROR(INDEX(Calculations!$AJ$4:$AJ$203,MATCH(LARGE(Calculations!$AN$4:$AN$203,1),Calculations!$AN$4:$AN$203,0)),""))} -> Viljami Selander | H25: {=IF(LARGE(Calculations!$AN$4:$AN$203,1)<0,"",IFERROR(INDEX(Calculations!$AK$4:$AK$203,MATCH(LARGE(Calculations!$AN$4:$AN$203,1),Calculations!$AN$4:$AN$203,0)),""))} -> 110 | I25: {=IF(LARGE(Calculations!$AN$4:$AN$203,1)<0,"",IFERROR(INDEX(Calculations!$AL$4:$AL$203,MATCH(LARGE(Calculations!$AN$4:$AN$203,1),Calculations!$AN$4:$AN$203,0)),""))} -> 16
A26: {=IF(LARGE(Calculations!$BK$4:$BK$310,13)<0,"",IFERROR(INDEX(Calculations!$BG$4:$BG$310,MATCH(LARGE(Calculations!$BK$4:$BK$310,13),Calculations!$BK$4:$BK$310,0)),""))} -> Lesser whitethroat | B26: {=IF(LARGE(Calculations!$BK$4:$BK$310,13)<0,"",IFERROR(INDEX(Calculations!$BH$4:$BH$310,MATCH(LARGE(Calculations!$BK$4:$BK$310,13),Calculations!$BK$4:$BK$310,0)),""))} -> Finland | D26: {=IF(LARGE(Calculations!$BK$4:$BK$310,13)<0,"",IFERROR(INDEX(Calculations!$BJ$4:$BJ$310,MATCH(LARGE(Calculations!$BK$4:$BK$310,13),Calculations!$BK$4:$BK$310,0)),""))} -> 4 | F26: {=IF(LARGE(Calculations!$AN$4:$AN$203,2)<0,"",IFERROR(INDEX(Calculations!$AI$4:$AI$203,MATCH(LARGE(Calculations!$AN$4:$AN$203,2),Calculations!$AN$4:$AN$203,0)),""))} -> Finland | G26: {=IF(LARGE(Calculations!$AN$4:$AN$203,2)<0,"",IFERROR(INDEX(Calculations!$AJ$4:$AJ$203,MATCH(LARGE(Calculations!$AN$4:$AN$203,2),Calculations!$AN$4:$AN$203,0)),""))} -> Kia Varjonen | H26: {=IF(LARGE(Calculations!$AN$4:$AN$203,2)<0,"",IFERROR(INDEX(Calculations!$AK$4:$AK$203,MATCH(LARGE(Calculations!$AN$4:$AN$203,2),Calculations!$AN$4:$AN$203,0)),""))} -> 101 | I26: {=IF(LARGE(Calculations!$AN$4:$AN$203,2)<0,"",IFERROR(INDEX(Calculations!$AL$4:$AL$203,MATCH(LARGE(Calculations!$AN$4:$AN$203,2),Calculations!$AN$4:$AN$203,0)),""))} -> 9
A27: {=IF(LARGE(Calculations!$BK$4:$BK$310,14)<0,"",IFERROR(INDEX(Calculations!$BG$4:$BG$310,MATCH(LARGE(Calculations!$BK$4:$BK$310,14),Calculations!$BK$4:$BK$310,0)),""))} -> Leach's storm petrel | B27: {=IF(LARGE(Calculations!$BK$4:$BK$310,14)<0,"",IFERROR(INDEX(Calculations!$BH$4:$BH$310,MATCH(LARGE(Calculations!$BK$4:$BK$310,14),Calculations!$BK$4:$BK$310,0)),""))} -> Sweden | D27: {=IF(LARGE(Calculations!$BK$4:$BK$310,14)<0,"",IFERROR(INDEX(Calculations!$BJ$4:$BJ$310,MATCH(LARGE(Calculations!$BK$4:$BK$310,14),Calculations!$BK$4:$BK$310,0)),""))} -> 3 | F27: {=IF(LARGE(Calculations!$AN$4:$AN$203,3)<0,"",IFERROR(INDEX(Calculations!$AI$4:$AI$203,MATCH(LARGE(Calculations!$AN$4:$AN$203,3),Calculations!$AN$4:$AN$203,0)),""))} -> Norway | G27: {=IF(LARGE(Calculations!$AN$4:$AN$203,3)<0,"",IFERROR(INDEX(Calculations!$AJ$4:$AJ$203,MATCH(LARGE(Calculations!$AN$4:$AN$203,3),Calculations!$AN$4:$AN$203,0)),""))} -> Aleksanteri Mikkola | H27: {=IF(LARGE(Calculations!$AN$4:$AN$203,3)<0,"",IFERROR(INDEX(Calculations!$AK$4:$AK$203,MATCH(LARGE(Calculations!$AN$4:$AN$203,3),Calculations!$AN$4:$AN$203,0)),""))} -> 11 | I27: {=IF(LARGE(Calculations!$AN$4:$AN$203,3)<0,"",IFERROR(INDEX(Calculations!$AL$4:$AL$203,MATCH(LARGE(Calculations!$AN$4:$AN$203,3),Calculations!$AN$4:$AN$203,0)),""))} -> 5
A28: {=IF(LARGE(Calculations!$BK$4:$BK$310,15)<0,"",IFERROR(INDEX(Calculations!$BG$4:$BG$310,MATCH(LARGE(Calculations!$BK$4:$BK$310,15),Calculations!$BK$4:$BK$310,0)),""))} -> Eurasian green woodpecker | B28: {=IF(LARGE(Calculations!$BK$4:$BK$310,15)<0,"",IFERROR(INDEX(Calculations!$BH$4:$BH$310,MATCH(LARGE(Calculations!$BK$4:$BK$310,15),Calculations!$BK$4:$BK$310,0)),""))} -> Sweden | D28: {=IF(LARGE(Calculations!$BK$4:$BK$310,15)<0,"",IFERROR(INDEX(Calculations!$BJ$4:$BJ$310,MATCH(LARGE(Calculations!$BK$4:$BK$310,15),Calculations!$BK$4:$BK$310,0)),""))} -> 3 | F28: {=IF(LARGE(Calculations!$AN$4:$AN$203,4)<0,"",IFERROR(INDEX(Calculations!$AI$4:$AI$203,MATCH(LARGE(Calculations!$AN$4:$AN$203,4),Calculations!$AN$4:$AN$203,0)),""))} -> Sweden | G28: {=IF(LARGE(Calculations!$AN$4:$AN$203,4)<0,"",IFERROR(INDEX(Calculations!$AJ$4:$AJ$203,MATCH(LARGE(Calculations!$AN$4:$AN$203,4),Calculations!$AN$4:$AN$203,0)),""))} -> Eskil Friberg | H28: {=IF(LARGE(Calculations!$AN$4:$AN$203,4)<0,"",IFERROR(INDEX(Calculations!$AK$4:$AK$203,MATCH(LARGE(Calculations!$AN$4:$AN$203,4),Calculations!$AN$4:$AN$203,0)),""))} -> 87 | I28: {=IF(LARGE(Calculations!$AN$4:$AN$203,4)<0,"",IFERROR(INDEX(Calculations!$AL$4:$AL$203,MATCH(LARGE(Calculations!$AN$4:$AN$203,4),Calculations!$AN$4:$AN$203,0)),""))} -> 5
A29: {=IF(LARGE(Calculations!$BK$4:$BK$310,16)<0,"",IFERROR(INDEX(Calculations!$BG$4:$BG$310,MATCH(LARGE(Calculations!$BK$4:$BK$310,16),Calculations!$BK$4:$BK$310,0)),""))} -> White-backed woodpecker | B29: {=IF(LARGE(Calculations!$BK$4:$BK$310,16)<0,"",IFERROR(INDEX(Calculations!$BH$4:$BH$310,MATCH(LARGE(Calculations!$BK$4:$BK$310,16),Calculations!$BK$4:$BK$310,0)),""))} -> Finland | D29: {=IF(LARGE(Calculations!$BK$4:$BK$310,16)<0,"",IFERROR(INDEX(Calculations!$BJ$4:$BJ$310,MATCH(LARGE(Calculations!$BK$4:$BK$310,16),Calculations!$BK$4:$BK$310,0)),""))} -> 3 | F29: {=IF(LARGE(Calculations!$AN$4:$AN$203,5)<0,"",IFERROR(INDEX(Calculations!$AI$4:$AI$203,MATCH(LARGE(Calculations!$AN$4:$AN$203,5),Calculations!$AN$4:$AN$203,0)),""))} -> Finland | G29: {=IF(LARGE(Calculations!$AN$4:$AN$203,5)<0,"",IFERROR(INDEX(Calculations!$AJ$4:$AJ$203,MATCH(LARGE(Calculations!$AN$4:$AN$203,5),Calculations!$AN$4:$AN$203,0)),""))} -> Aapo Määttä | H29: {=IF(LARGE(Calculations!$AN$4:$AN$203,5)<0,"",IFERROR(INDEX(Calculations!$AK$4:$AK$203,MATCH(LARGE(Calculations!$AN$4:$AN$203,5),Calculations!$AN$4:$AN$203,0)),""))} -> 63 | I29: {=IF(LARGE(Calculations!$AN$4:$AN$203,5)<0,"",IFERROR(INDEX(Calculations!$AL$4:$AL$203,MATCH(LARGE(Calculations!$AN$4:$AN$203,5),Calculations!$AN$4:$AN$203,0)),""))} -> 3
A30: {=IF(LARGE(Calculations!$BK$4:$BK$310,17)<0,"",IFERROR(INDEX(Calculations!$BG$4:$BG$310,MATCH(LARGE(Calculations!$BK$4:$BK$310,17),Calculations!$BK$4:$BK$310,0)),""))} -> Bearded reedling | B30: {=IF(LARGE(Calculations!$BK$4:$BK$310,17)<0,"",IFERROR(INDEX(Calculations!$BH$4:$BH$310,MATCH(LARGE(Calculations!$BK$4:$BK$310,17),Calculations!$BK$4:$BK$310,0)),""))} -> Sweden | D30: {=IF(LARGE(Calculations!$BK$4:$BK$310,17)<0,"",IFERROR(INDEX(Calculations!$BJ$4:$BJ$310,MATCH(LARGE(Calculations!$BK$4:$BK$310,17),Calculations!$BK$4:$BK$310,0)),""))} -> 3 | F30: {=IF(LARGE(Calculations!$AN$4:$AN$203,6)<0,"",IFERROR(INDEX(Calculations!$AI$4:$AI$203,MATCH(LARGE(Calculations!$AN$4:$AN$203,6),Calculations!$AN$4:$AN$203,0)),""))} -> Finland | G30: {=IF(LARGE(Calculations!$AN$4:$AN$203,6)<0,"",IFERROR(INDEX(Calculations!$AJ$4:$AJ$203,MATCH(LARGE(Calculations!$AN$4:$AN$203,6),Calculations!$AN$4:$AN$203,0)),""))} -> Mikael Särkelä | H30: {=IF(LARGE(Calculations!$AN$4:$AN$203,6)<0,"",IFERROR(INDEX(Calculations!$AK$4:$AK$203,MATCH(LARGE(Calculations!$AN$4:$AN$203,6),Calculations!$AN$4:$AN$203,0)),""))} -> 82 | I30: {=IF(LARGE(Calculations!$AN$4:$AN$203,6)<0,"",IFERROR(INDEX(Calculations!$AL$4:$AL$203,MATCH(LARGE(Calculations!$AN$4:$AN$203,6),Calculations!$AN$4:$AN$203,0)),""))} -> 3
A31: {=IF(LARGE(Calculations!$BK$4:$BK$310,18)<0,"",IFERROR(INDEX(Calculations!$BG$4:$BG$310,MATCH(LARGE(Calculations!$BK$4:$BK$310,18),Calculations!$BK$4:$BK$310,0)),""))} -> Red-necked grebe | B31: {=IF(LARGE(Calculations!$BK$4:$BK$310,18)<0,"",IFERROR(INDEX(Calculations!$BH$4:$BH$310,MATCH(LARGE(Calculations!$BK$4:$BK$310,18),Calculations!$BK$4:$BK$310,0)),""))} -> Sweden | D31: {=IF(LARGE(Calculations!$BK$4:$BK$310,18)<0,"",IFERROR(INDEX(Calculations!$BJ$4:$BJ$310,MATCH(LARGE(Calculations!$BK$4:$BK$310,18),Calculations!$BK$4:$BK$310,0)),""))} -> 2 | F31: {=IF(LARGE(Calculations!$AN$4:$AN$203,7)<0,"",IFERROR(INDEX(Calculations!$AI$4:$AI$203,MATCH(LARGE(Calculations!$AN$4:$AN$203,7),Calculations!$AN$4:$AN$203,0)),""))} -> Finland | G31: {=IF(LARGE(Calculations!$AN$4:$AN$203,7)<0,"",IFERROR(INDEX(Calculations!$AJ$4:$AJ$203,MATCH(LARGE(Calculations!$AN$4:$AN$203,7),Calculations!$AN$4:$AN$203,0)),""))} -> David Enkvist | H31: {=IF(LARGE(Calculations!$AN$4:$AN$203,7)<0,"",IFERROR(INDEX(Calculations!$AK$4:$AK$203,MATCH(LARGE(Calculations!$AN$4:$AN$203,7),Calculations!$AN$4:$AN$203,0)),""))} -> 51 | I31: {=IF(LARGE(Calculations!$AN$4:$AN$203,7)<0,"",IFERROR(INDEX(Calculations!$AL$4:$AL$203,MATCH(LARGE(Calculations!$AN$4:$AN$203,7),Calculations!$AN$4:$AN$203,0)),""))} -> 3
A32: {=IF(LARGE(Calculations!$BK$4:$BK$310,19)<0,"",IFERROR(INDEX(Calculations!$BG$4:$BG$310,MATCH(LARGE(Calculations!$BK$4:$BK$310,19),Calculations!$BK$4:$BK$310,0)),""))} -> Wood sandpiper | B32: {=IF(LARGE(Calculations!$BK$4:$BK$310,19)<0,"",IFERROR(INDEX(Calculations!$BH$4:$BH$310,MATCH(LARGE(Calculations!$BK$4:$BK$310,19),Calculations!$BK$4:$BK$310,0)),""))} -> Finland | D32: {=IF(LARGE(Calculations!$BK$4:$BK$310,19)<0,"",IFERROR(INDEX(Calculations!$BJ$4:$BJ$310,MATCH(LARGE(Calculations!$BK$4:$BK$310,19),Calculations!$BK$4:$BK$310,0)),""))} -> 2 | F32: {=IF(LARGE(Calculations!$AN$4:$AN$203,8)<0,"",IFERROR(INDEX(Calculations!$AI$4:$AI$203,MATCH(LARGE(Calculations!$AN$4:$AN$203,8),Calculations!$AN$4:$AN$203,0)),""))} -> Finland | G32: {=IF(LARGE(Calculations!$AN$4:$AN$203,8)<0,"",IFERROR(INDEX(Calculations!$AJ$4:$AJ$203,MATCH(LARGE(Calculations!$AN$4:$AN$203,8),Calculations!$AN$4:$AN$203,0)),""))} -> Veeti Räty | H32: {=IF(LARGE(Calculations!$AN$4:$AN$203,8)<0,"",IFERROR(INDEX(Calculations!$AK$4:$AK$203,MATCH(LARGE(Calculations!$AN$4:$AN$203,8),Calculations!$AN$4:$AN$203,0)),""))} -> 66 | I32: {=IF(LARGE(Calculations!$AN$4:$AN$203,8)<0,"",IFERROR(INDEX(Calculations!$AL$4:$AL$203,MATCH(LARGE(Calculations!$AN$4:$AN$203,8),Calculations!$AN$4:$AN$203,0)),""))} -> 2
A33: {=IF(LARGE(Calculations!$BK$4:$BK$310,20)<0,"",IFERROR(INDEX(Calculations!$BG$4:$BG$310,MATCH(LARGE(Calculations!$BK$4:$BK$310,20),Calculations!$BK$4:$BK$310,0)),""))} -> Sabine's gull | B33: =IF(LARGE(Calculations!$BK$4:$BK$310,20)<0,"",IFERROR(INDEX(Calculations!$BH$4:$BH$310,MATCH(LARGE(Calculations!$BK$4:$BK$310,20),Calculations!$BK$4:$BK$310,0)),"")) -> Sweden | D33: {=IF(LARGE(Calculations!$BK$4:$BK$310,20)<0,"",IFERROR(INDEX(Calculations!$BJ$4:$BJ$310,MATCH(LARGE(Calculations!$BK$4:$BK$310,20),Calculations!$BK$4:$BK$310,0)),""))} -> 2 | F33: {=IF(LARGE(Calculations!$AN$4:$AN$203,9)<0,"",IFERROR(INDEX(Calculations!$AI$4:$AI$203,MATCH(LARGE(Calculations!$AN$4:$AN$203,9),Calculations!$AN$4:$AN$203,0)),""))} -> Sweden | G33: {=IF(LARGE(Calculations!$AN$4:$AN$203,9)<0,"",IFERROR(INDEX(Calculations!$AJ$4:$AJ$203,MATCH(LARGE(Calculations!$AN$4:$AN$203,9),Calculations!$AN$4:$AN$203,0)),""))} -> Arild Norberg | H33: {=IF(LARGE(Calculations!$AN$4:$AN$203,9)<0,"",IFERROR(INDEX(Calculations!$AK$4:$AK$203,MATCH(LARGE(Calculations!$AN$4:$AN$203,9),Calculations!$AN$4:$AN$203,0)),""))} -> 93 | I33: {=IF(LARGE(Calculations!$AN$4:$AN$203,9)<0,"",IFERROR(INDEX(Calculations!$AL$4:$AL$203,MATCH(LARGE(Calculations!$AN$4:$AN$203,9),Calculations!$AN$4:$AN$203,0)),""))} -> 2
A34: =IF(LARGE(Calculations!$BK$4:$BK$310,21)<0,"",IFERROR(INDEX(Calculations!$BG$4:$BG$310,MATCH(LARGE(Calculations!$BK$4:$BK$310,21),Calculations!$BK$4:$BK$310,0)),"")) -> Eurasian pygmy owl | B34: =IF(LARGE(Calculations!$BK$4:$BK$310,21)<0,"",IFERROR(INDEX(Calculations!$BH$4:$BH$310,MATCH(LARGE(Calculations!$BK$4:$BK$310,21),Calculations!$BK$4:$BK$310,0)),"")) -> Finland | D34: =IF(LARGE(Calculations!$BK$4:$BK$310,21)<0,"",IFERROR(INDEX(Calculations!$BJ$4:$BJ$310,MATCH(LARGE(Calculations!$BK$4:$BK$310,21),Calculations!$BK$4:$BK$310,0)),"")) -> 2 | F34: {=IF(LARGE(Calculations!$AN$4:$AN$203,10)<0,"",IFERROR(INDEX(Calculations!$AI$4:$AI$203,MATCH(LARGE(Calculations!$AN$4:$AN$203,10),Calculations!$AN$4:$AN$203,0)),""))} -> Sweden | G34: {=IF(LARGE(Calculations!$AN$4:$AN$203,10)<0,"",IFERROR(INDEX(Calculations!$AJ$4:$AJ$203,MATCH(LARGE(Calculations!$AN$4:$AN$203,10),Calculations!$AN$4:$AN$203,0)),""))} -> Oscar Gustavsson | H34: {=IF(LARGE(Calculations!$AN$4:$AN$203,10)<0,"",IFERROR(INDEX(Calculations!$AK$4:$AK$203,MATCH(LARGE(Calculations!$AN$4:$AN$203,10),Calculations!$AN$4:$AN$203,0)),""))} -> 64 | I34: {=IF(LARGE(Calculations!$AN$4:$AN$203,10)<0,"",IFERROR(INDEX(Calculations!$AL$4:$AL$203,MATCH(LARGE(Calculations!$AN$4:$AN$203,10),Calculations!$AN$4:$AN$203,0)),""))} -> 2
A35: =IF(LARGE(Calculations!$BK$4:$BK$310,22)<0,"",IFERROR(INDEX(Calculations!$BG$4:$BG$310,MATCH(LARGE(Calculations!$BK$4:$BK$310,22),Calculations!$BK$4:$BK$310,0)),"")) -> Short-eared owl | B35: =IF(LARGE(Calculations!$BK$4:$BK$310,22)<0,"",IFERROR(INDEX(Calculations!$BH$4:$BH$310,MATCH(LARGE(Calculations!$BK$4:$BK$310,22),Calculations!$BK$4:$BK$310,0)),"")) -> Finland | D35: =IF(LARGE(Calculations!$BK$4:$BK$310,22)<0,"",IFERROR(INDEX(Calculations!$BJ$4:$BJ$310,MATCH(LARGE(Calculations!$BK$4:$BK$310,22),Calculations!$BK$4:$BK$310,0)),"")) -> 2 | F35: {=IF(LARGE(Calculations!$AN$4:$AN$203,11)<0,"",IFERROR(INDEX(Calculations!$AI$4:$AI$203,MATCH(LARGE(Calculations!$AN$4:$AN$203,11),Calculations!$AN$4:$AN$203,0)),""))} -> Sweden | G35: {=IF(LARGE(Calculations!$AN$4:$AN$203,11)<0,"",IFERROR(INDEX(Calculations!$AJ$4:$AJ$203,MATCH(LARGE(Calculations!$AN$4:$AN$203,11),Calculations!$AN$4:$AN$203,0)),""))} -> Kasper Wieck | H35: {=IF(LARGE(Calculations!$AN$4:$AN$203,11)<0,"",IFERROR(INDEX(Calculations!$AK$4:$AK$203,MATCH(LARGE(Calculations!$AN$4:$AN$203,11),Calculations!$AN$4:$AN$203,0)),""))} -> 64 | I35: {=IF(LARGE(Calculations!$AN$4:$AN$203,11)<0,"",IFERROR(INDEX(Calculations!$AL$4:$AL$203,MATCH(LARGE(Calculations!$AN$4:$AN$203,11),Calculations!$AN$4:$AN$203,0)),""))} -> 2
A36: =IF(LARGE(Calculations!$BK$4:$BK$310,23)<0,"",IFERROR(INDEX(Calculations!$BG$4:$BG$310,MATCH(LARGE(Calculations!$BK$4:$BK$310,23),Calculations!$BK$4:$BK$310,0)),"")) -> Common redstart | B36: =IF(LARGE(Calculations!$BK$4:$BK$310,23)<0,"",IFERROR(INDEX(Calculations!$BH$4:$BH$310,MATCH(LARGE(Calculations!$BK$4:$BK$310,23),Calculations!$BK$4:$BK$310,0)),"")) -> Finland | D36: =IF(LARGE(Calculations!$BK$4:$BK$310,23)<0,"",IFERROR(INDEX(Calculations!$BJ$4:$BJ$310,MATCH(LARGE(Calculations!$BK$4:$BK$310,23),Calculations!$BK$4:$BK$310,0)),"")) -> 2 | F36: {=IF(LARGE(Calculations!$AN$4:$AN$203,12)<0,"",IFERROR(INDEX(Calculations!$AI$4:$AI$203,MATCH(LARGE(Calculations!$AN$4:$AN$203,12),Calculations!$AN$4:$AN$203,0)),""))} -> Sweden | G36: {=IF(LARGE(Calculations!$AN$4:$AN$203,12)<0,"",IFERROR(INDEX(Calculations!$AJ$4:$AJ$203,MATCH(LARGE(Calculations!$AN$4:$AN$203,12),Calculations!$AN$4:$AN$203,0)),""))} -> Oskar Karsikko | H36: {=IF(LARGE(Calculations!$AN$4:$AN$203,12)<0,"",IFERROR(INDEX(Calculations!$AK$4:$AK$203,MATCH(LARGE(Calculations!$AN$4:$AN$203,12),Calculations!$AN$4:$AN$203,0)),""))} -> 7 | I36: {=IF(LARGE(Calculations!$AN$4:$AN$203,12)<0,"",IFERROR(INDEX(Calculations!$AL$4:$AL$203,MATCH(LARGE(Calculations!$AN$4:$AN$203,12),Calculations!$AN$4:$AN$203,0)),""))} -> 2
A37: =IF(LARGE(Calculations!$BK$4:$BK$310,24)<0,"",IFERROR(INDEX(Calculations!$BG$4:$BG$310,MATCH(LARGE(Calculations!$BK$4:$BK$310,24),Calculations!$BK$4:$BK$310,0)),"")) -> Sedge warbler | B37: =IF(LARGE(Calculations!$BK$4:$BK$310,24)<0,"",IFERROR(INDEX(Calculations!$BH$4:$BH$310,MATCH(LARGE(Calculations!$BK$4:$BK$310,24),Calculations!$BK$4:$BK$310,0)),"")) -> Finland | D37: =IF(LARGE(Calculations!$BK$4:$BK$310,24)<0,"",IFERROR(INDEX(Calculations!$BJ$4:$BJ$310,MATCH(LARGE(Calculations!$BK$4:$BK$310,24),Calculations!$BK$4:$BK$310,0)),"")) -> 2 | F37: {=IF(LARGE(Calculations!$AN$4:$AN$203,13)<0,"",IFERROR(INDEX(Calculations!$AI$4:$AI$203,MATCH(LARGE(Calculations!$AN$4:$AN$203,13),Calculations!$AN$4:$AN$203,0)),""))} -> Sweden | G37: {=IF(LARGE(Calculations!$AN$4:$AN$203,13)<0,"",IFERROR(INDEX(Calculations!$AJ$4:$AJ$203,MATCH(LARGE(Calculations!$AN$4:$AN$203,13),Calculations!$AN$4:$AN$203,0)),""))} -> Hugo Isaksson o Liam Gustafsson | H37: {=IF(LARGE(Calculations!$AN$4:$AN$203,13)<0,"",IFERROR(INDEX(Calculations!$AK$4:$AK$203,MATCH(LARGE(Calculations!$AN$4:$AN$203,13),Calculations!$AN$4:$AN$203,0)),""))} -> 61 | I37: {=IF(LARGE(Calculations!$AN$4:$AN$203,13)<0,"",IFERROR(INDEX(Calculations!$AL$4:$AL$203,MATCH(LARGE(Calculations!$AN$4:$AN$203,13),Calculations!$AN$4:$AN$203,0)),""))} -> 2
A38: =IF(LARGE(Calculations!$BK$4:$BK$310,25)<0,"",IFERROR(INDEX(Calculations!$BG$4:$BG$310,MATCH(LARGE(Calculations!$BK$4:$BK$310,25),Calculations!$BK$4:$BK$310,0)),"")) -> Common whitethroat | B38: =IF(LARGE(Calculations!$BK$4:$BK$310,25)<0,"",IFERROR(INDEX(Calculations!$BH$4:$BH$310,MATCH(LARGE(Calculations!$BK$4:$BK$310,25),Calculations!$BK$4:$BK$310,0)),"")) -> Finland | D38: =IF(LARGE(Calculations!$BK$4:$BK$310,25)<0,"",IFERROR(INDEX(Calculations!$BJ$4:$BJ$310,MATCH(LARGE(Calculations!$BK$4:$BK$310,25),Calculations!$BK$4:$BK$310,0)),"")) -> 2 | F38: {=IF(LARGE(Calculations!$AN$4:$AN$203,14)<0,"",IFERROR(INDEX(Calculations!$AI$4:$AI$203,MATCH(LARGE(Calculations!$AN$4:$AN$203,14),Calculations!$AN$4:$AN$203,0)),""))} -> Sweden | G38: {=IF(LARGE(Calculations!$AN$4:$AN$203,14)<0,"",IFERROR(INDEX(Calculations!$AJ$4:$AJ$203,MATCH(LARGE(Calculations!$AN$4:$AN$203,14),Calculations!$AN$4:$AN$203,0)),""))} -> Malte Lindberg | H38: {=IF(LARGE(Calculations!$AN$4:$AN$203,14)<0,"",IFERROR(INDEX(Calculations!$AK$4:$AK$203,MATCH(LARGE(Calculations!$AN$4:$AN$203,14),Calculations!$AN$4:$AN$203,0)),""))} -> 3 | I38: {=IF(LARGE(Calculations!$AN$4:$AN$203,14)<0,"",IFERROR(INDEX(Calculations!$AL$4:$AL$203,MATCH(LARGE(Calculations!$AN$4:$AN$203,14),Calculations!$AN$4:$AN$203,0)),""))} -> 2
A39: =IF(LARGE(Calculations!$BK$4:$BK$310,26)<0,"",IFERROR(INDEX(Calculations!$BG$4:$BG$310,MATCH(LARGE(Calculations!$BK$4:$BK$310,26),Calculations!$BK$4:$BK$310,0)),"")) -> Garden warbler | B39: =IF(LARGE(Calculations!$BK$4:$BK$310,26)<0,"",IFERROR(INDEX(Calculations!$BH$4:$BH$310,MATCH(LARGE(Calculations!$BK$4:$BK$310,26),Calculations!$BK$4:$BK$310,0)),"")) -> Norway | D39: =IF(LARGE(Calculations!$BK$4:$BK$310,26)<0,"",IFERROR(INDEX(Calculations!$BJ$4:$BJ$310,MATCH(LARGE(Calculations!$BK$4:$BK$310,26),Calculations!$BK$4:$BK$310,0)),"")) -> 2 | F39: {=IF(LARGE(Calculations!$AN$4:$AN$203,15)<0,"",IFERROR(INDEX(Calculations!$AI$4:$AI$203,MATCH(LARGE(Calculations!$AN$4:$AN$203,15),Calculations!$AN$4:$AN$203,0)),""))} -> Norway | G39: {=IF(LARGE(Calculations!$AN$4:$AN$203,15)<0,"",IFERROR(INDEX(Calculations!$AJ$4:$AJ$203,MATCH(LARGE(Calculations!$AN$4:$AN$203,15),Calculations!$AN$4:$AN$203,0)),""))} -> Christina Hustvedt Myklebust | H39: {=IF(LARGE(Calculations!$AN$4:$AN$203,15)<0,"",IFERROR(INDEX(Calculations!$AK$4:$AK$203,MATCH(LARGE(Calculations!$AN$4:$AN$203,15),Calculations!$AN$4:$AN$203,0)),""))} -> 43 | I39: {=IF(LARGE(Calculations!$AN$4:$AN$203,15)<0,"",IFERROR(INDEX(Calculations!$AL$4:$AL$203,MATCH(LARGE(Calculations!$AN$4:$AN$203,15),Calculations!$AN$4:$AN$203,0)),""))} -> 1
A41: Most shared species - seen by the most observers | F41: Rare species - seen by fewer than 3 observers
A42: Species | B42: Total observers | C42: Countries | D42: Seen in | F42: Rare species (<3 observers) | G42: Countries | H42: Observer(s) | I42: Total observers
A43: {=IF(LARGE(Calculations!$AS$4:$AS$310,1)<=0,"",IFERROR(INDEX(Calculations!$AO$4:$AO$310,MATCH(LARGE(Calculations!$AS$4:$AS$310,1),Calculations!$AS$4:$AS$310,0)),""))} -> White wagtail | B43: {=IF(LARGE(Calculations!$AS$4:$AS$310,1)<=0,"",IFERROR(INDEX(Calculations!$AP$4:$AP$310,MATCH(LARGE(Calculations!$AS$4:$AS$310,1),Calculations!$AS$4:$AS$310,0)),""))} -> 50 | C43: {=IF(LARGE(Calculations!$AS$4:$AS$310,1)<=0,"",IFERROR(INDEX(Calculations!$AQ$4:$AQ$310,MATCH(LARGE(Calculations!$AS$4:$AS$310,1),Calculations!$AS$4:$AS$310,0)),""))} -> 3 | D43: {=IF(LARGE(Calculations!$AS$4:$AS$310,1)<=0,"",IFERROR(INDEX(Calculations!$AR$4:$AR$310,MATCH(LARGE(Calculations!$AS$4:$AS$310,1),Calculations!$AS$4:$AS$310,0)),""))} -> Norway Finland Sweden | F43: {=IF(LARGE(Calculations!$AY$4:$AY$310,1)<0,"",IFERROR(INDEX(Calculations!$AU$4:$AU$310,MATCH(LARGE(Calculations!$AY$4:$AY$310,1),Calculations!$AY$4:$AY$310,0)),""))} -> Greater white-fronted goose | G43: {=IF(LARGE(Calculations!$AY$4:$AY$310,1)<0,"",IFERROR(INDEX(Calculations!$AV$4:$AV$310,MATCH(LARGE(Calculations!$AY$4:$AY$310,1),Calculations!$AY$4:$AY$310,0)),""))} -> Sweden | H43: {=IF(LARGE(Calculations!$AY$4:$AY$310,1)<0,"",IFERROR(INDEX(Calculations!$AW$4:$AW$310,MATCH(LARGE(Calculations!$AY$4:$AY$310,1),Calculations!$AY$4:$AY$310,0)),""))} -> Sweden: Max Lundell | I43: {=IF(LARGE(Calculations!$AY$4:$AY$310,1)<0,"",IFERROR(INDEX(Calculations!$AX$4:$AX$310,MATCH(LARGE(Calculations!$AY$4:$AY$310,1),Calculations!$AY$4:$AY$310,0)),""))} -> 1
A44: {=IF(LARGE(Calculations!$AS$4:$AS$310,2)<=0,"",IFERROR(INDEX(Calculations!$AO$4:$AO$310,MATCH(LARGE(Calculations!$AS$4:$AS$310,2),Calculations!$AS$4:$AS$310,0)),""))} -> Eurasian blue tit | B44: {=IF(LARGE(Calculations!$AS$4:$AS$310,2)<=0,"",IFERROR(INDEX(Calculations!$AP$4:$AP$310,MATCH(LARGE(Calculations!$AS$4:$AS$310,2),Calculations!$AS$4:$AS$310,0)),""))} -> 45 | C44: {=IF(LARGE(Calculations!$AS$4:$AS$310,2)<=0,"",IFERROR(INDEX(Calculations!$AQ$4:$AQ$310,MATCH(LARGE(Calculations!$AS$4:$AS$310,2),Calculations!$AS$4:$AS$310,0)),""))} -> 3 | D44: {=IF(LARGE(Calculations!$AS$4:$AS$310,2)<=0,"",IFERROR(INDEX(Calculations!$AR$4:$AR$310,MATCH(LARGE(Calculations!$AS$4:$AS$310,2),Calculations!$AS$4:$AS$310,0)),""))} -> Norway Finland Sweden | F44: {=IF(LARGE(Calculations!$AY$4:$AY$310,2)<0,"",IFERROR(INDEX(Calculations!$AU$4:$AU$310,MATCH(LARGE(Calculations!$AY$4:$AY$310,2),Calculations!$AY$4:$AY$310,0)),""))} -> Brant goose | G44: {=IF(LARGE(Calculations!$AY$4:$AY$310,2)<0,"",IFERROR(INDEX(Calculations!$AV$4:$AV$310,MATCH(LARGE(Calculations!$AY$4:$AY$310,2),Calculations!$AY$4:$AY$310,0)),""))} -> Norway | H44: {=IF(LARGE(Calculations!$AY$4:$AY$310,2)<0,"",IFERROR(INDEX(Calculations!$AW$4:$AW$310,MATCH(LARGE(Calculations!$AY$4:$AY$310,2),Calculations!$AY$4:$AY$310,0)),""))} -> Norway: Aleksanteri Mikkola | I44: {=IF(LARGE(Calculations!$AY$4:$AY$310,2)<0,"",IFERROR(INDEX(Calculations!$AX$4:$AX$310,MATCH(LARGE(Calculations!$AY$4:$AY$310,2),Calculations!$AY$4:$AY$310,0)),""))} -> 1
A45: {=IF(LARGE(Calculations!$AS$4:$AS$310,3)<=0,"",IFERROR(INDEX(Calculations!$AO$4:$AO$310,MATCH(LARGE(Calculations!$AS$4:$AS$310,3),Calculations!$AS$4:$AS$310,0)),""))} -> Carrion crow | B45: {=IF(LARGE(Calculations!$AS$4:$AS$310,3)<=0,"",IFERROR(INDEX(Calculations!$AP$4:$AP$310,MATCH(LARGE(Calculations!$AS$4:$AS$310,3),Calculations!$AS$4:$AS$310,0)),""))} -> 45 | C45: {=IF(LARGE(Calculations!$AS$4:$AS$310,3)<=0,"",IFERROR(INDEX(Calculations!$AQ$4:$AQ$310,MATCH(LARGE(Calculations!$AS$4:$AS$310,3),Calculations!$AS$4:$AS$310,0)),""))} -> 2 | D45: {=IF(LARGE(Calculations!$AS$4:$AS$310,3)<=0,"",IFERROR(INDEX(Calculations!$AR$4:$AR$310,MATCH(LARGE(Calculations!$AS$4:$AS$310,3),Calculations!$AS$4:$AS$310,0)),""))} -> Finland Sweden | F45: {=IF(LARGE(Calculations!$AY$4:$AY$310,3)<0,"",IFERROR(INDEX(Calculations!$AU$4:$AU$310,MATCH(LARGE(Calculations!$AY$4:$AY$310,3),Calculations!$AY$4:$AY$310,0)),""))} -> Garganey | G45: {=IF(LARGE(Calculations!$AY$4:$AY$310,3)<0,"",IFERROR(INDEX(Calculations!$AV$4:$AV$310,MATCH(LARGE(Calculations!$AY$4:$AY$310,3),Calculations!$AY$4:$AY$310,0)),""))} -> Finland | H45: {=IF(LARGE(Calculations!$AY$4:$AY$310,3)<0,"",IFERROR(INDEX(Calculations!$AW$4:$AW$310,MATCH(LARGE(Calculations!$AY$4:$AY$310,3),Calculations!$AY$4:$AY$310,0)),""))} -> Finland: Viljami Selander | I45: {=IF(LARGE(Calculations!$AY$4:$AY$310,3)<0,"",IFERROR(INDEX(Calculations!$AX$4:$AX$310,MATCH(LARGE(Calculations!$AY$4:$AY$310,3),Calculations!$AY$4:$AY$310,0)),""))} -> 1
A46: {=IF(LARGE(Calculations!$AS$4:$AS$310,4)<=0,"",IFERROR(INDEX(Calculations!$AO$4:$AO$310,MATCH(LARGE(Calculations!$AS$4:$AS$310,4),Calculations!$AS$4:$AS$310,0)),""))} -> Mallard | B46: {=IF(LARGE(Calculations!$AS$4:$AS$310,4)<=0,"",IFERROR(INDEX(Calculations!$AP$4:$AP$310,MATCH(LARGE(Calculations!$AS$4:$AS$310,4),Calculations!$AS$4:$AS$310,0)),""))} -> 44 | C46: {=IF(LARGE(Calculations!$AS$4:$AS$310,4)<=0,"",IFERROR(INDEX(Calculations!$AQ$4:$AQ$310,MATCH(LARGE(Calculations!$AS$4:$AS$310,4),Calculations!$AS$4:$AS$310,0)),""))} -> 3 | D46: {=IF(LARGE(Calculations!$AS$4:$AS$310,4)<=0,"",IFERROR(INDEX(Calculations!$AR$4:$AR$310,MATCH(LARGE(Calculations!$AS$4:$AS$310,4),Calculations!$AS$4:$AS$310,0)),""))} -> Norway Finland Sweden | F46: {=IF(LARGE(Calculations!$AY$4:$AY$310,4)<0,"",IFERROR(INDEX(Calculations!$AU$4:$AU$310,MATCH(LARGE(Calculations!$AY$4:$AY$310,4),Calculations!$AY$4:$AY$310,0)),""))} -> Horned grebe | G46: {=IF(LARGE(Calculations!$AY$4:$AY$310,4)<0,"",IFERROR(INDEX(Calculations!$AV$4:$AV$310,MATCH(LARGE(Calculations!$AY$4:$AY$310,4),Calculations!$AY$4:$AY$310,0)),""))} -> Sweden | H46: {=IF(LARGE(Calculations!$AY$4:$AY$310,4)<0,"",IFERROR(INDEX(Calculations!$AW$4:$AW$310,MATCH(LARGE(Calculations!$AY$4:$AY$310,4),Calculations!$AY$4:$AY$310,0)),""))} -> Sweden: Arild Norberg | I46: {=IF(LARGE(Calculations!$AY$4:$AY$310,4)<0,"",IFERROR(INDEX(Calculations!$AX$4:$AX$310,MATCH(LARGE(Calculations!$AY$4:$AY$310,4),Calculations!$AY$4:$AY$310,0)),""))} -> 1
A47: {=IF(LARGE(Calculations!$AS$4:$AS$310,5)<=0,"",IFERROR(INDEX(Calculations!$AO$4:$AO$310,MATCH(LARGE(Calculations!$AS$4:$AS$310,5),Calculations!$AS$4:$AS$310,0)),""))} -> Western jackdaw | B47: {=IF(LARGE(Calculations!$AS$4:$AS$310,5)<=0,"",IFERROR(INDEX(Calculations!$AP$4:$AP$310,MATCH(LARGE(Calculations!$AS$4:$AS$310,5),Calculations!$AS$4:$AS$310,0)),""))} -> 43 | C47: {=IF(LARGE(Calculations!$AS$4:$AS$310,5)<=0,"",IFERROR(INDEX(Calculations!$AQ$4:$AQ$310,MATCH(LARGE(Calculations!$AS$4:$AS$310,5),Calculations!$AS$4:$AS$310,0)),""))} -> 2 | D47: {=IF(LARGE(Calculations!$AS$4:$AS$310,5)<=0,"",IFERROR(INDEX(Calculations!$AR$4:$AR$310,MATCH(LARGE(Calculations!$AS$4:$AS$310,5),Calculations!$AS$4:$AS$310,0)),""))} -> Finland Sweden | F47: {=IF(LARGE(Calculations!$AY$4:$AY$310,5)<0,"",IFERROR(INDEX(Calculations!$AU$4:$AU$310,MATCH(LARGE(Calculations!$AY$4:$AY$310,5),Calculations!$AY$4:$AY$310,0)),""))} -> Eurasian bittern | G47: {=IF(LARGE(Calculations!$AY$4:$AY$310,5)<0,"",IFERROR(INDEX(Calculations!$AV$4:$AV$310,MATCH(LARGE(Calculations!$AY$4:$AY$310,5),Calculations!$AY$4:$AY$310,0)),""))} -> Finland | H47: {=IF(LARGE(Calculations!$AY$4:$AY$310,5)<0,"",IFERROR(INDEX(Calculations!$AW$4:$AW$310,MATCH(LARGE(Calculations!$AY$4:$AY$310,5),Calculations!$AY$4:$AY$310,0)),""))} -> Finland: Viljami Selander | I47: {=IF(LARGE(Calculations!$AY$4:$AY$310,5)<0,"",IFERROR(INDEX(Calculations!$AX$4:$AX$310,MATCH(LARGE(Calculations!$AY$4:$AY$310,5),Calculations!$AY$4:$AY$310,0)),""))} -> 1
A48: {=IF(LARGE(Calculations!$AS$4:$AS$310,6)<=0,"",IFERROR(INDEX(Calculations!$AO$4:$AO$310,MATCH(LARGE(Calculations!$AS$4:$AS$310,6),Calculations!$AS$4:$AS$310,0)),""))} -> Common gull | B48: {=IF(LARGE(Calculations!$AS$4:$AS$310,6)<=0,"",IFERROR(INDEX(Calculations!$AP$4:$AP$310,MATCH(LARGE(Calculations!$AS$4:$AS$310,6),Calculations!$AS$4:$AS$310,0)),""))} -> 42 | C48: {=IF(LARGE(Calculations!$AS$4:$AS$310,6)<=0,"",IFERROR(INDEX(Calculations!$AQ$4:$AQ$310,MATCH(LARGE(Calculations!$AS$4:$AS$310,6),Calculations!$AS$4:$AS$310,0)),""))} -> 3 | D48: {=IF(LARGE(Calculations!$AS$4:$AS$310,6)<=0,"",IFERROR(INDEX(Calculations!$AR$4:$AR$310,MATCH(LARGE(Calculations!$AS$4:$AS$310,6),Calculations!$AS$4:$AS$310,0)),""))} -> Norway Finland Sweden | F48: {=IF(LARGE(Calculations!$AY$4:$AY$310,6)<0,"",IFERROR(INDEX(Calculations!$AU$4:$AU$310,MATCH(LARGE(Calculations!$AY$4:$AY$310,6),Calculations!$AY$4:$AY$310,0)),""))} -> Water rail | G48: {=IF(LARGE(Calculations!$AY$4:$AY$310,6)<0,"",IFERROR(INDEX(Calculations!$AV$4:$AV$310,MATCH(LARGE(Calculations!$AY$4:$AY$310,6),Calculations!$AY$4:$AY$310,0)),""))} -> Finland | H48: {=IF(LARGE(Calculations!$AY$4:$AY$310,6)<0,"",IFERROR(INDEX(Calculations!$AW$4:$AW$310,MATCH(LARGE(Calculations!$AY$4:$AY$310,6),Calculations!$AY$4:$AY$310,0)),""))} -> Finland: Viljami Selander | I48: {=IF(LARGE(Calculations!$AY$4:$AY$310,6)<0,"",IFERROR(INDEX(Calculations!$AX$4:$AX$310,MATCH(LARGE(Calculations!$AY$4:$AY$310,6),Calculations!$AY$4:$AY$310,0)),""))} -> 1
A49: {=IF(LARGE(Calculations!$AS$4:$AS$310,7)<=0,"",IFERROR(INDEX(Calculations!$AO$4:$AO$310,MATCH(LARGE(Calculations!$AS$4:$AS$310,7),Calculations!$AS$4:$AS$310,0)),""))} -> Eurasian magpie | B49: {=IF(LARGE(Calculations!$AS$4:$AS$310,7)<=0,"",IFERROR(INDEX(Calculations!$AP$4:$AP$310,MATCH(LARGE(Calculations!$AS$4:$AS$310,7),Calculations!$AS$4:$AS$310,0)),""))} -> 42 | C49: {=IF(LARGE(Calculations!$AS$4:$AS$310,7)<=0,"",IFERROR(INDEX(Calculations!$AQ$4:$AQ$310,MATCH(LARGE(Calculations!$AS$4:$AS$310,7),Calculations!$AS$4:$AS$310,0)),""))} -> 3 | D49: {=IF(LARGE(Calculations!$AS$4:$AS$310,7)<=0,"",IFERROR(INDEX(Calculations!$AR$4:$AR$310,MATCH(LARGE(Calculations!$AS$4:$AS$310,7),Calculations!$AS$4:$AS$310,0)),""))} -> Norway Finland Sweden | F49: {=IF(LARGE(Calculations!$AY$4:$AY$310,7)<0,"",IFERROR(INDEX(Calculations!$AU$4:$AU$310,MATCH(LARGE(Calculations!$AY$4:$AY$310,7),Calculations!$AY$4:$AY$310,0)),""))} -> Broad-billed sandpiper | G49: {=IF(LARGE(Calculations!$AY$4:$AY$310,7)<0,"",IFERROR(INDEX(Calculations!$AV$4:$AV$310,MATCH(LARGE(Calculations!$AY$4:$AY$310,7),Calculations!$AY$4:$AY$310,0)),""))} -> Finland | H49: {=IF(LARGE(Calculations!$AY$4:$AY$310,7)<0,"",IFERROR(INDEX(Calculations!$AW$4:$AW$310,MATCH(LARGE(Calculations!$AY$4:$AY$310,7),Calculations!$AY$4:$AY$310,0)),""))} -> Finland: Kia Varjonen | I49: {=IF(LARGE(Calculations!$AY$4:$AY$310,7)<0,"",IFERROR(INDEX(Calculations!$AX$4:$AX$310,MATCH(LARGE(Calculations!$AY$4:$AY$310,7),Calculations!$AY$4:$AY$310,0)),""))} -> 1
A50: {=IF(LARGE(Calculations!$AS$4:$AS$310,8)<=0,"",IFERROR(INDEX(Calculations!$AO$4:$AO$310,MATCH(LARGE(Calculations!$AS$4:$AS$310,8),Calculations!$AS$4:$AS$310,0)),""))} -> European herring gull | B50: {=IF(LARGE(Calculations!$AS$4:$AS$310,8)<=0,"",IFERROR(INDEX(Calculations!$AP$4:$AP$310,MATCH(LARGE(Calculations!$AS$4:$AS$310,8),Calculations!$AS$4:$AS$310,0)),""))} -> 41 | C50: {=IF(LARGE(Calculations!$AS$4:$AS$310,8)<=0,"",IFERROR(INDEX(Calculations!$AQ$4:$AQ$310,MATCH(LARGE(Calculations!$AS$4:$AS$310,8),Calculations!$AS$4:$AS$310,0)),""))} -> 3 | D50: {=IF(LARGE(Calculations!$AS$4:$AS$310,8)<=0,"",IFERROR(INDEX(Calculations!$AR$4:$AR$310,MATCH(LARGE(Calculations!$AS$4:$AS$310,8),Calculations!$AS$4:$AS$310,0)),""))} -> Norway Finland Sweden | F50: {=IF(LARGE(Calculations!$AY$4:$AY$310,8)<0,"",IFERROR(INDEX(Calculations!$AU$4:$AU$310,MATCH(LARGE(Calculations!$AY$4:$AY$310,8),Calculations!$AY$4:$AY$310,0)),""))} -> Jack snipe | G50: {=IF(LARGE(Calculations!$AY$4:$AY$310,8)<0,"",IFERROR(INDEX(Calculations!$AV$4:$AV$310,MATCH(LARGE(Calculations!$AY$4:$AY$310,8),Calculations!$AY$4:$AY$310,0)),""))} -> Finland | H50: {=IF(LARGE(Calculations!$AY$4:$AY$310,8)<0,"",IFERROR(INDEX(Calculations!$AW$4:$AW$310,MATCH(LARGE(Calculations!$AY$4:$AY$310,8),Calculations!$AY$4:$AY$310,0)),""))} -> Finland: Mikael Särkelä | I50: {=IF(LARGE(Calculations!$AY$4:$AY$310,8)<0,"",IFERROR(INDEX(Calculations!$AX$4:$AX$310,MATCH(LARGE(Calculations!$AY$4:$AY$310,8),Calculations!$AY$4:$AY$310,0)),""))} -> 1
A51: {=IF(LARGE(Calculations!$AS$4:$AS$310,9)<=0,"",IFERROR(INDEX(Calculations!$AO$4:$AO$310,MATCH(LARGE(Calculations!$AS$4:$AS$310,9),Calculations!$AS$4:$AS$310,0)),""))} -> Great tit | B51: {=IF(LARGE(Calculations!$AS$4:$AS$310,9)<=0,"",IFERROR(INDEX(Calculations!$AP$4:$AP$310,MATCH(LARGE(Calculations!$AS$4:$AS$310,9),Calculations!$AS$4:$AS$310,0)),""))} -> 41 | C51: {=IF(LARGE(Calculations!$AS$4:$AS$310,9)<=0,"",IFERROR(INDEX(Calculations!$AQ$4:$AQ$310,MATCH(LARGE(Calculations!$AS$4:$AS$310,9),Calculations!$AS$4:$AS$310,0)),""))} -> 3 | D51: {=IF(LARGE(Calculations!$AS$4:$AS$310,9)<=0,"",IFERROR(INDEX(Calculations!$AR$4:$AR$310,MATCH(LARGE(Calculations!$AS$4:$AS$310,9),Calculations!$AS$4:$AS$310,0)),""))} -> Norway Finland Sweden | F51: {=IF(LARGE(Calculations!$AY$4:$AY$310,9)<0,"",IFERROR(INDEX(Calculations!$AU$4:$AU$310,MATCH(LARGE(Calculations!$AY$4:$AY$310,9),Calculations!$AY$4:$AY$310,0)),""))} -> Green sandpiper | G51: {=IF(LARGE(Calculations!$AY$4:$AY$310,9)<0,"",IFERROR(INDEX(Calculations!$AV$4:$AV$310,MATCH(LARGE(Calculations!$AY$4:$AY$310,9),Calculations!$AY$4:$AY$310,0)),""))} -> Finland | H51: {=IF(LARGE(Calculations!$AY$4:$AY$310,9)<0,"",IFERROR(INDEX(Calculations!$AW$4:$AW$310,MATCH(LARGE(Calculations!$AY$4:$AY$310,9),Calculations!$AY$4:$AY$310,0)),""))} -> Finland: Viljami Selander | I51: {=IF(LARGE(Calculations!$AY$4:$AY$310,9)<0,"",IFERROR(INDEX(Calculations!$AX$4:$AX$310,MATCH(LARGE(Calculations!$AY$4:$AY$310,9),Calculations!$AY$4:$AY$310,0)),""))} -> 1
A52: {=IF(LARGE(Calculations!$AS$4:$AS$310,10)<=0,"",IFERROR(INDEX(Calculations!$AO$4:$AO$310,MATCH(LARGE(Calculations!$AS$4:$AS$310,10),Calculations!$AS$4:$AS$310,0)),""))} -> Eurasian chaffinch | B52: {=IF(LARGE(Calculations!$AS$4:$AS$310,10)<=0,"",IFERROR(INDEX(Calculations!$AP$4:$AP$310,MATCH(LARGE(Calculations!$AS$4:$AS$310,10),Calculations!$AS$4:$AS$310,0)),""))} -> 41 | C52: {=IF(LARGE(Calculations!$AS$4:$AS$310,10)<=0,"",IFERROR(INDEX(Calculations!$AQ$4:$AQ$310,MATCH(LARGE(Calculations!$AS$4:$AS$310,10),Calculations!$AS$4:$AS$310,0)),""))} -> 3 | D52: {=IF(LARGE(Calculations!$AS$4:$AS$310,10)<=0,"",IFERROR(INDEX(Calculations!$AR$4:$AR$310,MATCH(LARGE(Calculations!$AS$4:$AS$310,10),Calculations!$AS$4:$AS$310,0)),""))} -> Norway Finland Sweden | F52: {=IF(LARGE(Calculations!$AY$4:$AY$310,10)<0,"",IFERROR(INDEX(Calculations!$AU$4:$AU$310,MATCH(LARGE(Calculations!$AY$4:$AY$310,10),Calculations!$AY$4:$AY$310,0)),""))} -> Glaucous gull | G52: {=IF(LARGE(Calculations!$AY$4:$AY$310,10)<0,"",IFERROR(INDEX(Calculations!$AV$4:$AV$310,MATCH(LARGE(Calculations!$AY$4:$AY$310,10),Calculations!$AY$4:$AY$310,0)),""))} -> Norway | H52: {=IF(LARGE(Calculations!$AY$4:$AY$310,10)<0,"",IFERROR(INDEX(Calculations!$AW$4:$AW$310,MATCH(LARGE(Calculations!$AY$4:$AY$310,10),Calculations!$AY$4:$AY$310,0)),""))} -> Norway: Aleksanteri Mikkola | I52: {=IF(LARGE(Calculations!$AY$4:$AY$310,10)<0,"",IFERROR(INDEX(Calculations!$AX$4:$AX$310,MATCH(LARGE(Calculations!$AY$4:$AY$310,10),Calculations!$AY$4:$AY$310,0)),""))} -> 1
A53: {=IF(LARGE(Calculations!$AS$4:$AS$310,11)<=0,"",IFERROR(INDEX(Calculations!$AO$4:$AO$310,MATCH(LARGE(Calculations!$AS$4:$AS$310,11),Calculations!$AS$4:$AS$310,0)),""))} -> Common wood pigeon | B53: {=IF(LARGE(Calculations!$AS$4:$AS$310,11)<=0,"",IFERROR(INDEX(Calculations!$AP$4:$AP$310,MATCH(LARGE(Calculations!$AS$4:$AS$310,11),Calculations!$AS$4:$AS$310,0)),""))} -> 40 | C53: {=IF(LARGE(Calculations!$AS$4:$AS$310,11)<=0,"",IFERROR(INDEX(Calculations!$AQ$4:$AQ$310,MATCH(LARGE(Calculations!$AS$4:$AS$310,11),Calculations!$AS$4:$AS$310,0)),""))} -> 3 | D53: {=IF(LARGE(Calculations!$AS$4:$AS$310,11)<=0,"",IFERROR(INDEX(Calculations!$AR$4:$AR$310,MATCH(LARGE(Calculations!$AS$4:$AS$310,11),Calculations!$AS$4:$AS$310,0)),""))} -> Norway Finland Sweden | F53: {=IF(LARGE(Calculations!$AY$4:$AY$310,11)<0,"",IFERROR(INDEX(Calculations!$AU$4:$AU$310,MATCH(LARGE(Calculations!$AY$4:$AY$310,11),Calculations!$AY$4:$AY$310,0)),""))} -> Atlantic puffin | G53: {=IF(LARGE(Calculations!$AY$4:$AY$310,11)<0,"",IFERROR(INDEX(Calculations!$AV$4:$AV$310,MATCH(LARGE(Calculations!$AY$4:$AY$310,11),Calculations!$AY$4:$AY$310,0)),""))} -> Norway | H53: {=IF(LARGE(Calculations!$AY$4:$AY$310,11)<0,"",IFERROR(INDEX(Calculations!$AW$4:$AW$310,MATCH(LARGE(Calculations!$AY$4:$AY$310,11),Calculations!$AY$4:$AY$310,0)),""))} -> Norway: Aleksanteri Mikkola | I53: {=IF(LARGE(Calculations!$AY$4:$AY$310,11)<0,"",IFERROR(INDEX(Calculations!$AX$4:$AX$310,MATCH(LARGE(Calculations!$AY$4:$AY$310,11),Calculations!$AY$4:$AY$310,0)),""))} -> 1
A54: {=IF(LARGE(Calculations!$AS$4:$AS$310,12)<=0,"",IFERROR(INDEX(Calculations!$AO$4:$AO$310,MATCH(LARGE(Calculations!$AS$4:$AS$310,12),Calculations!$AS$4:$AS$310,0)),""))} -> European robin | B54: {=IF(LARGE(Calculations!$AS$4:$AS$310,12)<=0,"",IFERROR(INDEX(Calculations!$AP$4:$AP$310,MATCH(LARGE(Calculations!$AS$4:$AS$310,12),Calculations!$AS$4:$AS$310,0)),""))} -> 40 | C54: {=IF(LARGE(Calculations!$AS$4:$AS$310,12)<=0,"",IFERROR(INDEX(Calculations!$AQ$4:$AQ$310,MATCH(LARGE(Calculations!$AS$4:$AS$310,12),Calculations!$AS$4:$AS$310,0)),""))} -> 3 | D54: {=IF(LARGE(Calculations!$AS$4:$AS$310,12)<=0,"",IFERROR(INDEX(Calculations!$AR$4:$AR$310,MATCH(LARGE(Calculations!$AS$4:$AS$310,12),Calculations!$AS$4:$AS$310,0)),""))} -> Norway Finland Sweden | F54: {=IF(LARGE(Calculations!$AY$4:$AY$310,12)<0,"",IFERROR(INDEX(Calculations!$AU$4:$AU$310,MATCH(LARGE(Calculations!$AY$4:$AY$310,12),Calculations!$AY$4:$AY$310,0)),""))} -> Common cuckoo | G54: {=IF(LARGE(Calculations!$AY$4:$AY$310,12)<0,"",IFERROR(INDEX(Calculations!$AV$4:$AV$310,MATCH(LARGE(Calculations!$AY$4:$AY$310,12),Calculations!$AY$4:$AY$310,0)),""))} -> Finland | H54: {=IF(LARGE(Calculations!$AY$4:$AY$310,12)<0,"",IFERROR(INDEX(Calculations!$AW$4:$AW$310,MATCH(LARGE(Calculations!$AY$4:$AY$310,12),Calculations!$AY$4:$AY$310,0)),""))} -> Finland: Viljami Selander | I54: {=IF(LARGE(Calculations!$AY$4:$AY$310,12)<0,"",IFERROR(INDEX(Calculations!$AX$4:$AX$310,MATCH(LARGE(Calculations!$AY$4:$AY$310,12),Calculations!$AY$4:$AY$310,0)),""))} -> 1
A55: {=IF(LARGE(Calculations!$AS$4:$AS$310,13)<=0,"",IFERROR(INDEX(Calculations!$AO$4:$AO$310,MATCH(LARGE(Calculations!$AS$4:$AS$310,13),Calculations!$AS$4:$AS$310,0)),""))} -> Common blackbird | B55: {=IF(LARGE(Calculations!$AS$4:$AS$310,13)<=0,"",IFERROR(INDEX(Calculations!$AP$4:$AP$310,MATCH(LARGE(Calculations!$AS$4:$AS$310,13),Calculations!$AS$4:$AS$310,0)),""))} -> 39 | C55: {=IF(LARGE(Calculations!$AS$4:$AS$310,13)<=0,"",IFERROR(INDEX(Calculations!$AQ$4:$AQ$310,MATCH(LARGE(Calculations!$AS$4:$AS$310,13),Calculations!$AS$4:$AS$310,0)),""))} -> 3 | D55: {=IF(LARGE(Calculations!$AS$4:$AS$310,13)<=0,"",IFERROR(INDEX(Calculations!$AR$4:$AR$310,MATCH(LARGE(Calculations!$AS$4:$AS$310,13),Calculations!$AS$4:$AS$310,0)),""))} -> Norway Finland Sweden | F55: {=IF(LARGE(Calculations!$AY$4:$AY$310,13)<0,"",IFERROR(INDEX(Calculations!$AU$4:$AU$310,MATCH(LARGE(Calculations!$AY$4:$AY$310,13),Calculations!$AY$4:$AY$310,0)),""))} -> Long-eared owl | G55: {=IF(LARGE(Calculations!$AY$4:$AY$310,13)<0,"",IFERROR(INDEX(Calculations!$AV$4:$AV$310,MATCH(LARGE(Calculations!$AY$4:$AY$310,13),Calculations!$AY$4:$AY$310,0)),""))} -> Finland | H55: {=IF(LARGE(Calculations!$AY$4:$AY$310,13)<0,"",IFERROR(INDEX(Calculations!$AW$4:$AW$310,MATCH(LARGE(Calculations!$AY$4:$AY$310,13),Calculations!$AY$4:$AY$310,0)),""))} -> Finland: Viljami Selander | I55: {=IF(LARGE(Calculations!$AY$4:$AY$310,13)<0,"",IFERROR(INDEX(Calculations!$AX$4:$AX$310,MATCH(LARGE(Calculations!$AY$4:$AY$310,13),Calculations!$AY$4:$AY$310,0)),""))} -> 1
A56: {=IF(LARGE(Calculations!$AS$4:$AS$310,14)<=0,"",IFERROR(INDEX(Calculations!$AO$4:$AO$310,MATCH(LARGE(Calculations!$AS$4:$AS$310,14),Calculations!$AS$4:$AS$310,0)),""))} -> Eurasian wigeon | B56: {=IF(LARGE(Calculations!$AS$4:$AS$310,14)<=0,"",IFERROR(INDEX(Calculations!$AP$4:$AP$310,MATCH(LARGE(Calculations!$AS$4:$AS$310,14),Calculations!$AS$4:$AS$310,0)),""))} -> 38 | C56: {=IF(LARGE(Calculations!$AS$4:$AS$310,14)<=0,"",IFERROR(INDEX(Calculations!$AQ$4:$AQ$310,MATCH(LARGE(Calculations!$AS$4:$AS$310,14),Calculations!$AS$4:$AS$310,0)),""))} -> 3 | D56: {=IF(LARGE(Calculations!$AS$4:$AS$310,14)<=0,"",IFERROR(INDEX(Calculations!$AR$4:$AR$310,MATCH(LARGE(Calculations!$AS$4:$AS$310,14),Calculations!$AS$4:$AS$310,0)),""))} -> Norway Finland Sweden | F56: {=IF(LARGE(Calculations!$AY$4:$AY$310,14)<0,"",IFERROR(INDEX(Calculations!$AU$4:$AU$310,MATCH(LARGE(Calculations!$AY$4:$AY$310,14),Calculations!$AY$4:$AY$310,0)),""))} -> Boreal owl | G56: {=IF(LARGE(Calculations!$AY$4:$AY$310,14)<0,"",IFERROR(INDEX(Calculations!$AV$4:$AV$310,MATCH(LARGE(Calculations!$AY$4:$AY$310,14),Calculations!$AY$4:$AY$310,0)),""))} -> Sweden | H56: {=IF(LARGE(Calculations!$AY$4:$AY$310,14)<0,"",IFERROR(INDEX(Calculations!$AW$4:$AW$310,MATCH(LARGE(Calculations!$AY$4:$AY$310,14),Calculations!$AY$4:$AY$310,0)),""))} -> Sweden: Oskar Karsikko | I56: {=IF(LARGE(Calculations!$AY$4:$AY$310,14)<0,"",IFERROR(INDEX(Calculations!$AX$4:$AX$310,MATCH(LARGE(Calculations!$AY$4:$AY$310,14),Calculations!$AY$4:$AY$310,0)),""))} -> 1
A57: {=IF(LARGE(Calculations!$AS$4:$AS$310,15)<=0,"",IFERROR(INDEX(Calculations!$AO$4:$AO$310,MATCH(LARGE(Calculations!$AS$4:$AS$310,15),Calculations!$AS$4:$AS$310,0)),""))} -> Northern raven | B57: {=IF(LARGE(Calculations!$AS$4:$AS$310,15)<=0,"",IFERROR(INDEX(Calculations!$AP$4:$AP$310,MATCH(LARGE(Calculations!$AS$4:$AS$310,15),Calculations!$AS$4:$AS$310,0)),""))} -> 38 | C57: {=IF(LARGE(Calculations!$AS$4:$AS$310,15)<=0,"",IFERROR(INDEX(Calculations!$AQ$4:$AQ$310,MATCH(LARGE(Calculations!$AS$4:$AS$310,15),Calculations!$AS$4:$AS$310,0)),""))} -> 2 | D57: {=IF(LARGE(Calculations!$AS$4:$AS$310,15)<=0,"",IFERROR(INDEX(Calculations!$AR$4:$AR$310,MATCH(LARGE(Calculations!$AS$4:$AS$310,15),Calculations!$AS$4:$AS$310,0)),""))} -> Finland Sweden | F57: {=IF(LARGE(Calculations!$AY$4:$AY$310,15)<0,"",IFERROR(INDEX(Calculations!$AU$4:$AU$310,MATCH(LARGE(Calculations!$AY$4:$AY$310,15),Calculations!$AY$4:$AY$310,0)),""))} -> Common kingfisher | G57: {=IF(LARGE(Calculations!$AY$4:$AY$310,15)<0,"",IFERROR(INDEX(Calculations!$AV$4:$AV$310,MATCH(LARGE(Calculations!$AY$4:$AY$310,15),Calculations!$AY$4:$AY$310,0)),""))} -> Sweden | H57: {=IF(LARGE(Calculations!$AY$4:$AY$310,15)<0,"",IFERROR(INDEX(Calculations!$AW$4:$AW$310,MATCH(LARGE(Calculations!$AY$4:$AY$310,15),Calculations!$AY$4:$AY$310,0)),""))} -> Sweden: Sigge Alfredsson | I57: {=IF(LARGE(Calculations!$AY$4:$AY$310,15)<0,"",IFERROR(INDEX(Calculations!$AX$4:$AX$310,MATCH(LARGE(Calculations!$AY$4:$AY$310,15),Calculations!$AY$4:$AY$310,0)),""))} -> 1
F58: {=IF(LARGE(Calculations!$AY$4:$AY$310,16)<0,"",IFERROR(INDEX(Calculations!$AU$4:$AU$310,MATCH(LARGE(Calculations!$AY$4:$AY$310,16),Calculations!$AY$4:$AY$310,0)),""))} -> Common hoopoe | G58: {=IF(LARGE(Calculations!$AY$4:$AY$310,16)<0,"",IFERROR(INDEX(Calculations!$AV$4:$AV$310,MATCH(LARGE(Calculations!$AY$4:$AY$310,16),Calculations!$AY$4:$AY$310,0)),""))} -> Sweden | H58: {=IF(LARGE(Calculations!$AY$4:$AY$310,16)<0,"",IFERROR(INDEX(Calculations!$AW$4:$AW$310,MATCH(LARGE(Calculations!$AY$4:$AY$310,16),Calculations!$AY$4:$AY$310,0)),""))} -> Sweden: Malte Lindberg | I58: {=IF(LARGE(Calculations!$AY$4:$AY$310,16)<0,"",IFERROR(INDEX(Calculations!$AX$4:$AX$310,MATCH(LARGE(Calculations!$AY$4:$AY$310,16),Calculations!$AY$4:$AY$310,0)),""))} -> 1
A59: All-country species - recorded in Denmark, Norway, Finland, and Sweden | F59: {=IF(LARGE(Calculations!$AY$4:$AY$310,17)<0,"",IFERROR(INDEX(Calculations!$AU$4:$AU$310,MATCH(LARGE(Calculations!$AY$4:$AY$310,17),Calculations!$AY$4:$AY$310,0)),""))} -> Woodlark | G59: {=IF(LARGE(Calculations!$AY$4:$AY$310,17)<0,"",IFERROR(INDEX(Calculations!$AV$4:$AV$310,MATCH(LARGE(Calculations!$AY$4:$AY$310,17),Calculations!$AY$4:$AY$310,0)),""))} -> Finland | H59: {=IF(LARGE(Calculations!$AY$4:$AY$310,17)<0,"",IFERROR(INDEX(Calculations!$AW$4:$AW$310,MATCH(LARGE(Calculations!$AY$4:$AY$310,17),Calculations!$AY$4:$AY$310,0)),""))} -> Finland: Eetu Paljakka | I59: {=IF(LARGE(Calculations!$AY$4:$AY$310,17)<0,"",IFERROR(INDEX(Calculations!$AX$4:$AX$310,MATCH(LARGE(Calculations!$AY$4:$AY$310,17),Calculations!$AY$4:$AY$310,0)),""))} -> 1
A60: Species | B60: Total observers | C60: Countries | D60: Seen in | F60: {=IF(LARGE(Calculations!$AY$4:$AY$310,18)<0,"",IFERROR(INDEX(Calculations!$AU$4:$AU$310,MATCH(LARGE(Calculations!$AY$4:$AY$310,18),Calculations!$AY$4:$AY$310,0)),""))} -> White-throated dipper | G60: {=IF(LARGE(Calculations!$AY$4:$AY$310,18)<0,"",IFERROR(INDEX(Calculations!$AV$4:$AV$310,MATCH(LARGE(Calculations!$AY$4:$AY$310,18),Calculations!$AY$4:$AY$310,0)),""))} -> Finland | H60: {=IF(LARGE(Calculations!$AY$4:$AY$310,18)<0,"",IFERROR(INDEX(Calculations!$AW$4:$AW$310,MATCH(LARGE(Calculations!$AY$4:$AY$310,18),Calculations!$AY$4:$AY$310,0)),""))} -> Finland: Viljami Selander | I60: {=IF(LARGE(Calculations!$AY$4:$AY$310,18)<0,"",IFERROR(INDEX(Calculations!$AX$4:$AX$310,MATCH(LARGE(Calculations!$AY$4:$AY$310,18),Calculations!$AY$4:$AY$310,0)),""))} -> 1
A61: {=IF(LARGE(Calculations!$BE$4:$BE$310,1)<0,"",IFERROR(INDEX(Calculations!$BA$4:$BA$310,MATCH(LARGE(Calculations!$BE$4:$BE$310,1),Calculations!$BE$4:$BE$310,0)),""))} | B61: {=IF(LARGE(Calculations!$BE$4:$BE$310,1)<0,"",IFERROR(INDEX(Calculations!$BB$4:$BB$310,MATCH(LARGE(Calculations!$BE$4:$BE$310,1),Calculations!$BE$4:$BE$310,0)),""))} | C61: {=IF(LARGE(Calculations!$BE$4:$BE$310,1)<0,"",IFERROR(INDEX(Calculations!$BC$4:$BC$310,MATCH(LARGE(Calculations!$BE$4:$BE$310,1),Calculations!$BE$4:$BE$310,0)),""))} | D61: {=IF(LARGE(Calculations!$BE$4:$BE$310,1)<0,"",IFERROR(INDEX(Calculations!$BD$4:$BD$310,MATCH(LARGE(Calculations!$BE$4:$BE$310,1),Calculations!$BE$4:$BE$310,0)),""))} | F61: {=IF(LARGE(Calculations!$AY$4:$AY$310,19)<0,"",IFERROR(INDEX(Calculations!$AU$4:$AU$310,MATCH(LARGE(Calculations!$AY$4:$AY$310,19),Calculations!$AY$4:$AY$310,0)),""))} -> Bluethroat | G61: {=IF(LARGE(Calculations!$AY$4:$AY$310,19)<0,"",IFERROR(INDEX(Calculations!$AV$4:$AV$310,MATCH(LARGE(Calculations!$AY$4:$AY$310,19),Calculations!$AY$4:$AY$310,0)),""))} -> Finland | H61: {=IF(LARGE(Calculations!$AY$4:$AY$310,19)<0,"",IFERROR(INDEX(Calculations!$AW$4:$AW$310,MATCH(LARGE(Calculations!$AY$4:$AY$310,19),Calculations!$AY$4:$AY$310,0)),""))} -> Finland: Aapo Määttä | I61: {=IF(LARGE(Calculations!$AY$4:$AY$310,19)<0,"",IFERROR(INDEX(Calculations!$AX$4:$AX$310,MATCH(LARGE(Calculations!$AY$4:$AY$310,19),Calculations!$AY$4:$AY$310,0)),""))} -> 1
A62: {=IF(LARGE(Calculations!$BE$4:$BE$310,2)<0,"",IFERROR(INDEX(Calculations!$BA$4:$BA$310,MATCH(LARGE(Calculations!$BE$4:$BE$310,2),Calculations!$BE$4:$BE$310,0)),""))} | B62: {=IF(LARGE(Calculations!$BE$4:$BE$310,2)<0,"",IFERROR(INDEX(Calculations!$BB$4:$BB$310,MATCH(LARGE(Calculations!$BE$4:$BE$310,2),Calculations!$BE$4:$BE$310,0)),""))} | C62: {=IF(LARGE(Calculations!$BE$4:$BE$310,2)<0,"",IFERROR(INDEX(Calculations!$BC$4:$BC$310,MATCH(LARGE(Calculations!$BE$4:$BE$310,2),Calculations!$BE$4:$BE$310,0)),""))} | D62: {=IF(LARGE(Calculations!$BE$4:$BE$310,2)<0,"",IFERROR(INDEX(Calculations!$BD$4:$BD$310,MATCH(LARGE(Calculations!$BE$4:$BE$310,2),Calculations!$BE$4:$BE$310,0)),""))} | F62: {=IF(LARGE(Calculations!$AY$4:$AY$310,20)<0,"",IFERROR(INDEX(Calculations!$AU$4:$AU$310,MATCH(LARGE(Calculations!$AY$4:$AY$310,20),Calculations!$AY$4:$AY$310,0)),""))} -> European stonechat | G62: {=IF(LARGE(Calculations!$AY$4:$AY$310,20)<0,"",IFERROR(INDEX(Calculations!$AV$4:$AV$310,MATCH(LARGE(Calculations!$AY$4:$AY$310,20),Calculations!$AY$4:$AY$310,0)),""))} -> Finland | H62: {=IF(LARGE(Calculations!$AY$4:$AY$310,20)<0,"",IFERROR(INDEX(Calculations!$AW$4:$AW$310,MATCH(LARGE(Calculations!$AY$4:$AY$310,20),Calculations!$AY$4:$AY$310,0)),""))} -> Finland: Kia Varjonen | I62: {=IF(LARGE(Calculations!$AY$4:$AY$310,20)<0,"",IFERROR(INDEX(Calculations!$AX$4:$AX$310,MATCH(LARGE(Calculations!$AY$4:$AY$310,20),Calculations!$AY$4:$AY$310,0)),""))} -> 1
A63: {=IF(LARGE(Calculations!$BE$4:$BE$310,3)<0,"",IFERROR(INDEX(Calculations!$BA$4:$BA$310,MATCH(LARGE(Calculations!$BE$4:$BE$310,3),Calculations!$BE$4:$BE$310,0)),""))} | B63: {=IF(LARGE(Calculations!$BE$4:$BE$310,3)<0,"",IFERROR(INDEX(Calculations!$BB$4:$BB$310,MATCH(LARGE(Calculations!$BE$4:$BE$310,3),Calculations!$BE$4:$BE$310,0)),""))} | C63: {=IF(LARGE(Calculations!$BE$4:$BE$310,3)<0,"",IFERROR(INDEX(Calculations!$BC$4:$BC$310,MATCH(LARGE(Calculations!$BE$4:$BE$310,3),Calculations!$BE$4:$BE$310,0)),""))} | D63: {=IF(LARGE(Calculations!$BE$4:$BE$310,3)<0,"",IFERROR(INDEX(Calculations!$BD$4:$BD$310,MATCH(LARGE(Calculations!$BE$4:$BE$310,3),Calculations!$BE$4:$BE$310,0)),""))} | F63: {=IF(LARGE(Calculations!$AY$4:$AY$310,21)<0,"",IFERROR(INDEX(Calculations!$AU$4:$AU$310,MATCH(LARGE(Calculations!$AY$4:$AY$310,21),Calculations!$AY$4:$AY$310,0)),""))} -> Wood warbler | G63: {=IF(LARGE(Calculations!$AY$4:$AY$310,21)<0,"",IFERROR(INDEX(Calculations!$AV$4:$AV$310,MATCH(LARGE(Calculations!$AY$4:$AY$310,21),Calculations!$AY$4:$AY$310,0)),""))} -> Finland | H63: {=IF(LARGE(Calculations!$AY$4:$AY$310,21)<0,"",IFERROR(INDEX(Calculations!$AW$4:$AW$310,MATCH(LARGE(Calculations!$AY$4:$AY$310,21),Calculations!$AY$4:$AY$310,0)),""))} -> Finland: Viljami Selander | I63: {=IF(LARGE(Calculations!$AY$4:$AY$310,21)<0,"",IFERROR(INDEX(Calculations!$AX$4:$AX$310,MATCH(LARGE(Calculations!$AY$4:$AY$310,21),Calculations!$AY$4:$AY$310,0)),""))} -> 1
A64: {=IF(LARGE(Calculations!$BE$4:$BE$310,4)<0,"",IFERROR(INDEX(Calculations!$BA$4:$BA$310,MATCH(LARGE(Calculations!$BE$4:$BE$310,4),Calculations!$BE$4:$BE$310,0)),""))} | B64: {=IF(LARGE(Calculations!$BE$4:$BE$310,4)<0,"",IFERROR(INDEX(Calculations!$BB$4:$BB$310,MATCH(LARGE(Calculations!$BE$4:$BE$310,4),Calculations!$BE$4:$BE$310,0)),""))} | C64: {=IF(LARGE(Calculations!$BE$4:$BE$310,4)<0,"",IFERROR(INDEX(Calculations!$BC$4:$BC$310,MATCH(LARGE(Calculations!$BE$4:$BE$310,4),Calculations!$BE$4:$BE$310,0)),""))} | D64: {=IF(LARGE(Calculations!$BE$4:$BE$310,4)<0,"",IFERROR(INDEX(Calculations!$BD$4:$BD$310,MATCH(LARGE(Calculations!$BE$4:$BE$310,4),Calculations!$BE$4:$BE$310,0)),""))} | F64: {=IF(LARGE(Calculations!$AY$4:$AY$310,22)<0,"",IFERROR(INDEX(Calculations!$AU$4:$AU$310,MATCH(LARGE(Calculations!$AY$4:$AY$310,22),Calculations!$AY$4:$AY$310,0)),""))} -> Lapland longspur | G64: {=IF(LARGE(Calculations!$AY$4:$AY$310,22)<0,"",IFERROR(INDEX(Calculations!$AV$4:$AV$310,MATCH(LARGE(Calculations!$AY$4:$AY$310,22),Calculations!$AY$4:$AY$310,0)),""))} -> Finland | H64: {=IF(LARGE(Calculations!$AY$4:$AY$310,22)<0,"",IFERROR(INDEX(Calculations!$AW$4:$AW$310,MATCH(LARGE(Calculations!$AY$4:$AY$310,22),Calculations!$AY$4:$AY$310,0)),""))} -> Finland: Veeti Räty | I64: {=IF(LARGE(Calculations!$AY$4:$AY$310,22)<0,"",IFERROR(INDEX(Calculations!$AX$4:$AX$310,MATCH(LARGE(Calculations!$AY$4:$AY$310,22),Calculations!$AY$4:$AY$310,0)),""))} -> 1
A65: {=IF(LARGE(Calculations!$BE$4:$BE$310,5)<0,"",IFERROR(INDEX(Calculations!$BA$4:$BA$310,MATCH(LARGE(Calculations!$BE$4:$BE$310,5),Calculations!$BE$4:$BE$310,0)),""))} | B65: {=IF(LARGE(Calculations!$BE$4:$BE$310,5)<0,"",IFERROR(INDEX(Calculations!$BB$4:$BB$310,MATCH(LARGE(Calculations!$BE$4:$BE$310,5),Calculations!$BE$4:$BE$310,0)),""))} | C65: {=IF(LARGE(Calculations!$BE$4:$BE$310,5)<0,"",IFERROR(INDEX(Calculations!$BC$4:$BC$310,MATCH(LARGE(Calculations!$BE$4:$BE$310,5),Calculations!$BE$4:$BE$310,0)),""))} | D65: {=IF(LARGE(Calculations!$BE$4:$BE$310,5)<0,"",IFERROR(INDEX(Calculations!$BD$4:$BD$310,MATCH(LARGE(Calculations!$BE$4:$BE$310,5),Calculations!$BE$4:$BE$310,0)),""))} | F65: {=IF(LARGE(Calculations!$AY$4:$AY$310,23)<0,"",IFERROR(INDEX(Calculations!$AU$4:$AU$310,MATCH(LARGE(Calculations!$AY$4:$AY$310,23),Calculations!$AY$4:$AY$310,0)),""))} -> Snow bunting | G65: {=IF(LARGE(Calculations!$AY$4:$AY$310,23)<0,"",IFERROR(INDEX(Calculations!$AV$4:$AV$310,MATCH(LARGE(Calculations!$AY$4:$AY$310,23),Calculations!$AY$4:$AY$310,0)),""))} -> Norway | H65: {=IF(LARGE(Calculations!$AY$4:$AY$310,23)<0,"",IFERROR(INDEX(Calculations!$AW$4:$AW$310,MATCH(LARGE(Calculations!$AY$4:$AY$310,23),Calculations!$AY$4:$AY$310,0)),""))} -> Norway: Aleksanteri Mikkola | I65: {=IF(LARGE(Calculations!$AY$4:$AY$310,23)<0,"",IFERROR(INDEX(Calculations!$AX$4:$AX$310,MATCH(LARGE(Calculations!$AY$4:$AY$310,23),Calculations!$AY$4:$AY$310,0)),""))} -> 1
A66: {=IF(LARGE(Calculations!$BE$4:$BE$310,6)<0,"",IFERROR(INDEX(Calculations!$BA$4:$BA$310,MATCH(LARGE(Calculations!$BE$4:$BE$310,6),Calculations!$BE$4:$BE$310,0)),""))} | B66: {=IF(LARGE(Calculations!$BE$4:$BE$310,6)<0,"",IFERROR(INDEX(Calculations!$BB$4:$BB$310,MATCH(LARGE(Calculations!$BE$4:$BE$310,6),Calculations!$BE$4:$BE$310,0)),""))} | C66: {=IF(LARGE(Calculations!$BE$4:$BE$310,6)<0,"",IFERROR(INDEX(Calculations!$BC$4:$BC$310,MATCH(LARGE(Calculations!$BE$4:$BE$310,6),Calculations!$BE$4:$BE$310,0)),""))} | D66: {=IF(LARGE(Calculations!$BE$4:$BE$310,6)<0,"",IFERROR(INDEX(Calculations!$BD$4:$BD$310,MATCH(LARGE(Calculations!$BE$4:$BE$310,6),Calculations!$BE$4:$BE$310,0)),""))} | F66: {=IF(LARGE(Calculations!$AY$4:$AY$310,24)<0,"",IFERROR(INDEX(Calculations!$AU$4:$AU$310,MATCH(LARGE(Calculations!$AY$4:$AY$310,24),Calculations!$AY$4:$AY$310,0)),""))} -> Bar-headed goose | G66: {=IF(LARGE(Calculations!$AY$4:$AY$310,24)<0,"",IFERROR(INDEX(Calculations!$AV$4:$AV$310,MATCH(LARGE(Calculations!$AY$4:$AY$310,24),Calculations!$AY$4:$AY$310,0)),""))} -> Sweden | H66: {=IF(LARGE(Calculations!$AY$4:$AY$310,24)<0,"",IFERROR(INDEX(Calculations!$AW$4:$AW$310,MATCH(LARGE(Calculations!$AY$4:$AY$310,24),Calculations!$AY$4:$AY$310,0)),""))} -> Sweden: Eskil Friberg | I66: {=IF(LARGE(Calculations!$AY$4:$AY$310,24)<0,"",IFERROR(INDEX(Calculations!$AX$4:$AX$310,MATCH(LARGE(Calculations!$AY$4:$AY$310,24),Calculations!$AY$4:$AY$310,0)),""))} -> 1
A67: {=IF(LARGE(Calculations!$BE$4:$BE$310,7)<0,"",IFERROR(INDEX(Calculations!$BA$4:$BA$310,MATCH(LARGE(Calculations!$BE$4:$BE$310,7),Calculations!$BE$4:$BE$310,0)),""))} | B67: {=IF(LARGE(Calculations!$BE$4:$BE$310,7)<0,"",IFERROR(INDEX(Calculations!$BB$4:$BB$310,MATCH(LARGE(Calculations!$BE$4:$BE$310,7),Calculations!$BE$4:$BE$310,0)),""))} | C67: {=IF(LARGE(Calculations!$BE$4:$BE$310,7)<0,"",IFERROR(INDEX(Calculations!$BC$4:$BC$310,MATCH(LARGE(Calculations!$BE$4:$BE$310,7),Calculations!$BE$4:$BE$310,0)),""))} | D67: {=IF(LARGE(Calculations!$BE$4:$BE$310,7)<0,"",IFERROR(INDEX(Calculations!$BD$4:$BD$310,MATCH(LARGE(Calculations!$BE$4:$BE$310,7),Calculations!$BE$4:$BE$310,0)),""))} | F67: {=IF(LARGE(Calculations!$AY$4:$AY$310,25)<0,"",IFERROR(INDEX(Calculations!$AU$4:$AU$310,MATCH(LARGE(Calculations!$AY$4:$AY$310,25),Calculations!$AY$4:$AY$310,0)),""))} -> Steppe eagle | G67: {=IF(LARGE(Calculations!$AY$4:$AY$310,25)<0,"",IFERROR(INDEX(Calculations!$AV$4:$AV$310,MATCH(LARGE(Calculations!$AY$4:$AY$310,25),Calculations!$AY$4:$AY$310,0)),""))} -> Finland | H67: {=IF(LARGE(Calculations!$AY$4:$AY$310,25)<0,"",IFERROR(INDEX(Calculations!$AW$4:$AW$310,MATCH(LARGE(Calculations!$AY$4:$AY$310,25),Calculations!$AY$4:$AY$310,0)),""))} -> Finland: Mikael Särkelä | I67: {=IF(LARGE(Calculations!$AY$4:$AY$310,25)<0,"",IFERROR(INDEX(Calculations!$AX$4:$AX$310,MATCH(LARGE(Calculations!$AY$4:$AY$310,25),Calculations!$AY$4:$AY$310,0)),""))} -> 1
A68: {=IF(LARGE(Calculations!$BE$4:$BE$310,8)<0,"",IFERROR(INDEX(Calculations!$BA$4:$BA$310,MATCH(LARGE(Calculations!$BE$4:$BE$310,8),Calculations!$BE$4:$BE$310,0)),""))} | B68: {=IF(LARGE(Calculations!$BE$4:$BE$310,8)<0,"",IFERROR(INDEX(Calculations!$BB$4:$BB$310,MATCH(LARGE(Calculations!$BE$4:$BE$310,8),Calculations!$BE$4:$BE$310,0)),""))} | C68: {=IF(LARGE(Calculations!$BE$4:$BE$310,8)<0,"",IFERROR(INDEX(Calculations!$BC$4:$BC$310,MATCH(LARGE(Calculations!$BE$4:$BE$310,8),Calculations!$BE$4:$BE$310,0)),""))} | D68: {=IF(LARGE(Calculations!$BE$4:$BE$310,8)<0,"",IFERROR(INDEX(Calculations!$BD$4:$BD$310,MATCH(LARGE(Calculations!$BE$4:$BE$310,8),Calculations!$BE$4:$BE$310,0)),""))} | F68: {=IF(LARGE(Calculations!$AY$4:$AY$310,26)<0,"",IFERROR(INDEX(Calculations!$AU$4:$AU$310,MATCH(LARGE(Calculations!$AY$4:$AY$310,26),Calculations!$AY$4:$AY$310,0)),""))} -> Ferruginous duck | G68: {=IF(LARGE(Calculations!$AY$4:$AY$310,26)<0,"",IFERROR(INDEX(Calculations!$AV$4:$AV$310,MATCH(LARGE(Calculations!$AY$4:$AY$310,26),Calculations!$AY$4:$AY$310,0)),""))} -> Sweden | H68: {=IF(LARGE(Calculations!$AY$4:$AY$310,26)<0,"",IFERROR(INDEX(Calculations!$AW$4:$AW$310,MATCH(LARGE(Calculations!$AY$4:$AY$310,26),Calculations!$AY$4:$AY$310,0)),""))} -> Sweden: Eskil Friberg | I68: {=IF(LARGE(Calculations!$AY$4:$AY$310,26)<0,"",IFERROR(INDEX(Calculations!$AX$4:$AX$310,MATCH(LARGE(Calculations!$AY$4:$AY$310,26),Calculations!$AY$4:$AY$310,0)),""))} -> 1
A69: {=IF(LARGE(Calculations!$BE$4:$BE$310,9)<0,"",IFERROR(INDEX(Calculations!$BA$4:$BA$310,MATCH(LARGE(Calculations!$BE$4:$BE$310,9),Calculations!$BE$4:$BE$310,0)),""))} | B69: {=IF(LARGE(Calculations!$BE$4:$BE$310,9)<0,"",IFERROR(INDEX(Calculations!$BB$4:$BB$310,MATCH(LARGE(Calculations!$BE$4:$BE$310,9),Calculations!$BE$4:$BE$310,0)),""))} | C69: {=IF(LARGE(Calculations!$BE$4:$BE$310,9)<0,"",IFERROR(INDEX(Calculations!$BC$4:$BC$310,MATCH(LARGE(Calculations!$BE$4:$BE$310,9),Calculations!$BE$4:$BE$310,0)),""))} | D69: {=IF(LARGE(Calculations!$BE$4:$BE$310,9)<0,"",IFERROR(INDEX(Calculations!$BD$4:$BD$310,MATCH(LARGE(Calculations!$BE$4:$BE$310,9),Calculations!$BE$4:$BE$310,0)),""))} | F69: {=IF(LARGE(Calculations!$AY$4:$AY$310,27)<0,"",IFERROR(INDEX(Calculations!$AU$4:$AU$310,MATCH(LARGE(Calculations!$AY$4:$AY$310,27),Calculations!$AY$4:$AY$310,0)),""))} -> Common pochard | G69: {=IF(LARGE(Calculations!$AY$4:$AY$310,27)<0,"",IFERROR(INDEX(Calculations!$AV$4:$AV$310,MATCH(LARGE(Calculations!$AY$4:$AY$310,27),Calculations!$AY$4:$AY$310,0)),""))} -> Finland Sweden | H69: {=IF(LARGE(Calculations!$AY$4:$AY$310,27)<0,"",IFERROR(INDEX(Calculations!$AW$4:$AW$310,MATCH(LARGE(Calculations!$AY$4:$AY$310,27),Calculations!$AY$4:$AY$310,0)),""))} -> Finland: Viljami Selander Sweden: Eskil Friberg | I69: {=IF(LARGE(Calculations!$AY$4:$AY$310,27)<0,"",IFERROR(INDEX(Calculations!$AX$4:$AX$310,MATCH(LARGE(Calculations!$AY$4:$AY$310,27),Calculations!$AY$4:$AY$310,0)),""))} -> 2
A70: {=IF(LARGE(Calculations!$BE$4:$BE$310,10)<0,"",IFERROR(INDEX(Calculations!$BA$4:$BA$310,MATCH(LARGE(Calculations!$BE$4:$BE$310,10),Calculations!$BE$4:$BE$310,0)),""))} | B70: {=IF(LARGE(Calculations!$BE$4:$BE$310,10)<0,"",IFERROR(INDEX(Calculations!$BB$4:$BB$310,MATCH(LARGE(Calculations!$BE$4:$BE$310,10),Calculations!$BE$4:$BE$310,0)),""))} | C70: {=IF(LARGE(Calculations!$BE$4:$BE$310,10)<0,"",IFERROR(INDEX(Calculations!$BC$4:$BC$310,MATCH(LARGE(Calculations!$BE$4:$BE$310,10),Calculations!$BE$4:$BE$310,0)),""))} | D70: {=IF(LARGE(Calculations!$BE$4:$BE$310,10)<0,"",IFERROR(INDEX(Calculations!$BD$4:$BD$310,MATCH(LARGE(Calculations!$BE$4:$BE$310,10),Calculations!$BE$4:$BE$310,0)),""))} | F70: {=IF(LARGE(Calculations!$AY$4:$AY$310,28)<0,"",IFERROR(INDEX(Calculations!$AU$4:$AU$310,MATCH(LARGE(Calculations!$AY$4:$AY$310,28),Calculations!$AY$4:$AY$310,0)),""))} -> Western capercaillie | G70: {=IF(LARGE(Calculations!$AY$4:$AY$310,28)<0,"",IFERROR(INDEX(Calculations!$AV$4:$AV$310,MATCH(LARGE(Calculations!$AY$4:$AY$310,28),Calculations!$AY$4:$AY$310,0)),""))} -> Finland Sweden | H70: {=IF(LARGE(Calculations!$AY$4:$AY$310,28)<0,"",IFERROR(INDEX(Calculations!$AW$4:$AW$310,MATCH(LARGE(Calculations!$AY$4:$AY$310,28),Calculations!$AY$4:$AY$310,0)),""))} -> Finland: Aapo Määttä Sweden: Oskar Karsikko | I70: {=IF(LARGE(Calculations!$AY$4:$AY$310,28)<0,"",IFERROR(INDEX(Calculations!$AX$4:$AX$310,MATCH(LARGE(Calculations!$AY$4:$AY$310,28),Calculations!$AY$4:$AY$310,0)),""))} -> 2
A71: {=IF(LARGE(Calculations!$BE$4:$BE$310,11)<0,"",IFERROR(INDEX(Calculations!$BA$4:$BA$310,MATCH(LARGE(Calculations!$BE$4:$BE$310,11),Calculations!$BE$4:$BE$310,0)),""))} | B71: {=IF(LARGE(Calculations!$BE$4:$BE$310,11)<0,"",IFERROR(INDEX(Calculations!$BB$4:$BB$310,MATCH(LARGE(Calculations!$BE$4:$BE$310,11),Calculations!$BE$4:$BE$310,0)),""))} | C71: {=IF(LARGE(Calculations!$BE$4:$BE$310,11)<0,"",IFERROR(INDEX(Calculations!$BC$4:$BC$310,MATCH(LARGE(Calculations!$BE$4:$BE$310,11),Calculations!$BE$4:$BE$310,0)),""))} | D71: {=IF(LARGE(Calculations!$BE$4:$BE$310,11)<0,"",IFERROR(INDEX(Calculations!$BD$4:$BD$310,MATCH(LARGE(Calculations!$BE$4:$BE$310,11),Calculations!$BE$4:$BE$310,0)),""))} | F71: {=IF(LARGE(Calculations!$AY$4:$AY$310,29)<0,"",IFERROR(INDEX(Calculations!$AU$4:$AU$310,MATCH(LARGE(Calculations!$AY$4:$AY$310,29),Calculations!$AY$4:$AY$310,0)),""))} -> Red-necked grebe | G71: {=IF(LARGE(Calculations!$AY$4:$AY$310,29)<0,"",IFERROR(INDEX(Calculations!$AV$4:$AV$310,MATCH(LARGE(Calculations!$AY$4:$AY$310,29),Calculations!$AY$4:$AY$310,0)),""))} -> Sweden | H71: {=IF(LARGE(Calculations!$AY$4:$AY$310,29)<0,"",IFERROR(INDEX(Calculations!$AW$4:$AW$310,MATCH(LARGE(Calculations!$AY$4:$AY$310,29),Calculations!$AY$4:$AY$310,0)),""))} -> Sweden: Arild Norberg | I71: {=IF(LARGE(Calculations!$AY$4:$AY$310,29)<0,"",IFERROR(INDEX(Calculations!$AX$4:$AX$310,MATCH(LARGE(Calculations!$AY$4:$AY$310,29),Calculations!$AY$4:$AY$310,0)),""))} -> 2
A72: {=IF(LARGE(Calculations!$BE$4:$BE$310,12)<0,"",IFERROR(INDEX(Calculations!$BA$4:$BA$310,MATCH(LARGE(Calculations!$BE$4:$BE$310,12),Calculations!$BE$4:$BE$310,0)),""))} | B72: {=IF(LARGE(Calculations!$BE$4:$BE$310,12)<0,"",IFERROR(INDEX(Calculations!$BB$4:$BB$310,MATCH(LARGE(Calculations!$BE$4:$BE$310,12),Calculations!$BE$4:$BE$310,0)),""))} | C72: {=IF(LARGE(Calculations!$BE$4:$BE$310,12)<0,"",IFERROR(INDEX(Calculations!$BC$4:$BC$310,MATCH(LARGE(Calculations!$BE$4:$BE$310,12),Calculations!$BE$4:$BE$310,0)),""))} | D72: {=IF(LARGE(Calculations!$BE$4:$BE$310,12)<0,"",IFERROR(INDEX(Calculations!$BD$4:$BD$310,MATCH(LARGE(Calculations!$BE$4:$BE$310,12),Calculations!$BE$4:$BE$310,0)),""))} | F72: {=IF(LARGE(Calculations!$AY$4:$AY$310,30)<0,"",IFERROR(INDEX(Calculations!$AU$4:$AU$310,MATCH(LARGE(Calculations!$AY$4:$AY$310,30),Calculations!$AY$4:$AY$310,0)),""))} -> Rough-legged hawk | G72: {=IF(LARGE(Calculations!$AY$4:$AY$310,30)<0,"",IFERROR(INDEX(Calculations!$AV$4:$AV$310,MATCH(LARGE(Calculations!$AY$4:$AY$310,30),Calculations!$AY$4:$AY$310,0)),""))} -> Finland Sweden | H72: {=IF(LARGE(Calculations!$AY$4:$AY$310,30)<0,"",IFERROR(INDEX(Calculations!$AW$4:$AW$310,MATCH(LARGE(Calculations!$AY$4:$AY$310,30),Calculations!$AY$4:$AY$310,0)),""))} -> Finland: David Enkvist Sweden: Vilgot Sagerfors | I72: {=IF(LARGE(Calculations!$AY$4:$AY$310,30)<0,"",IFERROR(INDEX(Calculations!$AX$4:$AX$310,MATCH(LARGE(Calculations!$AY$4:$AY$310,30),Calculations!$AY$4:$AY$310,0)),""))} -> 2
A73: {=IF(LARGE(Calculations!$BE$4:$BE$310,13)<0,"",IFERROR(INDEX(Calculations!$BA$4:$BA$310,MATCH(LARGE(Calculations!$BE$4:$BE$310,13),Calculations!$BE$4:$BE$310,0)),""))} | B73: {=IF(LARGE(Calculations!$BE$4:$BE$310,13)<0,"",IFERROR(INDEX(Calculations!$BB$4:$BB$310,MATCH(LARGE(Calculations!$BE$4:$BE$310,13),Calculations!$BE$4:$BE$310,0)),""))} | C73: {=IF(LARGE(Calculations!$BE$4:$BE$310,13)<0,"",IFERROR(INDEX(Calculations!$BC$4:$BC$310,MATCH(LARGE(Calculations!$BE$4:$BE$310,13),Calculations!$BE$4:$BE$310,0)),""))} | D73: {=IF(LARGE(Calculations!$BE$4:$BE$310,13)<0,"",IFERROR(INDEX(Calculations!$BD$4:$BD$310,MATCH(LARGE(Calculations!$BE$4:$BE$310,13),Calculations!$BE$4:$BE$310,0)),""))} | F73: {=IF(LARGE(Calculations!$AY$4:$AY$310,31)<0,"",IFERROR(INDEX(Calculations!$AU$4:$AU$310,MATCH(LARGE(Calculations!$AY$4:$AY$310,31),Calculations!$AY$4:$AY$310,0)),""))} -> Little ringed plover | G73: {=IF(LARGE(Calculations!$AY$4:$AY$310,31)<0,"",IFERROR(INDEX(Calculations!$AV$4:$AV$310,MATCH(LARGE(Calculations!$AY$4:$AY$310,31),Calculations!$AY$4:$AY$310,0)),""))} -> Finland Sweden | H73: {=IF(LARGE(Calculations!$AY$4:$AY$310,31)<0,"",IFERROR(INDEX(Calculations!$AW$4:$AW$310,MATCH(LARGE(Calculations!$AY$4:$AY$310,31),Calculations!$AY$4:$AY$310,0)),""))} -> Finland: Kia Varjonen Sweden: Kaleido Carrillo | I73: {=IF(LARGE(Calculations!$AY$4:$AY$310,31)<0,"",IFERROR(INDEX(Calculations!$AX$4:$AX$310,MATCH(LARGE(Calculations!$AY$4:$AY$310,31),Calculations!$AY$4:$AY$310,0)),""))} -> 2
A74: {=IF(LARGE(Calculations!$BE$4:$BE$310,14)<0,"",IFERROR(INDEX(Calculations!$BA$4:$BA$310,MATCH(LARGE(Calculations!$BE$4:$BE$310,14),Calculations!$BE$4:$BE$310,0)),""))} | B74: {=IF(LARGE(Calculations!$BE$4:$BE$310,14)<0,"",IFERROR(INDEX(Calculations!$BB$4:$BB$310,MATCH(LARGE(Calculations!$BE$4:$BE$310,14),Calculations!$BE$4:$BE$310,0)),""))} | C74: {=IF(LARGE(Calculations!$BE$4:$BE$310,14)<0,"",IFERROR(INDEX(Calculations!$BC$4:$BC$310,MATCH(LARGE(Calculations!$BE$4:$BE$310,14),Calculations!$BE$4:$BE$310,0)),""))} | D74: {=IF(LARGE(Calculations!$BE$4:$BE$310,14)<0,"",IFERROR(INDEX(Calculations!$BD$4:$BD$310,MATCH(LARGE(Calculations!$BE$4:$BE$310,14),Calculations!$BE$4:$BE$310,0)),""))} | F74: Little stint | G74: {=IF(LARGE(Calculations!$AY$4:$AY$310,32)<0,"",IFERROR(INDEX(Calculations!$AV$4:$AV$310,MATCH(LARGE(Calculations!$AY$4:$AY$310,32),Calculations!$AY$4:$AY$310,0)),""))} -> Norway Finland | H74: {=IF(LARGE(Calculations!$AY$4:$AY$310,32)<0,"",IFERROR(INDEX(Calculations!$AW$4:$AW$310,MATCH(LARGE(Calculations!$AY$4:$AY$310,32),Calculations!$AY$4:$AY$310,0)),""))} -> Norway: Aleksanteri Mikkola Finland: Mikael Särkelä | I74: {=IF(LARGE(Calculations!$AY$4:$AY$310,32)<0,"",IFERROR(INDEX(Calculations!$AX$4:$AX$310,MATCH(LARGE(Calculations!$AY$4:$AY$310,32),Calculations!$AY$4:$AY$310,0)),""))} -> 2
A75: {=IF(LARGE(Calculations!$BE$4:$BE$310,15)<0,"",IFERROR(INDEX(Calculations!$BA$4:$BA$310,MATCH(LARGE(Calculations!$BE$4:$BE$310,15),Calculations!$BE$4:$BE$310,0)),""))} | B75: {=IF(LARGE(Calculations!$BE$4:$BE$310,15)<0,"",IFERROR(INDEX(Calculations!$BB$4:$BB$310,MATCH(LARGE(Calculations!$BE$4:$BE$310,15),Calculations!$BE$4:$BE$310,0)),""))} | C75: {=IF(LARGE(Calculations!$BE$4:$BE$310,15)<0,"",IFERROR(INDEX(Calculations!$BC$4:$BC$310,MATCH(LARGE(Calculations!$BE$4:$BE$310,15),Calculations!$BE$4:$BE$310,0)),""))} | D75: {=IF(LARGE(Calculations!$BE$4:$BE$310,15)<0,"",IFERROR(INDEX(Calculations!$BD$4:$BD$310,MATCH(LARGE(Calculations!$BE$4:$BE$310,15),Calculations!$BE$4:$BE$310,0)),""))} | F75: {=IF(LARGE(Calculations!$AY$4:$AY$310,33)<0,"",IFERROR(INDEX(Calculations!$AU$4:$AU$310,MATCH(LARGE(Calculations!$AY$4:$AY$310,33),Calculations!$AY$4:$AY$310,0)),""))} -> Wood sandpiper | G75: {=IF(LARGE(Calculations!$AY$4:$AY$310,33)<0,"",IFERROR(INDEX(Calculations!$AV$4:$AV$310,MATCH(LARGE(Calculations!$AY$4:$AY$310,33),Calculations!$AY$4:$AY$310,0)),""))} -> Finland | H75: {=IF(LARGE(Calculations!$AY$4:$AY$310,33)<0,"",IFERROR(INDEX(Calculations!$AW$4:$AW$310,MATCH(LARGE(Calculations!$AY$4:$AY$310,33),Calculations!$AY$4:$AY$310,0)),""))} -> Finland: Kia Varjonen | I75: {=IF(LARGE(Calculations!$AY$4:$AY$310,33)<0,"",IFERROR(INDEX(Calculations!$AX$4:$AX$310,MATCH(LARGE(Calculations!$AY$4:$AY$310,33),Calculations!$AY$4:$AY$310,0)),""))} -> 2
A76: {=IF(LARGE(Calculations!$BE$4:$BE$310,16)<0,"",IFERROR(INDEX(Calculations!$BA$4:$BA$310,MATCH(LARGE(Calculations!$BE$4:$BE$310,16),Calculations!$BE$4:$BE$310,0)),""))} | B76: {=IF(LARGE(Calculations!$BE$4:$BE$310,16)<0,"",IFERROR(INDEX(Calculations!$BB$4:$BB$310,MATCH(LARGE(Calculations!$BE$4:$BE$310,16),Calculations!$BE$4:$BE$310,0)),""))} | C76: {=IF(LARGE(Calculations!$BE$4:$BE$310,16)<0,"",IFERROR(INDEX(Calculations!$BC$4:$BC$310,MATCH(LARGE(Calculations!$BE$4:$BE$310,16),Calculations!$BE$4:$BE$310,0)),""))} | D76: {=IF(LARGE(Calculations!$BE$4:$BE$310,16)<0,"",IFERROR(INDEX(Calculations!$BD$4:$BD$310,MATCH(LARGE(Calculations!$BE$4:$BE$310,16),Calculations!$BE$4:$BE$310,0)),""))} | F76: {=IF(LARGE(Calculations!$AY$4:$AY$310,34)<0,"",IFERROR(INDEX(Calculations!$AU$4:$AU$310,MATCH(LARGE(Calculations!$AY$4:$AY$310,34),Calculations!$AY$4:$AY$310,0)),""))} -> Sabine's gull | G76: {=IF(LARGE(Calculations!$AY$4:$AY$310,34)<0,"",IFERROR(INDEX(Calculations!$AV$4:$AV$310,MATCH(LARGE(Calculations!$AY$4:$AY$310,34),Calculations!$AY$4:$AY$310,0)),""))} -> Sweden | H76: {=IF(LARGE(Calculations!$AY$4:$AY$310,34)<0,"",IFERROR(INDEX(Calculations!$AW$4:$AW$310,MATCH(LARGE(Calculations!$AY$4:$AY$310,34),Calculations!$AY$4:$AY$310,0)),""))} -> Sweden: Kasper Wieck | I76: {=IF(LARGE(Calculations!$AY$4:$AY$310,34)<0,"",IFERROR(INDEX(Calculations!$AX$4:$AX$310,MATCH(LARGE(Calculations!$AY$4:$AY$310,34),Calculations!$AY$4:$AY$310,0)),""))} -> 2
A77: {=IF(LARGE(Calculations!$BE$4:$BE$310,17)<0,"",IFERROR(INDEX(Calculations!$BA$4:$BA$310,MATCH(LARGE(Calculations!$BE$4:$BE$310,17),Calculations!$BE$4:$BE$310,0)),""))} | B77: {=IF(LARGE(Calculations!$BE$4:$BE$310,17)<0,"",IFERROR(INDEX(Calculations!$BB$4:$BB$310,MATCH(LARGE(Calculations!$BE$4:$BE$310,17),Calculations!$BE$4:$BE$310,0)),""))} | C77: {=IF(LARGE(Calculations!$BE$4:$BE$310,17)<0,"",IFERROR(INDEX(Calculations!$BC$4:$BC$310,MATCH(LARGE(Calculations!$BE$4:$BE$310,17),Calculations!$BE$4:$BE$310,0)),""))} | D77: {=IF(LARGE(Calculations!$BE$4:$BE$310,17)<0,"",IFERROR(INDEX(Calculations!$BD$4:$BD$310,MATCH(LARGE(Calculations!$BE$4:$BE$310,17),Calculations!$BE$4:$BE$310,0)),""))} | F77: {=IF(LARGE(Calculations!$AY$4:$AY$310,35)<0,"",IFERROR(INDEX(Calculations!$AU$4:$AU$310,MATCH(LARGE(Calculations!$AY$4:$AY$310,35),Calculations!$AY$4:$AY$310,0)),""))} -> Eurasian pygmy owl | G77: {=IF(LARGE(Calculations!$AY$4:$AY$310,35)<0,"",IFERROR(INDEX(Calculations!$AV$4:$AV$310,MATCH(LARGE(Calculations!$AY$4:$AY$310,35),Calculations!$AY$4:$AY$310,0)),""))} -> Finland | H77: {=IF(LARGE(Calculations!$AY$4:$AY$310,35)<0,"",IFERROR(INDEX(Calculations!$AW$4:$AW$310,MATCH(LARGE(Calculations!$AY$4:$AY$310,35),Calculations!$AY$4:$AY$310,0)),""))} -> Finland: David Enkvist | I77: {=IF(LARGE(Calculations!$AY$4:$AY$310,35)<0,"",IFERROR(INDEX(Calculations!$AX$4:$AX$310,MATCH(LARGE(Calculations!$AY$4:$AY$310,35),Calculations!$AY$4:$AY$310,0)),""))} -> 2
A78: {=IF(LARGE(Calculations!$BE$4:$BE$310,18)<0,"",IFERROR(INDEX(Calculations!$BA$4:$BA$310,MATCH(LARGE(Calculations!$BE$4:$BE$310,18),Calculations!$BE$4:$BE$310,0)),""))} | B78: {=IF(LARGE(Calculations!$BE$4:$BE$310,18)<0,"",IFERROR(INDEX(Calculations!$BB$4:$BB$310,MATCH(LARGE(Calculations!$BE$4:$BE$310,18),Calculations!$BE$4:$BE$310,0)),""))} | C78: {=IF(LARGE(Calculations!$BE$4:$BE$310,18)<0,"",IFERROR(INDEX(Calculations!$BC$4:$BC$310,MATCH(LARGE(Calculations!$BE$4:$BE$310,18),Calculations!$BE$4:$BE$310,0)),""))} | D78: {=IF(LARGE(Calculations!$BE$4:$BE$310,18)<0,"",IFERROR(INDEX(Calculations!$BD$4:$BD$310,MATCH(LARGE(Calculations!$BE$4:$BE$310,18),Calculations!$BE$4:$BE$310,0)),""))} | F78: {=IF(LARGE(Calculations!$AY$4:$AY$310,36)<0,"",IFERROR(INDEX(Calculations!$AU$4:$AU$310,MATCH(LARGE(Calculations!$AY$4:$AY$310,36),Calculations!$AY$4:$AY$310,0)),""))} -> Tawny owl | G78: {=IF(LARGE(Calculations!$AY$4:$AY$310,36)<0,"",IFERROR(INDEX(Calculations!$AV$4:$AV$310,MATCH(LARGE(Calculations!$AY$4:$AY$310,36),Calculations!$AY$4:$AY$310,0)),""))} -> Finland Sweden | H78: {=IF(LARGE(Calculations!$AY$4:$AY$310,36)<0,"",IFERROR(INDEX(Calculations!$AW$4:$AW$310,MATCH(LARGE(Calculations!$AY$4:$AY$310,36),Calculations!$AY$4:$AY$310,0)),""))} -> Finland: Nico N Sweden: Malte Lindberg | I78: {=IF(LARGE(Calculations!$AY$4:$AY$310,36)<0,"",IFERROR(INDEX(Calculations!$AX$4:$AX$310,MATCH(LARGE(Calculations!$AY$4:$AY$310,36),Calculations!$AY$4:$AY$310,0)),""))} -> 2
A79: {=IF(LARGE(Calculations!$BE$4:$BE$310,19)<0,"",IFERROR(INDEX(Calculations!$BA$4:$BA$310,MATCH(LARGE(Calculations!$BE$4:$BE$310,19),Calculations!$BE$4:$BE$310,0)),""))} | B79: {=IF(LARGE(Calculations!$BE$4:$BE$310,19)<0,"",IFERROR(INDEX(Calculations!$BB$4:$BB$310,MATCH(LARGE(Calculations!$BE$4:$BE$310,19),Calculations!$BE$4:$BE$310,0)),""))} | C79: {=IF(LARGE(Calculations!$BE$4:$BE$310,19)<0,"",IFERROR(INDEX(Calculations!$BC$4:$BC$310,MATCH(LARGE(Calculations!$BE$4:$BE$310,19),Calculations!$BE$4:$BE$310,0)),""))} | D79: {=IF(LARGE(Calculations!$BE$4:$BE$310,19)<0,"",IFERROR(INDEX(Calculations!$BD$4:$BD$310,MATCH(LARGE(Calculations!$BE$4:$BE$310,19),Calculations!$BE$4:$BE$310,0)),""))} | F79: {=IF(LARGE(Calculations!$AY$4:$AY$310,37)<0,"",IFERROR(INDEX(Calculations!$AU$4:$AU$310,MATCH(LARGE(Calculations!$AY$4:$AY$310,37),Calculations!$AY$4:$AY$310,0)),""))} -> Short-eared owl | G79: {=IF(LARGE(Calculations!$AY$4:$AY$310,37)<0,"",IFERROR(INDEX(Calculations!$AV$4:$AV$310,MATCH(LARGE(Calculations!$AY$4:$AY$310,37),Calculations!$AY$4:$AY$310,0)),""))} -> Finland | H79: {=IF(LARGE(Calculations!$AY$4:$AY$310,37)<0,"",IFERROR(INDEX(Calculations!$AW$4:$AW$310,MATCH(LARGE(Calculations!$AY$4:$AY$310,37),Calculations!$AY$4:$AY$310,0)),""))} -> Finland: David Enkvist | I79: {=IF(LARGE(Calculations!$AY$4:$AY$310,37)<0,"",IFERROR(INDEX(Calculations!$AX$4:$AX$310,MATCH(LARGE(Calculations!$AY$4:$AY$310,37),Calculations!$AY$4:$AY$310,0)),""))} -> 2
A80: {=IF(LARGE(Calculations!$BE$4:$BE$310,20)<0,"",IFERROR(INDEX(Calculations!$BA$4:$BA$310,MATCH(LARGE(Calculations!$BE$4:$BE$310,20),Calculations!$BE$4:$BE$310,0)),""))} | B80: {=IF(LARGE(Calculations!$BE$4:$BE$310,20)<0,"",IFERROR(INDEX(Calculations!$BB$4:$BB$310,MATCH(LARGE(Calculations!$BE$4:$BE$310,20),Calculations!$BE$4:$BE$310,0)),""))} | C80: {=IF(LARGE(Calculations!$BE$4:$BE$310,20)<0,"",IFERROR(INDEX(Calculations!$BC$4:$BC$310,MATCH(LARGE(Calculations!$BE$4:$BE$310,20),Calculations!$BE$4:$BE$310,0)),""))} | D80: {=IF(LARGE(Calculations!$BE$4:$BE$310,20)<0,"",IFERROR(INDEX(Calculations!$BD$4:$BD$310,MATCH(LARGE(Calculations!$BE$4:$BE$310,20),Calculations!$BE$4:$BE$310,0)),""))} | F80: {=IF(LARGE(Calculations!$AY$4:$AY$310,38)<0,"",IFERROR(INDEX(Calculations!$AU$4:$AU$310,MATCH(LARGE(Calculations!$AY$4:$AY$310,38),Calculations!$AY$4:$AY$310,0)),""))} -> Common swift | G80: {=IF(LARGE(Calculations!$AY$4:$AY$310,38)<0,"",IFERROR(INDEX(Calculations!$AV$4:$AV$310,MATCH(LARGE(Calculations!$AY$4:$AY$310,38),Calculations!$AY$4:$AY$310,0)),""))} -> Finland Sweden | H80: {=IF(LARGE(Calculations!$AY$4:$AY$310,38)<0,"",IFERROR(INDEX(Calculations!$AW$4:$AW$310,MATCH(LARGE(Calculations!$AY$4:$AY$310,38),Calculations!$AY$4:$AY$310,0)),""))} -> Finland: Tuomas Meriläinen Sweden: Hugo Isaksson o Liam Gustafsson | I80: {=IF(LARGE(Calculations!$AY$4:$AY$310,38)<0,"",IFERROR(INDEX(Calculations!$AX$4:$AX$310,MATCH(LARGE(Calculations!$AY$4:$AY$310,38),Calculations!$AY$4:$AY$310,0)),""))} -> 2
A81: {=IF(LARGE(Calculations!$BE$4:$BE$310,21)<0,"",IFERROR(INDEX(Calculations!$BA$4:$BA$310,MATCH(LARGE(Calculations!$BE$4:$BE$310,21),Calculations!$BE$4:$BE$310,0)),""))} | B81: {=IF(LARGE(Calculations!$BE$4:$BE$310,21)<0,"",IFERROR(INDEX(Calculations!$BB$4:$BB$310,MATCH(LARGE(Calculations!$BE$4:$BE$310,21),Calculations!$BE$4:$BE$310,0)),""))} | C81: {=IF(LARGE(Calculations!$BE$4:$BE$310,21)<0,"",IFERROR(INDEX(Calculations!$BC$4:$BC$310,MATCH(LARGE(Calculations!$BE$4:$BE$310,21),Calculations!$BE$4:$BE$310,0)),""))} | D81: {=IF(LARGE(Calculations!$BE$4:$BE$310,21)<0,"",IFERROR(INDEX(Calculations!$BD$4:$BD$310,MATCH(LARGE(Calculations!$BE$4:$BE$310,21),Calculations!$BE$4:$BE$310,0)),""))} | F81: {=IF(LARGE(Calculations!$AY$4:$AY$310,39)<0,"",IFERROR(INDEX(Calculations!$AU$4:$AU$310,MATCH(LARGE(Calculations!$AY$4:$AY$310,39),Calculations!$AY$4:$AY$310,0)),""))} -> Common redstart | G81: {=IF(LARGE(Calculations!$AY$4:$AY$310,39)<0,"",IFERROR(INDEX(Calculations!$AV$4:$AV$310,MATCH(LARGE(Calculations!$AY$4:$AY$310,39),Calculations!$AY$4:$AY$310,0)),""))} -> Finland | H81: {=IF(LARGE(Calculations!$AY$4:$AY$310,39)<0,"",IFERROR(INDEX(Calculations!$AW$4:$AW$310,MATCH(LARGE(Calculations!$AY$4:$AY$310,39),Calculations!$AY$4:$AY$310,0)),""))} -> Finland: Veeti Räty | I81: {=IF(LARGE(Calculations!$AY$4:$AY$310,39)<0,"",IFERROR(INDEX(Calculations!$AX$4:$AX$310,MATCH(LARGE(Calculations!$AY$4:$AY$310,39),Calculations!$AY$4:$AY$310,0)),""))} -> 2
A82: {=IF(LARGE(Calculations!$BE$4:$BE$310,22)<0,"",IFERROR(INDEX(Calculations!$BA$4:$BA$310,MATCH(LARGE(Calculations!$BE$4:$BE$310,22),Calculations!$BE$4:$BE$310,0)),""))} | B82: {=IF(LARGE(Calculations!$BE$4:$BE$310,22)<0,"",IFERROR(INDEX(Calculations!$BB$4:$BB$310,MATCH(LARGE(Calculations!$BE$4:$BE$310,22),Calculations!$BE$4:$BE$310,0)),""))} | C82: {=IF(LARGE(Calculations!$BE$4:$BE$310,22)<0,"",IFERROR(INDEX(Calculations!$BC$4:$BC$310,MATCH(LARGE(Calculations!$BE$4:$BE$310,22),Calculations!$BE$4:$BE$310,0)),""))} | D82: {=IF(LARGE(Calculations!$BE$4:$BE$310,22)<0,"",IFERROR(INDEX(Calculations!$BD$4:$BD$310,MATCH(LARGE(Calculations!$BE$4:$BE$310,22),Calculations!$BE$4:$BE$310,0)),""))} | F82: =IF(LARGE(Calculations!$AY$4:$AY$310,40)<0,"",IFERROR(INDEX(Calculations!$AU$4:$AU$310,MATCH(LARGE(Calculations!$AY$4:$AY$310,40),Calculations!$AY$4:$AY$310,0)),"")) -> Sedge warbler | G82: {=IF(LARGE(Calculations!$AY$4:$AY$310,40)<0,"",IFERROR(INDEX(Calculations!$AV$4:$AV$310,MATCH(LARGE(Calculations!$AY$4:$AY$310,40),Calculations!$AY$4:$AY$310,0)),""))} -> Finland | H82: {=IF(LARGE(Calculations!$AY$4:$AY$310,40)<0,"",IFERROR(INDEX(Calculations!$AW$4:$AW$310,MATCH(LARGE(Calculations!$AY$4:$AY$310,40),Calculations!$AY$4:$AY$310,0)),""))} -> Finland: Viljami Selander | I82: {=IF(LARGE(Calculations!$AY$4:$AY$310,40)<0,"",IFERROR(INDEX(Calculations!$AX$4:$AX$310,MATCH(LARGE(Calculations!$AY$4:$AY$310,40),Calculations!$AY$4:$AY$310,0)),""))} -> 2
A83: {=IF(LARGE(Calculations!$BE$4:$BE$310,23)<0,"",IFERROR(INDEX(Calculations!$BA$4:$BA$310,MATCH(LARGE(Calculations!$BE$4:$BE$310,23),Calculations!$BE$4:$BE$310,0)),""))} | B83: {=IF(LARGE(Calculations!$BE$4:$BE$310,23)<0,"",IFERROR(INDEX(Calculations!$BB$4:$BB$310,MATCH(LARGE(Calculations!$BE$4:$BE$310,23),Calculations!$BE$4:$BE$310,0)),""))} | C83: {=IF(LARGE(Calculations!$BE$4:$BE$310,23)<0,"",IFERROR(INDEX(Calculations!$BC$4:$BC$310,MATCH(LARGE(Calculations!$BE$4:$BE$310,23),Calculations!$BE$4:$BE$310,0)),""))} | D83: {=IF(LARGE(Calculations!$BE$4:$BE$310,23)<0,"",IFERROR(INDEX(Calculations!$BD$4:$BD$310,MATCH(LARGE(Calculations!$BE$4:$BE$310,23),Calculations!$BE$4:$BE$310,0)),""))}
A84: {=IF(LARGE(Calculations!$BE$4:$BE$310,24)<0,"",IFERROR(INDEX(Calculations!$BA$4:$BA$310,MATCH(LARGE(Calculations!$BE$4:$BE$310,24),Calculations!$BE$4:$BE$310,0)),""))}
A85: {=IF(LARGE(Calculations!$BE$4:$BE$310,25)<0,"",IFERROR(INDEX(Calculations!$BA$4:$BA$310,MATCH(LARGE(Calculations!$BE$4:$BE$310,25),Calculations!$BE$4:$BE$310,0)),""))} | B85: {=IF(LARGE(Calculations!$BE$4:$BE$310,25)<0,"",IFERROR(INDEX(Calculations!$BB$4:$BB$310,MATCH(LARGE(Calculations!$BE$4:$BE$310,25),Calculations!$BE$4:$BE$310,0)),""))} | C85: {=IF(LARGE(Calculations!$BE$4:$BE$310,25)<0,"",IFERROR(INDEX(Calculations!$BC$4:$BC$310,MATCH(LARGE(Calculations!$BE$4:$BE$310,25),Calculations!$BE$4:$BE$310,0)),""))} | D85: {=IF(LARGE(Calculations!$BE$4:$BE$310,25)<0,"",IFERROR(INDEX(Calculations!$BD$4:$BD$310,MATCH(LARGE(Calculations!$BE$4:$BE$310,25),Calculations!$BE$4:$BE$310,0)),""))}
A86: {=IF(LARGE(Calculations!$BE$4:$BE$310,26)<0,"",IFERROR(INDEX(Calculations!$BA$4:$BA$310,MATCH(LARGE(Calculations!$BE$4:$BE$310,26),Calculations!$BE$4:$BE$310,0)),""))} | B86: {=IF(LARGE(Calculations!$BE$4:$BE$310,26)<0,"",IFERROR(INDEX(Calculations!$BB$4:$BB$310,MATCH(LARGE(Calculations!$BE$4:$BE$310,26),Calculations!$BE$4:$BE$310,0)),""))} | C86: {=IF(LARGE(Calculations!$BE$4:$BE$310,26)<0,"",IFERROR(INDEX(Calculations!$BC$4:$BC$310,MATCH(LARGE(Calculations!$BE$4:$BE$310,26),Calculations!$BE$4:$BE$310,0)),""))} | D86: {=IF(LARGE(Calculations!$BE$4:$BE$310,26)<0,"",IFERROR(INDEX(Calculations!$BD$4:$BD$310,MATCH(LARGE(Calculations!$BE$4:$BE$310,26),Calculations!$BE$4:$BE$310,0)),""))}
A87: {=IF(LARGE(Calculations!$BE$4:$BE$310,27)<0,"",IFERROR(INDEX(Calculations!$BA$4:$BA$310,MATCH(LARGE(Calculations!$BE$4:$BE$310,27),Calculations!$BE$4:$BE$310,0)),""))} | B87: {=IF(LARGE(Calculations!$BE$4:$BE$310,27)<0,"",IFERROR(INDEX(Calculations!$BB$4:$BB$310,MATCH(LARGE(Calculations!$BE$4:$BE$310,27),Calculations!$BE$4:$BE$310,0)),""))} | C87: {=IF(LARGE(Calculations!$BE$4:$BE$310,27)<0,"",IFERROR(INDEX(Calculations!$BC$4:$BC$310,MATCH(LARGE(Calculations!$BE$4:$BE$310,27),Calculations!$BE$4:$BE$310,0)),""))} | D87: {=IF(LARGE(Calculations!$BE$4:$BE$310,27)<0,"",IFERROR(INDEX(Calculations!$BD$4:$BD$310,MATCH(LARGE(Calculations!$BE$4:$BE$310,27),Calculations!$BE$4:$BE$310,0)),""))}
A88: {=IF(LARGE(Calculations!$BE$4:$BE$310,28)<0,"",IFERROR(INDEX(Calculations!$BA$4:$BA$310,MATCH(LARGE(Calculations!$BE$4:$BE$310,28),Calculations!$BE$4:$BE$310,0)),""))} | B88: {=IF(LARGE(Calculations!$BE$4:$BE$310,28)<0,"",IFERROR(INDEX(Calculations!$BB$4:$BB$310,MATCH(LARGE(Calculations!$BE$4:$BE$310,28),Calculations!$BE$4:$BE$310,0)),""))} | C88: {=IF(LARGE(Calculations!$BE$4:$BE$310,28)<0,"",IFERROR(INDEX(Calculations!$BC$4:$BC$310,MATCH(LARGE(Calculations!$BE$4:$BE$310,28),Calculations!$BE$4:$BE$310,0)),""))} | D88: {=IF(LARGE(Calculations!$BE$4:$BE$310,28)<0,"",IFERROR(INDEX(Calculations!$BD$4:$BD$310,MATCH(LARGE(Calculations!$BE$4:$BE$310,28),Calculations!$BE$4:$BE$310,0)),""))}
A89: {=IF(LARGE(Calculations!$BE$4:$BE$310,29)<0,"",IFERROR(INDEX(Calculations!$BA$4:$BA$310,MATCH(LARGE(Calculations!$BE$4:$BE$310,29),Calculations!$BE$4:$BE$310,0)),""))} | B89: {=IF(LARGE(Calculations!$BE$4:$BE$310,29)<0,"",IFERROR(INDEX(Calculations!$BB$4:$BB$310,MATCH(LARGE(Calculations!$BE$4:$BE$310,29),Calculations!$BE$4:$BE$310,0)),""))} | C89: {=IF(LARGE(Calculations!$BE$4:$BE$310,29)<0,"",IFERROR(INDEX(Calculations!$BC$4:$BC$310,MATCH(LARGE(Calculations!$BE$4:$BE$310,29),Calculations!$BE$4:$BE$310,0)),""))} | D89: {=IF(LARGE(Calculations!$BE$4:$BE$310,29)<0,"",IFERROR(INDEX(Calculations!$BD$4:$BD$310,MATCH(LARGE(Calculations!$BE$4:$BE$310,29),Calculations!$BE$4:$BE$310,0)),""))}
A90: {=IF(LARGE(Calculations!$BE$4:$BE$310,30)<0,"",IFERROR(INDEX(Calculations!$BA$4:$BA$310,MATCH(LARGE(Calculations!$BE$4:$BE$310,30),Calculations!$BE$4:$BE$310,0)),""))} | B90: {=IF(LARGE(Calculations!$BE$4:$BE$310,30)<0,"",IFERROR(INDEX(Calculations!$BB$4:$BB$310,MATCH(LARGE(Calculations!$BE$4:$BE$310,30),Calculations!$BE$4:$BE$310,0)),""))} | C90: {=IF(LARGE(Calculations!$BE$4:$BE$310,30)<0,"",IFERROR(INDEX(Calculations!$BC$4:$BC$310,MATCH(LARGE(Calculations!$BE$4:$BE$310,30),Calculations!$BE$4:$BE$310,0)),""))} | D90: {=IF(LARGE(Calculations!$BE$4:$BE$310,30)<0,"",IFERROR(INDEX(Calculations!$BD$4:$BD$310,MATCH(LARGE(Calculations!$BE$4:$BE$310,30),Calculations!$BE$4:$BE$310,0)),""))}
A91: {=IF(LARGE(Calculations!$BE$4:$BE$310,31)<0,"",IFERROR(INDEX(Calculations!$BA$4:$BA$310,MATCH(LARGE(Calculations!$BE$4:$BE$310,31),Calculations!$BE$4:$BE$310,0)),""))} | B91: {=IF(LARGE(Calculations!$BE$4:$BE$310,31)<0,"",IFERROR(INDEX(Calculations!$BB$4:$BB$310,MATCH(LARGE(Calculations!$BE$4:$BE$310,31),Calculations!$BE$4:$BE$310,0)),""))} | C91: {=IF(LARGE(Calculations!$BE$4:$BE$310,31)<0,"",IFERROR(INDEX(Calculations!$BC$4:$BC$310,MATCH(LARGE(Calculations!$BE$4:$BE$310,31),Calculations!$BE$4:$BE$310,0)),""))} | D91: {=IF(LARGE(Calculations!$BE$4:$BE$310,31)<0,"",IFERROR(INDEX(Calculations!$BD$4:$BD$310,MATCH(LARGE(Calculations!$BE$4:$BE$310,31),Calculations!$BE$4:$BE$310,0)),""))}
A92: {=IF(LARGE(Calculations!$BE$4:$BE$310,32)<0,"",IFERROR(INDEX(Calculations!$BA$4:$BA$310,MATCH(LARGE(Calculations!$BE$4:$BE$310,32),Calculations!$BE$4:$BE$310,0)),""))} | B92: {=IF(LARGE(Calculations!$BE$4:$BE$310,32)<0,"",IFERROR(INDEX(Calculations!$BB$4:$BB$310,MATCH(LARGE(Calculations!$BE$4:$BE$310,32),Calculations!$BE$4:$BE$310,0)),""))} | C92: {=IF(LARGE(Calculations!$BE$4:$BE$310,32)<0,"",IFERROR(INDEX(Calculations!$BC$4:$BC$310,MATCH(LARGE(Calculations!$BE$4:$BE$310,32),Calculations!$BE$4:$BE$310,0)),""))} | D92: {=IF(LARGE(Calculations!$BE$4:$BE$310,32)<0,"",IFERROR(INDEX(Calculations!$BD$4:$BD$310,MATCH(LARGE(Calculations!$BE$4:$BE$310,32),Calculations!$BE$4:$BE$310,0)),""))}
A93: {=IF(LARGE(Calculations!$BE$4:$BE$310,33)<0,"",IFERROR(INDEX(Calculations!$BA$4:$BA$310,MATCH(LARGE(Calculations!$BE$4:$BE$310,33),Calculations!$BE$4:$BE$310,0)),""))} | B93: {=IF(LARGE(Calculations!$BE$4:$BE$310,33)<0,"",IFERROR(INDEX(Calculations!$BB$4:$BB$310,MATCH(LARGE(Calculations!$BE$4:$BE$310,33),Calculations!$BE$4:$BE$310,0)),""))} | C93: {=IF(LARGE(Calculations!$BE$4:$BE$310,33)<0,"",IFERROR(INDEX(Calculations!$BC$4:$BC$310,MATCH(LARGE(Calculations!$BE$4:$BE$310,33),Calculations!$BE$4:$BE$310,0)),""))} | D93: {=IF(LARGE(Calculations!$BE$4:$BE$310,33)<0,"",IFERROR(INDEX(Calculations!$BD$4:$BD$310,MATCH(LARGE(Calculations!$BE$4:$BE$310,33),Calculations!$BE$4:$BE$310,0)),""))}
A94: {=IF(LARGE(Calculations!$BE$4:$BE$310,34)<0,"",IFERROR(INDEX(Calculations!$BA$4:$BA$310,MATCH(LARGE(Calculations!$BE$4:$BE$310,34),Calculations!$BE$4:$BE$310,0)),""))} | B94: {=IF(LARGE(Calculations!$BE$4:$BE$310,34)<0,"",IFERROR(INDEX(Calculations!$BB$4:$BB$310,MATCH(LARGE(Calculations!$BE$4:$BE$310,34),Calculations!$BE$4:$BE$310,0)),""))} | C94: {=IF(LARGE(Calculations!$BE$4:$BE$310,34)<0,"",IFERROR(INDEX(Calculations!$BC$4:$BC$310,MATCH(LARGE(Calculations!$BE$4:$BE$310,34),Calculations!$BE$4:$BE$310,0)),""))} | D94: {=IF(LARGE(Calculations!$BE$4:$BE$310,34)<0,"",IFERROR(INDEX(Calculations!$BD$4:$BD$310,MATCH(LARGE(Calculations!$BE$4:$BE$310,34),Calculations!$BE$4:$BE$310,0)),""))}
A95: {=IF(LARGE(Calculations!$BE$4:$BE$310,35)<0,"",IFERROR(INDEX(Calculations!$BA$4:$BA$310,MATCH(LARGE(Calculations!$BE$4:$BE$310,35),Calculations!$BE$4:$BE$310,0)),""))} | B95: {=IF(LARGE(Calculations!$BE$4:$BE$310,35)<0,"",IFERROR(INDEX(Calculations!$BB$4:$BB$310,MATCH(LARGE(Calculations!$BE$4:$BE$310,35),Calculations!$BE$4:$BE$310,0)),""))} | C95: {=IF(LARGE(Calculations!$BE$4:$BE$310,35)<0,"",IFERROR(INDEX(Calculations!$BC$4:$BC$310,MATCH(LARGE(Calculations!$BE$4:$BE$310,35),Calculations!$BE$4:$BE$310,0)),""))} | D95: {=IF(LARGE(Calculations!$BE$4:$BE$310,35)<0,"",IFERROR(INDEX(Calculations!$BD$4:$BD$310,MATCH(LARGE(Calculations!$BE$4:$BE$310,35),Calculations!$BE$4:$BE$310,0)),""))}
A96: {=IF(LARGE(Calculations!$BE$4:$BE$310,36)<0,"",IFERROR(INDEX(Calculations!$BA$4:$BA$310,MATCH(LARGE(Calculations!$BE$4:$BE$310,36),Calculations!$BE$4:$BE$310,0)),""))} | B96: {=IF(LARGE(Calculations!$BE$4:$BE$310,36)<0,"",IFERROR(INDEX(Calculations!$BB$4:$BB$310,MATCH(LARGE(Calculations!$BE$4:$BE$310,36),Calculations!$BE$4:$BE$310,0)),""))} | C96: {=IF(LARGE(Calculations!$BE$4:$BE$310,36)<0,"",IFERROR(INDEX(Calculations!$BC$4:$BC$310,MATCH(LARGE(Calculations!$BE$4:$BE$310,36),Calculations!$BE$4:$BE$310,0)),""))} | D96: {=IF(LARGE(Calculations!$BE$4:$BE$310,36)<0,"",IFERROR(INDEX(Calculations!$BD$4:$BD$310,MATCH(LARGE(Calculations!$BE$4:$BE$310,36),Calculations!$BE$4:$BE$310,0)),""))}
A97: {=IF(LARGE(Calculations!$BE$4:$BE$310,37)<0,"",IFERROR(INDEX(Calculations!$BA$4:$BA$310,MATCH(LARGE(Calculations!$BE$4:$BE$310,37),Calculations!$BE$4:$BE$310,0)),""))} | B97: {=IF(LARGE(Calculations!$BE$4:$BE$310,37)<0,"",IFERROR(INDEX(Calculations!$BB$4:$BB$310,MATCH(LARGE(Calculations!$BE$4:$BE$310,37),Calculations!$BE$4:$BE$310,0)),""))} | C97: {=IF(LARGE(Calculations!$BE$4:$BE$310,37)<0,"",IFERROR(INDEX(Calculations!$BC$4:$BC$310,MATCH(LARGE(Calculations!$BE$4:$BE$310,37),Calculations!$BE$4:$BE$310,0)),""))} | D97: {=IF(LARGE(Calculations!$BE$4:$BE$310,37)<0,"",IFERROR(INDEX(Calculations!$BD$4:$BD$310,MATCH(LARGE(Calculations!$BE$4:$BE$310,37),Calculations!$BE$4:$BE$310,0)),""))}
A98: {=IF(LARGE(Calculations!$BE$4:$BE$310,38)<0,"",IFERROR(INDEX(Calculations!$BA$4:$BA$310,MATCH(LARGE(Calculations!$BE$4:$BE$310,38),Calculations!$BE$4:$BE$310,0)),""))} | B98: {=IF(LARGE(Calculations!$BE$4:$BE$310,38)<0,"",IFERROR(INDEX(Calculations!$BB$4:$BB$310,MATCH(LARGE(Calculations!$BE$4:$BE$310,38),Calculations!$BE$4:$BE$310,0)),""))} | C98: {=IF(LARGE(Calculations!$BE$4:$BE$310,38)<0,"",IFERROR(INDEX(Calculations!$BC$4:$BC$310,MATCH(LARGE(Calculations!$BE$4:$BE$310,38),Calculations!$BE$4:$BE$310,0)),""))} | D98: {=IF(LARGE(Calculations!$BE$4:$BE$310,38)<0,"",IFERROR(INDEX(Calculations!$BD$4:$BD$310,MATCH(LARGE(Calculations!$BE$4:$BE$310,38),Calculations!$BE$4:$BE$310,0)),""))}
A99: {=IF(LARGE(Calculations!$BE$4:$BE$310,39)<0,"",IFERROR(INDEX(Calculations!$BA$4:$BA$310,MATCH(LARGE(Calculations!$BE$4:$BE$310,39),Calculations!$BE$4:$BE$310,0)),""))} | B99: {=IF(LARGE(Calculations!$BE$4:$BE$310,39)<0,"",IFERROR(INDEX(Calculations!$BB$4:$BB$310,MATCH(LARGE(Calculations!$BE$4:$BE$310,39),Calculations!$BE$4:$BE$310,0)),""))} | C99: {=IF(LARGE(Calculations!$BE$4:$BE$310,39)<0,"",IFERROR(INDEX(Calculations!$BC$4:$BC$310,MATCH(LARGE(Calculations!$BE$4:$BE$310,39),Calculations!$BE$4:$BE$310,0)),""))} | D99: {=IF(LARGE(Calculations!$BE$4:$BE$310,39)<0,"",IFERROR(INDEX(Calculations!$BD$4:$BD$310,MATCH(LARGE(Calculations!$BE$4:$BE$310,39),Calculations!$BE$4:$BE$310,0)),""))}
A100: {=IF(LARGE(Calculations!$BE$4:$BE$310,40)<0,"",IFERROR(INDEX(Calculations!$BA$4:$BA$310,MATCH(LARGE(Calculations!$BE$4:$BE$310,40),Calculations!$BE$4:$BE$310,0)),""))} | B100: {=IF(LARGE(Calculations!$BE$4:$BE$310,40)<0,"",IFERROR(INDEX(Calculations!$BB$4:$BB$310,MATCH(LARGE(Calculations!$BE$4:$BE$310,40),Calculations!$BE$4:$BE$310,0)),""))} | C100: {=IF(LARGE(Calculations!$BE$4:$BE$310,40)<0,"",IFERROR(INDEX(Calculations!$BC$4:$BC$310,MATCH(LARGE(Calculations!$BE$4:$BE$310,40),Calculations!$BE$4:$BE$310,0)),""))} | D100: {=IF(LARGE(Calculations!$BE$4:$BE$310,40)<0,"",IFERROR(INDEX(Calculations!$BD$4:$BD$310,MATCH(LARGE(Calculations!$BE$4:$BE$310,40),Calculations!$BE$4:$BE$310,0)),""))}

Sheet Denmark
A1: Nordic Bird Race 2026 - Denmark
A2: Write participant names in row 4. Mark species with a date, x, or any short note in that person's column. The dashboard counts every non-empty sighting cell.
A4: English name | B4: Danish name | BA4: Seen by | BB4: Unique in country
A5: Mute swan | B5: knopsvane | BA5: =COUNTIF(C5:AZ5,"<>") -> 0 | BB5: =IF(BA5=1,1,0) -> 0
A6: Tundra swan | B6: pibesvane | BA6: =COUNTIF(C6:AZ6,"<>") -> 0 | BB6: =IF(BA6=1,1,0) -> 0
A7: Whooper swan | B7: sangsvane | BA7: =COUNTIF(C7:AZ7,"<>") -> 0 | BB7: =IF(BA7=1,1,0) -> 0
A8: Tundra bean goose | B8: tundrasædgås | BA8: =COUNTIF(C8:AZ8,"<>") -> 0 | BB8: =IF(BA8=1,1,0) -> 0
A9: Pink-footed goose | B9: kortnæbbet gås | BA9: =COUNTIF(C9:AZ9,"<>") -> 0 | BB9: =IF(BA9=1,1,0) -> 0
A10: Taiga bean goose | B10: tajgasædgås | BA10: =COUNTIF(C10:AZ10,"<>") -> 0 | BB10: =IF(BA10=1,1,0) -> 0
A11: Greater white-fronted goose | B11: blisgås | BA11: =COUNTIF(C11:AZ11,"<>") -> 0 | BB11: =IF(BA11=1,1,0) -> 0
A12: Lesser white-fronted goose | B12: dværggås | BA12: =COUNTIF(C12:AZ12,"<>") -> 0 | BB12: =IF(BA12=1,1,0) -> 0
A13: Greylag goose | B13: grågås | BA13: =COUNTIF(C13:AZ13,"<>") -> 0 | BB13: =IF(BA13=1,1,0) -> 0
A14: Canada goose | B14: canadagås | BA14: =COUNTIF(C14:AZ14,"<>") -> 0 | BB14: =IF(BA14=1,1,0) -> 0
A15: Barnacle goose | B15: bramgås | BA15: =COUNTIF(C15:AZ15,"<>") -> 0 | BB15: =IF(BA15=1,1,0) -> 0
A16: Brant goose | B16: knortegås | BA16: =COUNTIF(C16:AZ16,"<>") -> 0 | BB16: =IF(BA16=1,1,0) -> 0
... A307: Short-toed treecreeper | B307: korttået træløber | BA307: =COUNTIF(C307:AZ307,"<>") -> 0 | BB307: =IF(BA307=1,1,0) -> 0
A308: Steppe eagle | BA308: =COUNTIF(C308:AZ308,"<>") -> 0 | BB308: =IF(BA308=1,1,0) -> 0
A309: European storm Petrel | BA309: =COUNTIF(C309:AZ309,"<>") -> 0 | BB309: =IF(BA309=1,1,0) -> 0
A310: American wigeon | B310: amerikansk pibeand | BA310: =COUNTIF(C310:AZ310,"<>") -> 0 | BB310: =IF(BA310=1,1,0) -> 0
A311: Ferruginous duck | BA311: =COUNTIF(C311:AZ311,"<>") -> 0 | BB311: =IF(BA311=1,1,0) -> 0
C312: =COUNTA(C5:C311) -> 0 | D312: =COUNTA(D5:D311) -> 0 | E312: =COUNTA(E5:E311) -> 0 | F312: =COUNTA(F5:F311) -> 0 | G312: =COUNTA(G5:G311) -> 0 | H312: =COUNTA(H5:H311) -> 0 | I312: =COUNTA(I5:I311) -> 0 | J312: =COUNTA(J5:J311) -> 0 | ... AF312: =COUNTA(AF5:AF311) -> 0

Sheet Norway
A1: Nordic Bird Race 2026 - Norway
A2: Write participant names in row 4. Mark species with a date, x, or any short note in that person's column. The dashboard counts every non-empty sighting cell.
A4: English name | B4: Norwegian name | C4: Sine Hagestad | D4: Syver Bratli | E4: Christina Hustvedt Myklebust | F4: Aleksanteri Mikkola | G4: Karen Stølan Nielsen | BA4: Seen by | BB4: Unique in country
A5: Mute swan | B5: knoppsvane | C5: X | D5: X | BA5: =COUNTIF(C5:AZ5,"<>") -> 2 | BB5: =IF(BA5=1,1,0) -> 0
A6: Tundra swan | B6: dvergsvane | BA6: =COUNTIF(C6:AZ6,"<>") -> 0 | BB6: =IF(BA6=1,1,0) -> 0
A7: Whooper swan | B7: sangsvane | BA7: =COUNTIF(C7:AZ7,"<>") -> 0 | BB7: =IF(BA7=1,1,0) -> 0
A8: Tundra bean goose | B8: tundrasædgås | BA8: =COUNTIF(C8:AZ8,"<>") -> 0 | BB8: =IF(BA8=1,1,0) -> 0
A9: Pink-footed goose | B9: kortnebbgås | F9: x | BA9: =COUNTIF(C9:AZ9,"<>") -> 1 | BB9: =IF(BA9=1,1,0) -> 1
A10: Taiga bean goose | B10: taigasædgås | BA10: =COUNTIF(C10:AZ10,"<>") -> 0 | BB10: =IF(BA10=1,1,0) -> 0
A11: Greater white-fronted goose | B11: tundragås | BA11: =COUNTIF(C11:AZ11,"<>") -> 0 | BB11: =IF(BA11=1,1,0) -> 0
A12: Lesser white-fronted goose | B12: dverggås | BA12: =COUNTIF(C12:AZ12,"<>") -> 0 | BB12: =IF(BA12=1,1,0) -> 0
A13: Greylag goose | B13: grågås | C13: X | D13: X | E13: x | BA13: =COUNTIF(C13:AZ13,"<>") -> 3 | BB13: =IF(BA13=1,1,0) -> 0
A14: Canada goose | B14: kanadagås | D14: X | BA14: =COUNTIF(C14:AZ14,"<>") -> 1 | BB14: =IF(BA14=1,1,0) -> 1
A15: Barnacle goose | B15: hvitkinngås | F15: x | BA15: =COUNTIF(C15:AZ15,"<>") -> 1 | BB15: =IF(BA15=1,1,0) -> 1
A16: Brant goose | B16: ringgås | F16: x | BA16: =COUNTIF(C16:AZ16,"<>") -> 1 | BB16: =IF(BA16=1,1,0) -> 1
A17: Red-breasted goose | B17: rødhalsgås | BA17: =COUNTIF(C17:AZ17,"<>") -> 0 | BB17: =IF(BA17=1,1,0) -> 0
A18: Ruddy shelduck | B18: rustand | BA18: =COUNTIF(C18:AZ18,"<>") -> 0 | BB18: =IF(BA18=1,1,0) -> 0
A19: Common shelduck | B19: gravand | G19: x | BA19: =COUNTIF(C19:AZ19,"<>") -> 1 | BB19: =IF(BA19=1,1,0) -> 1
A20: Eurasian wigeon | B20: brunnakke | D20: X | G20: x | BA20: =COUNTIF(C20:AZ20,"<>") -> 2 | BB20: =IF(BA20=1,1,0) -> 0
A21: Gadwall | B21: snadderand | G21: x | BA21: =COUNTIF(C21:AZ21,"<>") -> 1 | BB21: =IF(BA21=1,1,0) -> 1
A22: Common-teal | B22: krikkand | E22: x | BA22: =COUNTIF(C22:AZ22,"<>") -> 1 | BB22: =IF(BA22=1,1,0) -> 1
A23: Mallard | B23: stokkand | D23: X | E23: x | G23: x | BA23: =COUNTIF(C23:AZ23,"<>") -> 3 | BB23: =IF(BA23=1,1,0) -> 0
A24: Northern pintail | B24: stjertand | G24: x | BA24: =COUNTIF(C24:AZ24,"<>") -> 1 | BB24: =IF(BA24=1,1,0) -> 1
A25: Garganey | B25: knekkand | BA25: =COUNTIF(C25:AZ25,"<>") -> 0 | BB25: =IF(BA25=1,1,0) -> 0
A26: Northern shoveler | B26: skjeand | BA26: =COUNTIF(C26:AZ26,"<>") -> 0 | BB26: =IF(BA26=1,1,0) -> 0
A27: Common pochard | B27: taffeland | BA27: =COUNTIF(C27:AZ27,"<>") -> 0 | BB27: =IF(BA27=1,1,0) -> 0
A28: Tufted duck | B28: toppand | D28: X | BA28: =COUNTIF(C28:AZ28,"<>") -> 1 | BB28: =IF(BA28=1,1,0) -> 1
A29: Greater scaup | B29: bergand | BA29: =COUNTIF(C29:AZ29,"<>") -> 0 | BB29: =IF(BA29=1,1,0) -> 0
A30: Common eider | B30: ærfugl | C30: X | D30: X | E30: x | F30: x | G30: x | BA30: =COUNTIF(C30:AZ30,"<>") -> 5 | BB30: =IF(BA30=1,1,0) -> 0
A31: King eider | B31: praktærfugl | BA31: =COUNTIF(C31:AZ31,"<>") -> 0 | BB31: =IF(BA31=1,1,0) -> 0
A32: Steller's eider | B32: stellerand | BA32: =COUNTIF(C32:AZ32,"<>") -> 0 | BB32: =IF(BA32=1,1,0) -> 0
A33: Long-tailed duck | B33: havelle | BA33: =COUNTIF(C33:AZ33,"<>") -> 0 | BB33: =IF(BA33=1,1,0) -> 0
A34: Common scoter | B34: svartand | G34: x | BA34: =COUNTIF(C34:AZ34,"<>") -> 1 | BB34: =IF(BA34=1,1,0) -> 1
A35: Velvet scoter | B35: sjøorre | C35: X | E35: x | G35: x | BA35: =COUNTIF(C35:AZ35,"<>") -> 3 | BB35: =IF(BA35=1,1,0) -> 0
A36: Common goldeneye | B36: kvinand | D36: X | BA36: =COUNTIF(C36:AZ36,"<>") -> 1 | BB36: =IF(BA36=1,1,0) -> 1
A37: Smew | B37: lappfiskand | BA37: =COUNTIF(C37:AZ37,"<>") -> 0 | BB37: =IF(BA37=1,1,0) -> 0
A38: Red-breasted merganser | B38: siland | C38: X | G38: x | BA38: =COUNTIF(C38:AZ38,"<>") -> 2 | BB38: =IF(BA38=1,1,0) -> 0
A39: Common merganser | B39: laksand | BA39: =COUNTIF(C39:AZ39,"<>") -> 0 | BB39: =IF(BA39=1,1,0) -> 0
A40: Hazel grouse | B40: jerpe | BA40: =COUNTIF(C40:AZ40,"<>") -> 0 | BB40: =IF(BA40=1,1,0) -> 0
A41: Willow ptarmigan | B41: lirype | BA41: =COUNTIF(C41:AZ41,"<>") -> 0 | BB41: =IF(BA41=1,1,0) -> 0
A42: Rock ptarmigan | B42: fjellrype | BA42: =COUNTIF(C42:AZ42,"<>") -> 0 | BB42: =IF(BA42=1,1,0) -> 0
A43: Black grouse | B43: orrfugl | BA43: =COUNTIF(C43:AZ43,"<>") -> 0 | BB43: =IF(BA43=1,1,0) -> 0
A44: Western capercaillie | B44: storfugl | BA44: =COUNTIF(C44:AZ44,"<>") -> 0 | BB44: =IF(BA44=1,1,0) -> 0
A45: Grey partridge | B45: rapphøne | BA45: =COUNTIF(C45:AZ45,"<>") -> 0 | BB45: =IF(BA45=1,1,0) -> 0
A46: Common quail | B46: vaktel | BA46: =COUNTIF(C46:AZ46,"<>") -> 0 | BB46: =IF(BA46=1,1,0) -> 0
A47: Common pheasant | B47: Common pheasant | BA47: =COUNTIF(C47:AZ47,"<>") -> 0 | BB47: =IF(BA47=1,1,0) -> 0
A48: Red-throated loon | B48: smålom | BA48: =COUNTIF(C48:AZ48,"<>") -> 0 | BB48: =IF(BA48=1,1,0) -> 0
A49: Black-throated loon | B49: storlom | BA49: =COUNTIF(C49:AZ49,"<>") -> 0 | BB49: =IF(BA49=1,1,0) -> 0
A50: Common loon | B50: islom | BA50: =COUNTIF(C50:AZ50,"<>") -> 0 | BB50: =IF(BA50=1,1,0) -> 0
... A56: Black-necked grebe | B56: svarthalsdykker | BA56: =COUNTIF(C56:AZ56,"<>") -> 0 | BB56: =IF(BA56=1,1,0) -> 0
A57: Northern fulmar | B57: havhest | E57: x | G57: x | BA57: =COUNTIF(C57:AZ57,"<>") -> 2 | BB57: =IF(BA57=1,1,0) -> 0
A58: Sooty shearwater | B58: grålire | BA58: =COUNTIF(C58:AZ58,"<>") -> 0 | BB58: =IF(BA58=1,1,0) -> 0
A59: Manx shearwater | B59: havlire | BA59: =COUNTIF(C59:AZ59,"<>") -> 0 | BB59: =IF(BA59=1,1,0) -> 0
A60: Leach's storm petrel | B60: stormsvale | BA60: =COUNTIF(C60:AZ60,"<>") -> 0 | BB60: =IF(BA60=1,1,0) -> 0
A61: Northern gannet | B61: havsule | C61: X | D61: X | E61: x | G61: x | BA61: =COUNTIF(C61:AZ61,"<>") -> 4 | BB61: =IF(BA61=1,1,0) -> 0
A62: Great cormorant | B62: storskarv | C62: X | D62: X | E62: x | G62: x | BA62: =COUNTIF(C62:AZ62,"<>") -> 4 | BB62: =IF(BA62=1,1,0) -> 0
A63: European shag | B63: toppskarv | C63: X | E63: x | G63: x | BA63: =COUNTIF(C63:AZ63,"<>") -> 3 | BB63: =IF(BA63=1,1,0) -> 0
A64: Eurasian bittern | B64: rørdrum | BA64: =COUNTIF(C64:AZ64,"<>") -> 0 | BB64: =IF(BA64=1,1,0) -> 0
A65: Little egret | B65: silkehegre | BA65: =COUNTIF(C65:AZ65,"<>") -> 0 | BB65: =IF(BA65=1,1,0) -> 0
A66: Great egret | B66: egretthegre | BA66: =COUNTIF(C66:AZ66,"<>") -> 0 | BB66: =IF(BA66=1,1,0) -> 0
A67: Grey heron | B67: gråhegre | C67: X | E67: x | BA67: =COUNTIF(C67:AZ67,"<>") -> 2 | BB67: =IF(BA67=1,1,0) -> 0
A68: Black stork | B68: svartstork | BA68: =COUNTIF(C68:AZ68,"<>") -> 0 | BB68: =IF(BA68=1,1,0) -> 0
A69: White stork | B69: stork | BA69: =COUNTIF(C69:AZ69,"<>") -> 0 | BB69: =IF(BA69=1,1,0) -> 0
A70: European honey buzzard | B70: vepsevåk | BA70: =COUNTIF(C70:AZ70,"<>") -> 0 | BB70: =IF(BA70=1,1,0) -> 0
A71: Black kite | B71: svartglente | BA71: =COUNTIF(C71:AZ71,"<>") -> 0 | BB71: =IF(BA71=1,1,0) -> 0
A72: Red kite | B72: rødglente | BA72: =COUNTIF(C72:AZ72,"<>") -> 0 | BB72: =IF(BA72=1,1,0) -> 0
A73: White-tailed eagle | B73: havørn | BA73: =COUNTIF(C73:AZ73,"<>") -> 0 | BB73: =IF(BA73=1,1,0) -> 0
A74: Eurasian marsh harrier | B74: sivhauk | BA74: =COUNTIF(C74:AZ74,"<>") -> 0 | BB74: =IF(BA74=1,1,0) -> 0
A75: Hen harrier | B75: myrhauk | BA75: =COUNTIF(C75:AZ75,"<>") -> 0 | BB75: =IF(BA75=1,1,0) -> 0
A76: Pallid harrier | B76: steppehauk | BA76: =COUNTIF(C76:AZ76,"<>") -> 0 | BB76: =IF(BA76=1,1,0) -> 0
A77: Montagu's harrier | B77: enghauk | BA77: =COUNTIF(C77:AZ77,"<>") -> 0 | BB77: =IF(BA77=1,1,0) -> 0
A78: Eurasian goshawk | B78: hønsehauk | BA78: =COUNTIF(C78:AZ78,"<>") -> 0 | BB78: =IF(BA78=1,1,0) -> 0
A79: Eurasian sparrowhawk | B79: spurvehauk | BA79: =COUNTIF(C79:AZ79,"<>") -> 0 | BB79: =IF(BA79=1,1,0) -> 0
A80: Common buzzard | B80: musvåk | D80: X | E80: x | BA80: =COUNTIF(C80:AZ80,"<>") -> 2 | BB80: =IF(BA80=1,1,0) -> 0
A81: Rough-legged hawk | B81: fjellvåk | BA81: =COUNTIF(C81:AZ81,"<>") -> 0 | BB81: =IF(BA81=1,1,0) -> 0
A82: Golden eagle | B82: kongeørn | BA82: =COUNTIF(C82:AZ82,"<>") -> 0 | BB82: =IF(BA82=1,1,0) -> 0
A83: Osprey | B83: fiskeørn | BA83: =COUNTIF(C83:AZ83,"<>") -> 0 | BB83: =IF(BA83=1,1,0) -> 0
A84: Common kestrel | B84: tårnfalk | C84: X | D84: X | E84: x | G84: x | BA84: =COUNTIF(C84:AZ84,"<>") -> 4 | BB84: =IF(BA84=1,1,0) -> 0
A85: Red-footed falcon | B85: aftenfalk | BA85: =COUNTIF(C85:AZ85,"<>") -> 0 | BB85: =IF(BA85=1,1,0) -> 0
A86: Merlin | B86: dvergfalk | C86: X | E86: x | G86: x | BA86: =COUNTIF(C86:AZ86,"<>") -> 3 | BB86: =IF(BA86=1,1,0) -> 0
A87: Eurasian hobby | B87: lerkefalk | BA87: =COUNTIF(C87:AZ87,"<>") -> 0 | BB87: =IF(BA87=1,1,0) -> 0
A88: Gyrfalcon | B88: jaktfalk | BA88: =COUNTIF(C88:AZ88,"<>") -> 0 | BB88: =IF(BA88=1,1,0) -> 0
A89: Peregrine falcon | B89: vandrefalk | BA89: =COUNTIF(C89:AZ89,"<>") -> 0 | BB89: =IF(BA89=1,1,0) -> 0
A90: Water rail | B90: vannrikse | BA90: =COUNTIF(C90:AZ90,"<>") -> 0 | BB90: =IF(BA90=1,1,0) -> 0
A91: Spotted crake | B91: myrrikse | BA91: =COUNTIF(C91:AZ91,"<>") -> 0 | BB91: =IF(BA91=1,1,0) -> 0
A92: Corn crake | B92: åkerrikse | BA92: =COUNTIF(C92:AZ92,"<>") -> 0 | BB92: =IF(BA92=1,1,0) -> 0
A93: Common moorhen | B93: sivhøne | BA93: =COUNTIF(C93:AZ93,"<>") -> 0 | BB93: =IF(BA93=1,1,0) -> 0
A94: Eurasian coot | B94: sothøne | BA94: =COUNTIF(C94:AZ94,"<>") -> 0 | BB94: =IF(BA94=1,1,0) -> 0
A95: Common crane | B95: trane | BA95: =COUNTIF(C95:AZ95,"<>") -> 0 | BB95: =IF(BA95=1,1,0) -> 0
A96: Eurasian oystercatcher | B96: tjeld | D96: X | E96: x | BA96: =COUNTIF(C96:AZ96,"<>") -> 2 | BB96: =IF(BA96=1,1,0) -> 0
A97: Pied avocet | B97: avosett | BA97: =COUNTIF(C97:AZ97,"<>") -> 0 | BB97: =IF(BA97=1,1,0) -> 0
A98: Little ringed plover | B98: dverglo | BA98: =COUNTIF(C98:AZ98,"<>") -> 0 | BB98: =IF(BA98=1,1,0) -> 0
A99: Common ringed plover | B99: sandlo | C99: X | D99: X | E99: x | G99: x | BA99: =COUNTIF(C99:AZ99,"<>") -> 4 | BB99: =IF(BA99=1,1,0) -> 0
A100: Kentish plover | B100: hvitbrystlo | BA100: =COUNTIF(C100:AZ100,"<>") -> 0 | BB100: =IF(BA100=1,1,0) -> 0
A101: Eurasian dotterel | B101: boltit | BA101: =COUNTIF(C101:AZ101,"<>") -> 0 | BB101: =IF(BA101=1,1,0) -> 0
A102: European golden plover | B102: heilo | BA102: =COUNTIF(C102:AZ102,"<>") -> 0 | BB102: =IF(BA102=1,1,0) -> 0
A103: Grey plover | B103: tundralo | E103: x | G103: x | BA103: =COUNTIF(C103:AZ103,"<>") -> 2 | BB103: =IF(BA103=1,1,0) -> 0
A104: Northern lapwing | B104: vipe | BA104: =COUNTIF(C104:AZ104,"<>") -> 0 | BB104: =IF(BA104=1,1,0) -> 0
A105: Red knot | B105: polarsnipe | D105: X | G105: x | BA105: =COUNTIF(C105:AZ105,"<>") -> 2 | BB105: =IF(BA105=1,1,0) -> 0
A106: Sanderling | B106: sandløper | BA106: =COUNTIF(C106:AZ106,"<>") -> 0 | BB106: =IF(BA106=1,1,0) -> 0
...

Sheet Finland
A2: Write participant names in row 4. Mark species with a date, x, or any short note in that person's column. The dashboard counts every non-empty sighting cell.
A4: English name | B4: Finnish name | C4: Aino Heikkinen | D4: Eetu Paljakka | E4: Elias Bragge | F4: Teemu Rantanen | G4: Maria Hänninen | H4: Nestori Susiluoma | I4: Patrik Holstila | J4: Kia Varjonen | K4: Eeli Vahtola | L4: Viljami Selander | M4: Pauliina Palmu | N4: Aapo Määttä | O4: Eino Koskenranta | P4: Mikael Särkelä | Q4: Emma H | R4: Julia J | S4: Veeti Varismäki | T4: Eino Jouppila | U4: ELIA Raappana | V4: Justus Lassila | W4: Tuomas Meriläinen | X4: Oskari Mehtätalo | Y4: Jere Eerikäinen | Z4: Severi Heikkilä | AA4: Veeti Räty | AB4: Anika L | AC4: Nico N | AD4: Akseli Piha | AE4: Aleksi A | AF4: Jere H | AG4: David Enkvist | BA4: Seen by | BB4: Unique in country
A5: Mute swan | B5: kyhmyjoutsen | C5: x | D5: x | J5: x | O5: x | P5: X | S5: x | T5: x | U5: x | AB5: x | AD5: x | AE5: x | BA5: =COUNTIF(C5:AZ5,"<>") -> 11 | BB5: =IF(BA5=1,1,0) -> 0
A6: Tundra swan | B6: pikkujoutsen | BA6: =COUNTIF(C6:AZ6,"<>") -> 0 | BB6: =IF(BA6=1,1,0) -> 0
A7: Whooper swan | B7: laulujoutsen | D7: x | G7: x | I7: x | J7: x | K7: x | L7: x | M7: x | N7: x | O7: x | Q7: x | R7: x | S7: x | T7: x | U7: x | V7: X | W7: x | X7: x | Z7: x | AA7: x | AB7: x | AE7: x | AF7: x | AG7: x | BA7: =COUNTIF(C7:AZ7,"<>") -> 23 | BB7: =IF(BA7=1,1,0) -> 0
A8: Tundra bean goose | B8: tundrametsähanhi | S8: x | T8: x | U8: x | BA8: =COUNTIF(C8:AZ8,"<>") -> 3 | BB8: =IF(BA8=1,1,0) -> 0
A9: Pink-footed goose | B9: lyhytnokkahanhi | S9: x | T9: x | U9: x | BA9: =COUNTIF(C9:AZ9,"<>") -> 3 | BB9: =IF(BA9=1,1,0) -> 0
A10: Taiga bean goose | B10: taigametsähanhi | G10: x | J10: x | K10: x | N10: x | S10: x | T10: x | U10: x | AA10: x | BA10: =COUNTIF(C10:AZ10,"<>") -> 8 | BB10: =IF(BA10=1,1,0) -> 0
A11: Greater white-fronted goose | B11: tundrahanhi | BA11: =COUNTIF(C11:AZ11,"<>") -> 0 | BB11: =IF(BA11=1,1,0) -> 0
A12: Lesser white-fronted goose | B12: kiljuhanhi | BA12: =COUNTIF(C12:AZ12,"<>") -> 0 | BB12: =IF(BA12=1,1,0) -> 0
A13: Greylag goose | B13: merihanhi | J13: x | K13: x | O13: x | Q13: x | S13: x | T13: x | U13: x | Z13: x | AE13: x | BA13: =COUNTIF(C13:AZ13,"<>") -> 9 | BB13: =IF(BA13=1,1,0) -> 0
A14: Canada goose | B14: kanadanhanhi | J14: x | L14: x | O14: x | W14: x | X14: x | AE14: x | BA14: =COUNTIF(C14:AZ14,"<>") -> 6 | BB14: =IF(BA14=1,1,0) -> 0
A15: Barnacle goose | B15: valkoposkihanhi | C15: x | J15: x | L15: x | O15: x | Q15: x | Z15: x | AA15: x | AB15: x | BA15: =COUNTIF(C15:AZ15,"<>") -> 8 | BB15: =IF(BA15=1,1,0) -> 0
A16: Brant goose | B16: sepelhanhi | BA16: =COUNTIF(C16:AZ16,"<>") -> 0 | BB16: =IF(BA16=1,1,0) -> 0
A17: Red-breasted goose | B17: punakaulahanhi | BA17: =COUNTIF(C17:AZ17,"<>") -> 0 | BB17: =IF(BA17=1,1,0) -> 0
A18: Ruddy shelduck | B18: ruostesorsa | BA18: =COUNTIF(C18:AZ18,"<>") -> 0 | BB18: =IF(BA18=1,1,0) -> 0
A19: Common shelduck | B19: ristisorsa | BA19: =COUNTIF(C19:AZ19,"<>") -> 0 | BB19: =IF(BA19=1,1,0) -> 0
A20: Eurasian wigeon | B20: haapana | C20: x | D20: x | J20: x | K20: x | L20: x | N20: x | O20: x | P20: x | Q20: x | S20: x | T20: x | U20: x | W20: x | Z20: x | AA20: x | AB20: x | AD20: x | AE20: x | AG20: x | BA20: =COUNTIF(C20:AZ20,"<>") -> 19 | BB20: =IF(BA20=1,1,0) -> 0
A21: Gadwall | B21: harmaasorsa | C21: x | D21: x | J21: x | L21: x | O21: x | S21: x | T21: x | U21: x | Z21: x | AB21: x | BA21: =COUNTIF(C21:AZ21,"<>") -> 10 | BB21: =IF(BA21=1,1,0) -> 0
A22: Common teal | B22: tavi | D22: x | J22: x | K22: x | L22: x | N22: x | P22: x | S22: x | T22: x | U22: x | Z22: x | AA22: x | AB22: x | AG22: x | BA22: =COUNTIF(C22:AZ22,"<>") -> 13 | BB22: =IF(BA22=1,1,0) -> 0
A23: Mallard | B23: sinisorsa | C23: x | D23: x | E23: x | G23: x | I23: x | J23: x | K23: x | L23: x | N23: x | O23: x | P23: x | Q23: x | S23: x | T23: x | U23: x | V23: X | W23: x | Y23: x | Z23: x | AA23: x | AB23: x | AD23: x | AE23: x | AF23: x | AG23: x | BA23: =COUNTIF(C23:AZ23,"<>") -> 25 | BB23: =IF(BA23=1,1,0) -> 0
A24: Northern pintail | B24: jouhisorsa | C24: x | D24: x | J24: x | K24: x | L24: x | N24: x | P24: x | S24: x | T24: x | U24: x | W24: x | Z24: x | AB24: x | AD24: x | BA24: =COUNTIF(C24:AZ24,"<>") -> 14 | BB24: =IF(BA24=1,1,0) -> 0
A25: Garganey | B25: heinätavi | L25: x | BA25: =COUNTIF(C25:AZ25,"<>") -> 1 | BB25: =IF(BA25=1,1,0) -> 1
A26: Northern shoveler | B26: lapasorsa | D26: x | J26: x | L26: x | O26: x | Q26: x | S26: x | T26: x | U26: x | AA26: x | BA26: =COUNTIF(C26:AZ26,"<>") -> 9 | BB26: =IF(BA26=1,1,0) -> 0
A27: Common pochard | B27: punasotka | L27: x | BA27: =COUNTIF(C27:AZ27,"<>") -> 1 | BB27: =IF(BA27=1,1,0) -> 1
A28: Tufted duck | B28: tukkasotka | D28: x | K28: x | L28: x | N28: x | O28: x | P28: x | S28: x | T28: x | U28: x | W28: x | Z28: x | AB28: x | AD28: x | AE28: x | BA28: =COUNTIF(C28:AZ28,"<>") -> 14 | BB28: =IF(BA28=1,1,0) -> 0
A29: Greater scaup | B29: lapasotka | L29: x | P29: x | S29: x | T29: x | BA29: =COUNTIF(C29:AZ29,"<>") -> 4 | BB29: =IF(BA29=1,1,0) -> 0
A30: Common eider | B30: haahka | C30: x | P30: x | AB30: x | AD30: x | BA30: =COUNTIF(C30:AZ30,"<>") -> 4 | BB30: =IF(BA30=1,1,0) -> 0
A31: King eider | B31: kyhmyhaahka | BA31: =COUNTIF(C31:AZ31,"<>") -> 0 | BB31: =IF(BA31=1,1,0) -> 0
A32: Steller's eider | B32: allihaahka | BA32: =COUNTIF(C32:AZ32,"<>") -> 0 | BB32: =IF(BA32=1,1,0) -> 0
A33: Long-tailed duck | B33: alli | C33: x | W33: x | AB33: x | AD33: x | BA33: =COUNTIF(C33:AZ33,"<>") -> 4 | BB33: =IF(BA33=1,1,0) -> 0
A34: Common scoter | B34: mustalintu | P34: x | AB34: x | AD34: x | BA34: =COUNTIF(C34:AZ34,"<>") -> 3 | BB34: =IF(BA34=1,1,0) -> 0
A35: Velvet scoter | B35: pilkkasiipi | C35: x | P35: x | AB35: x | AD35: x | BA35: =COUNTIF(C35:AZ35,"<>") -> 4 | BB35: =IF(BA35=1,1,0) -> 0
A36: Common goldeneye | B36: telkkä | C36: x | D36: x | E36: x | I36: x | J36: x | K36: x | L36: x | N36: x | O36: x | P36: x | Q36: x | S36: x | T36: x | U36: x | V36: X | W36: x | X36: x | AA36: x | AB36: x | AC36: x | AD36: x | AE36: x | AG36: x | BA36: =COUNTIF(C36:AZ36,"<>") -> 23 | BB36: =IF(BA36=1,1,0) -> 0
A37: Smew | B37: uivelo | K37: x | L37: x | N37: x | BA37: =COUNTIF(C37:AZ37,"<>") -> 3 | BB37: =IF(BA37=1,1,0) -> 0
A38: Red-breasted merganser | B38: tukkakoskelo | C38: x | J38: x | L38: x | P38: x | X38: x | AA38: x | AB38: x | AC38: x | AD38: x | BA38: =COUNTIF(C38:AZ38,"<>") -> 9 | BB38: =IF(BA38=1,1,0) -> 0
A39: Common merganser | B39: isokoskelo | C39: x | D39: x | E39: x | J39: x | K39: x | L39: x | N39: x | O39: x | P39: x | Q39: x | S39: x | T39: x | U39: x | V39: X | W39: x | X39: X | AB39: x | AC39: x | AD39: x | BA39: =COUNTIF(C39:AZ39,"<>") -> 19 | BB39: =IF(BA39=1,1,0) -> 0
A40: Hazel grouse | B40: pyy | E40: x | L40: x | U40: x | AG40: x | BA40: =COUNTIF(C40:AZ40,"<>") -> 4 | BB40: =IF(BA40=1,1,0) -> 0
A41: Willow ptarmigan | B41: riekko | BA41: =COUNTIF(C41:AZ41,"<>") -> 0 | BB41: =IF(BA41=1,1,0) -> 0
A42: Rock ptarmigan | B42: kiiruna | BA42: =COUNTIF(C42:AZ42,"<>") -> 0 | BB42: =IF(BA42=1,1,0) -> 0
A43: Black grouse | B43: teeri | C43: x | D43: x | L43: x | N43: x | P43: x | W43: x | AA43: x | AG43: x | BA43: =COUNTIF(C43:AZ43,"<>") -> 8 | BB43: =IF(BA43=1,1,0) -> 0
A44: Western capercaillie | B44: metso | N44: x | BA44: =COUNTIF(C44:AZ44,"<>") -> 1 | BB44: =IF(BA44=1,1,0) -> 1
A45: Grey partridge | B45: peltopyy | BA45: =COUNTIF(C45:AZ45,"<>") -> 0 | BB45: =IF(BA45=1,1,0) -> 0
A46: Common quail | B46: viiriäinen | BA46: =COUNTIF(C46:AZ46,"<>") -> 0 | BB46: =IF(BA46=1,1,0) -> 0
A47: Common pheasant | B47: fasaani | F47: x | L47: x | Q47: x | Y47: x | Z47: x | BA47: =COUNTIF(C47:AZ47,"<>") -> 5 | BB47: =IF(BA47=1,1,0) -> 0
A48: Red-throated loon | B48: kaakkuri | J48: x | P48: x | BA48: =COUNTIF(C48:AZ48,"<>") -> 2 | BB48: =IF(BA48=1,1,0) -> 0
A49: Black-throated loon | B49: kuikka | C49: x | D49: x | L49: x | N49: x | P49: x | W49: x | AA49: x | AB49: x | AC49: x | AD49: x | BA49: =COUNTIF(C49:AZ49,"<>") -> 10 | BB49: =IF(BA49=1,1,0) -> 0
A50: Common loon | B50: amerikanjääkuikka | BA50: =COUNTIF(C50:AZ50,"<>") -> 0 | BB50: =IF(BA50=1,1,0) -> 0
A51: Yellow-billed loon | B51: jääkuikka | BA51: =COUNTIF(C51:AZ51,"<>") -> 0 | BB51: =IF(BA51=1,1,0) -> 0
A52: Little grebe | B52: pikku-uikku | J52: x | BA52: =COUNTIF(C52:AZ52,"<>") -> 1 | BB52: =IF(BA52=1,1,0) -> 1
A53: Great crested grebe | B53: silkkiuikku | C53: x | D53: x | J53: x | K53: x | L53: x | O53: x | P53: x | Q53: x | S53: x | T53: x | V53: X | X53: x | AB53: x | AC53: x | AD53: x | AE53: x | BA53: =COUNTIF(C53:AZ53,"<>") -> 16 | BB53: =IF(BA53=1,1,0) -> 0
A54: Red-necked grebe | B54: härkälintu | BA54: =COUNTIF(C54:AZ54,"<>") -> 0 | BB54: =IF(BA54=1,1,0) -> 0
A55: Horned grebe | B55: mustakurkku-uikku | BA55: =COUNTIF(C55:AZ55,"<>") -> 0 | BB55: =IF(BA55=1,1,0) -> 0
A56: Black-necked grebe | B56: mustakaulauikku | BA56: =COUNTIF(C56:AZ56,"<>") -> 0 | BB56: =IF(BA56=1,1,0) -> 0
A57: Northern fulmar | B57: myrskylintu | BA57: =COUNTIF(C57:AZ57,"<>") -> 0 | BB57: =IF(BA57=1,1,0) -> 0
A58: Sooty shearwater | B58: nokiliitäjä | BA58: =COUNTIF(C58:AZ58,"<>") -> 0 | BB58: =IF(BA58=1,1,0) -> 0
A59: Manx shearwater | B59: pikkuliitäjä | BA59: =COUNTIF(C59:AZ59,"<>") -> 0 | BB59: =IF(BA59=1,1,0) -> 0
A60: Leach's storm petrel | B60: myrskykeiju | BA60: =COUNTIF(C60:AZ60,"<>") -> 0 | BB60: =IF(BA60=1,1,0) -> 0
A61: Northern gannet | B61: suula | BA61: =COUNTIF(C61:AZ61,"<>") -> 0 | BB61: =IF(BA61=1,1,0) -> 0
A62: Great cormorant | B62: merimetso | C62: x | D62: x | K62: x | L62: x | O62: x | P62: x | Q62: x | S62: x | T62: x | U62: x | V62: x | W62: x | X62: x | AA62: x | AB62: x | AC62: x | AD62: x | AE62: x | BA62: =COUNTIF(C62:AZ62,"<>") -> 18 | BB62: =IF(BA62=1,1,0) -> 0
A63: European shag | B63: karimetso | BA63: =COUNTIF(C63:AZ63,"<>") -> 0 | BB63: =IF(BA63=1,1,0) -> 0
A64: Eurasian bittern | B64: kaulushaikara | L64: x | BA64: =COUNTIF(C64:AZ64,"<>") -> 1 | BB64: =IF(BA64=1,1,0) -> 1
A65: Little egret | B65: silkkihaikara | BA65: =COUNTIF(C65:AZ65,"<>") -> 0 | BB65: =IF(BA65=1,1,0) -> 0
A66: Great egret | B66: jalohaikara | J66: x | L66: x | O66: x | Q66: x | S66: x | T66: x | Z66: x | BA66: =COUNTIF(C66:AZ66,"<>") -> 7 | BB66: =IF(BA66=1,1,0) -> 0
A67: Grey heron | B67: harmaahaikara | C67: x | D67: x | G67: x | I67: x | J67: x | L67: x | O67: x | Q67: x | S67: x | T67: x | U67: x | W67: x | X67: x | Z67: x | AB67: x | AD67: x | BA67: =COUNTIF(C67:AZ67,"<>") -> 16 | BB67: =IF(BA67=1,1,0) -> 0
A68: Black stork | B68: mustahaikara | BA68: =COUNTIF(C68:AZ68,"<>") -> 0 | BB68: =IF(BA68=1,1,0) -> 0
A69: White stork | B69: kattohaikara | BA69: =COUNTIF(C69:AZ69,"<>") -> 0 | BB69: =IF(BA69=1,1,0) -> 0
A70: European honey buzzard | B70: mehiläishaukka | C70: x | P70: x | AB70: x | AD70: x | BA70: =COUNTIF(C70:AZ70,"<>") -> 4 | BB70: =IF(BA70=1,1,0) -> 0
A71: Black kite | B71: haarahaukka | BA71: =COUNTIF(C71:AZ71,"<>") -> 0 | BB71: =IF(BA71=1,1,0) -> 0
A72: Red kite | B72: isohaarahaukka | BA72: =COUNTIF(C72:AZ72,"<>") -> 0 | BB72: =IF(BA72=1,1,0) -> 0
A73: White-tailed eagle | B73: merikotka | C73: x | D73: x | I73: x | J73: x | K73: x | N73: x | O73: x | P73: x | S73: x | T73: x | U73: x | W73: x | Z73: x | AB73: x | AC73: x | AD73: x | BA73: =COUNTIF(C73:AZ73,"<>") -> 16 | BB73: =IF(BA73=1,1,0) -> 0
A74: Eurasian marsh harrier | B74: ruskosuohaukka | C74: x | D74: x | J74: x | K74: x | S74: x | T74: x | Z74: x | AD74: x | AE74: x | AG74: x | BA74: =COUNTIF(C74:AZ74,"<>") -> 10 | BB74: =IF(BA74=1,1,0) -> 0
A75: Hen harrier | B75: sinisuohaukka | F75: x | G75: x | J75: x | P75: x | W75: x | Z75: x | AA75: x | BA75: =COUNTIF(C75:AZ75,"<>") -> 7 | BB75: =IF(BA75=1,1,0) -> 0
A76: Pallid harrier | B76: arosuohaukka | H76: x | P76: x | U76: x | BA76: =COUNTIF(C76:AZ76,"<>") -> 3 | BB76: =IF(BA76=1,1,0) -> 0
A77: Montagu's harrier | B77: niittysuohaukka | BA77: =COUNTIF(C77:AZ77,"<>") -> 0 | BB77: =IF(BA77=1,1,0) -> 0
A78: Eurasian goshawk | B78: kanahaukka | E78: x | F78: x | J78: x | L78: x | N78: x | P78: x | S78: x | T78: x | U78: x | X78: x | BA78: =COUNTIF(C78:AZ78,"<>") -> 10 | BB78: =IF(BA78=1,1,0) -> 0
A79: Eurasian sparrowhawk | B79: varpushaukka | C79: x | D79: x | F79: x | J79: x | L79: x | N79: x | O79: x | P79: x | R79: x | S79: x | T79: x | U79: x | W79: x | AB79: x | AC79: x | AD79: x | BA79: =COUNTIF(C79:AZ79,"<>") -> 16 | BB79: =IF(BA79=1,1,0) -> 0
A80: Common buzzard | B80: hiirihaukka | C80: x | D80: x | F80: x | I80: x | P80: x | R80: x | W80: x | X80: x | Z80: x | AA80: x | AB80: x | AD80: x | AE80: x | BA80: =COUNTIF(C80:AZ80,"<>") -> 13 | BB80: =IF(BA80=1,1,0) -> 0
A81: Rough-legged hawk | B81: piekana | AG81: x | BA81: =COUNTIF(C81:AZ81,"<>") -> 1 | BB81: =IF(BA81=1,1,0) -> 1
A82: Golden eagle | B82: maakotka | N82: x | BA82: =COUNTIF(C82:AZ82,"<>") -> 1 | BB82: =IF(BA82=1,1,0) -> 1
A83: Osprey | B83: sääksi | J83: x | AA83: x | BA83: =COUNTIF(C83:AZ83,"<>") -> 2 | BB83: =IF(BA83=1,1,0) -> 0
A84: Common kestrel | B84: tuulihaukka | C84: x | D84: x | G84: x | J84: x | P84: x | R84: x | S84: x | T84: x | U84: x | W84: x | Z84: x | AA84: x | AB84: x | AD84: x | BA84: =COUNTIF(C84:AZ84,"<>") -> 14 | BB84: =IF(BA84=1,1,0) -> 0
A85: Red-footed falcon | B85: punajalkahaukka | BA85: =COUNTIF(C85:AZ85,"<>") -> 0 | BB85: =IF(BA85=1,1,0) -> 0
A86: Merlin | B86: ampuhaukka | F86: x | N86: x | P86: x | S86: x | T86: x | U86: x | W86: x | BA86: =COUNTIF(C86:AZ86,"<>") -> 7 | BB86: =IF(BA86=1,1,0) -> 0
A87: Eurasian hobby | B87: nuolihaukka | D87: x | F87: x | L87: x | S87: x | T87: x | U87: x | W87: x | AA87: x | BA87: =COUNTIF(C87:AZ87,"<>") -> 8 | BB87: =IF(BA87=1,1,0) -> 0
A88: Gyrfalcon | B88: tunturihaukka | BA88: =COUNTIF(C88:AZ88,"<>") -> 0 | BB88: =IF(BA88=1,1,0) -> 0
A89: Peregrine falcon | B89: muuttohaukka | P89: x | BA89: =COUNTIF(C89:AZ89,"<>") -> 1 | BB89: =IF(BA89=1,1,0) -> 1
A90: Water rail | B90: luhtakana | L90: x | BA90: =COUNTIF(C90:AZ90,"<>") -> 1 | BB90: =IF(BA90=1,1,0) -> 1
A91: Spotted crake | B91: luhtahuitti | BA91: =COUNTIF(C91:AZ91,"<>") -> 0 | BB91: =IF(BA91=1,1,0) -> 0
A92: Corn crake | B92: ruisrääkkä | BA92: =COUNTIF(C92:AZ92,"<>") -> 0 | BB92: =IF(BA92=1,1,0) -> 0
A93: Common moorhen | B93: liejukana | C93: x | J93: x | L93: x | AB93: x | BA93: =COUNTIF(C93:AZ93,"<>") -> 4 | BB93: =IF(BA93=1,1,0) -> 0
A94: Eurasian coot | B94: nokikana | D94: x | J94: x | L94: x | Q94: x | AE94: x | AG94: x | BA94: =COUNTIF(C94:AZ94,"<>") -> 6 | BB94: =IF(BA94=1,1,0) -> 0
A95: Common crane | B95: kurki | D95: x | G95: x | J95: x | K95: x | L95: x | S95: x | T95: x | U95: x | W95: x | AA95: x | AG95: x | BA95: =COUNTIF(C95:AZ95,"<>") -> 11 | BB95: =IF(BA95=1,1,0) -> 0
A96: Eurasian oystercatcher | B96: meriharakka | BA96: =COUNTIF(C96:AZ96,"<>") -> 0 | BB96: =IF(BA96=1,1,0) -> 0
A97: Pied avocet | B97: avosetti | BA97: =COUNTIF(C97:AZ97,"<>") -> 0 | BB97: =IF(BA97=1,1,0) -> 0
A98: Little ringed plover | B98: pikkutylli | J98: x | BA98: =COUNTIF(C98:AZ98,"<>") -> 1 | BB98: =IF(BA98=1,1,0) -> 1
A99: Common ringed plover | B99: tylli | H99: x | J99: x | O99: x | P99: x | S99: x | T99: x | U99: x | W99: x | Z99: x | AB99: x | AD99: x | BA99: =COUNTIF(C99:AZ99,"<>") -> 11 | BB99: =IF(BA99=1,1,0) -> 0
A100: Kentish plover | B100: mustajalkatylli | BA100: =COUNTIF(C100:AZ100,"<>") -> 0 | BB100: =IF(BA100=1,1,0) -> 0
A101: Eurasian dotterel | B101: keräkurmitsa | BA101: =COUNTIF(C101:AZ101,"<>") -> 0 | BB101: =IF(BA101=1,1,0) -> 0
A102: European golden plover | B102: kapustarinta | O102: x | P102: x | U102: x | AA102: x | AB102: x | AD102: x | BA102: =COUNTIF(C102:AZ102,"<>") -> 6 | BB102: =IF(BA102=1,1,0) -> 0
...

Sheet Sweden
A1: Nordic Bird Race 2026 - Sweden
A2: Write participant names in row 4. Mark species with a date, x, or any short note in that person's column. The dashboard counts every non-empty sighting cell.
A4: English name | B4: Swedish name | C4: Brian Löfkvist | D4: Albin Nordlund | E4: Gordon Lundvall | F4: Kaleido Carrillo | G4: Eskil Friberg | H4: Benjamin Rodling | I4: Nikola Kostic | J4: Arild Norberg | K4: Knut Hjörnhede | L4: Gabriel Axelsson | M4: Petter Sahlström | N4: Max Lundell | O4: Oscar Gustavsson | P4: Kasper Wieck | Q4: Mathilda Lindberg | R4: Love & Saga Wallin | S4: Vilgot Sagerfors | T4: Oskar Karsikko | U4: Joel Eng | V4: Hugo Isaksson o Liam Gustafsson | W4: Sigge Alfredsson | X4: Malte Lindberg | Y4: Adam Johnsson | BA4: Seen by | BB4: Unique in country
A5: Mute swan | B5: Knölsvan | C5: x | D5: X | E5: X | F5: X | G5: X | H5: x | J5: x | L5: X | N5: X | R5: X | S5: X | U5: x | V5: X | W5: X | BA5: =COUNTIF(C5:AZ5,"<>") -> 14 | BB5: =IF(BA5=1,1,0) -> 0
A6: Tundra swan | B6: Mindre sångsvan | BA6: =COUNTIF(C6:AZ6,"<>") -> 0 | BB6: =IF(BA6=1,1,0) -> 0
A7: Whooper swan | B7: Sångsvan | C7: x | D7: X | G7: X | R7: X | S7: X | BA7: =COUNTIF(C7:AZ7,"<>") -> 5 | BB7: =IF(BA7=1,1,0) -> 0
A8: Tundra bean goose | B8: Tundragås | G8: X | BA8: =COUNTIF(C8:AZ8,"<>") -> 1 | BB8: =IF(BA8=1,1,0) -> 1
A9: Pink-footed goose | B9: Spetsbergsgås | BA9: =COUNTIF(C9:AZ9,"<>") -> 0 | BB9: =IF(BA9=1,1,0) -> 0
A10: Taiga bean goose | B10: Skogsgås | G10: X | BA10: =COUNTIF(C10:AZ10,"<>") -> 1 | BB10: =IF(BA10=1,1,0) -> 1
A11: Greater white-fronted goose | B11: Bläsgås | N11: X | BA11: =COUNTIF(C11:AZ11,"<>") -> 1 | BB11: =IF(BA11=1,1,0) -> 1
A12: Lesser white-fronted goose | B12: Fjällgås | BA12: =COUNTIF(C12:AZ12,"<>") -> 0 | BB12: =IF(BA12=1,1,0) -> 0
A13: Greylag goose | B13: Grågås | C13: x | D13: X | E13: X | F13: X | G13: X | H13: x | J13: x | N13: X | R13: X | S13: X | U13: x | W13: X | BA13: =COUNTIF(C13:AZ13,"<>") -> 12 | BB13: =IF(BA13=1,1,0) -> 0
A14: Canada goose | B14: Kanadagås | E14: X | F14: X | G14: X | J14: x | L14: X | N14: X | O14: X | P14: X | Q14: X | S14: X | U14: x | W14: X | BA14: =COUNTIF(C14:AZ14,"<>") -> 12 | BB14: =IF(BA14=1,1,0) -> 0
A15: Barnacle goose | B15: Vitkindad gås | E15: X | F15: X | G15: X | J15: x | W15: X | BA15: =COUNTIF(C15:AZ15,"<>") -> 5 | BB15: =IF(BA15=1,1,0) -> 0
A16: Brant goose | B16: Prutgås | BA16: =COUNTIF(C16:AZ16,"<>") -> 0 | BB16: =IF(BA16=1,1,0) -> 0
A17: Red-breasted goose | B17: Rödhalsad gås | BA17: =COUNTIF(C17:AZ17,"<>") -> 0 | BB17: =IF(BA17=1,1,0) -> 0
A18: Ruddy shelduck | B18: Rostand | BA18: =COUNTIF(C18:AZ18,"<>") -> 0 | BB18: =IF(BA18=1,1,0) -> 0
A19: Common shelduck | B19: Gravand | E19: X | J19: x | BA19: =COUNTIF(C19:AZ19,"<>") -> 2 | BB19: =IF(BA19=1,1,0) -> 0
A20: Eurasian wigeon | B20: Bläsand | C20: x | D20: X | E20: X | F20: X | G20: X | H20: x | J20: x | L20: X | N20: X | O20: X | P20: X | Q20: X | R20: X | S20: X | U20: x | V20: X | W20: X | BA20: =COUNTIF(C20:AZ20,"<>") -> 17 | BB20: =IF(BA20=1,1,0) -> 0
A21: Gadwall | B21: Snatterand | C21: x | D21: X | E21: X | F21: X | G21: X | H21: x | J21: x | W21: X | BA21: =COUNTIF(C21:AZ21,"<>") -> 8 | BB21: =IF(BA21=1,1,0) -> 0
A22: Common teal | B22: Kricka | C22: x | D22: X | E22: X | F22: X | G22: X | H22: x | J22: x | L22: X | S22: X | U22: x | V22: X | W22: X | BA22: =COUNTIF(C22:AZ22,"<>") -> 12 | BB22: =IF(BA22=1,1,0) -> 0
A23: Mallard | B23: Gräsand | C23: x | D23: X | E23: X | F23: X | G23: X | H23: x | J23: x | L23: X | N23: X | O23: X | P23: X | Q23: X | R23: X | S23: X | V23: X | W23: X | BA23: =COUNTIF(C23:AZ23,"<>") -> 16 | BB23: =IF(BA23=1,1,0) -> 0
A24: Northern pintail | B24: Stjärtand | C24: x | D24: X | E24: X | F24: X | G24: X | J24: x | O24: X | P24: X | Q24: X | S24: X | U24: x | V24: X | W24: X | BA24: =COUNTIF(C24:AZ24,"<>") -> 13 | BB24: =IF(BA24=1,1,0) -> 0
A25: Garganey | B25: Årta | BA25: =COUNTIF(C25:AZ25,"<>") -> 0 | BB25: =IF(BA25=1,1,0) -> 0
A26: Northern shoveler | B26: Skedand | C26: x | D26: X | E26: X | G26: X | S26: X | V26: X | BA26: =COUNTIF(C26:AZ26,"<>") -> 6 | BB26: =IF(BA26=1,1,0) -> 0
A27: Common pochard | B27: Brunand | G27: X | BA27: =COUNTIF(C27:AZ27,"<>") -> 1 | BB27: =IF(BA27=1,1,0) -> 1
A28: Tufted duck | B28: Vigg | C28: x | D28: X | E28: X | G28: X | H28: x | J28: x | L28: X | S28: X | V28: X | BA28: =COUNTIF(C28:AZ28,"<>") -> 9 | BB28: =IF(BA28=1,1,0) -> 0
A29: Greater scaup | B29: Bergand | C29: X | D29: X | G29: X | BA29: =COUNTIF(C29:AZ29,"<>") -> 3 | BB29: =IF(BA29=1,1,0) -> 0
A30: Common eider | B30: Ejder | C30: x | E30: X | F30: X | J30: x | L30: X | O30: X | P30: X | Q30: X | U30: x | V30: X | W30: X | BA30: =COUNTIF(C30:AZ30,"<>") -> 11 | BB30: =IF(BA30=1,1,0) -> 0
A31: King eider | B31: Praktejder | BA31: =COUNTIF(C31:AZ31,"<>") -> 0 | BB31: =IF(BA31=1,1,0) -> 0
A32: Steller's eider | B32: Alförrädare | BA32: =COUNTIF(C32:AZ32,"<>") -> 0 | BB32: =IF(BA32=1,1,0) -> 0
A33: Long-tailed duck | B33: Alfågel | O33: X | P33: X | BA33: =COUNTIF(C33:AZ33,"<>") -> 2 | BB33: =IF(BA33=1,1,0) -> 0
A34: Common scoter | B34: Sjöorre | C34: X | D34: X | E34: X | F34: X | J34: x | L34: X | O34: X | P34: X | Q34: X | U34: x | V34: X | W34: X | BA34: =COUNTIF(C34:AZ34,"<>") -> 12 | BB34: =IF(BA34=1,1,0) -> 0
A35: Velvet scoter | B35: Svärta | C35: x | D35: X | L35: X | O35: X | P35: X | U35: x | V35: X | BA35: =COUNTIF(C35:AZ35,"<>") -> 7 | BB35: =IF(BA35=1,1,0) -> 0
A36: Common goldeneye | B36: Knipa | C36: x | D36: X | E36: X | F36: X | G36: X | H36: x | J36: x | L36: X | N36: X | S36: X | V36: X | W36: X | BA36: =COUNTIF(C36:AZ36,"<>") -> 12 | BB36: =IF(BA36=1,1,0) -> 0
A37: Smew | B37: Salskrake | G37: X | BA37: =COUNTIF(C37:AZ37,"<>") -> 1 | BB37: =IF(BA37=1,1,0) -> 1
A38: Red-breasted merganser | B38: Småskrake | C38: x | D38: X | L38: X | O38: X | P38: X | Q38: X | S38: X | U38: x | V38: X | BA38: =COUNTIF(C38:AZ38,"<>") -> 9 | BB38: =IF(BA38=1,1,0) -> 0
A39: Common merganser | B39: Storskrake | C39: x | D39: X | E39: X | F39: X | G39: X | J39: x | L39: X | S39: X | V39: X | W39: X | BA39: =COUNTIF(C39:AZ39,"<>") -> 10 | BB39: =IF(BA39=1,1,0) -> 0
A40: Hazel grouse | B40: Järpe | BA40: =COUNTIF(C40:AZ40,"<>") -> 0 | BB40: =IF(BA40=1,1,0) -> 0
A41: Willow ptarmigan | B41: Dalripa | BA41: =COUNTIF(C41:AZ41,"<>") -> 0 | BB41: =IF(BA41=1,1,0) -> 0
A42: Rock ptarmigan | B42: Fjällripa | BA42: =COUNTIF(C42:AZ42,"<>") -> 0 | BB42: =IF(BA42=1,1,0) -> 0
A43: Black grouse | B43: Orre | T43: X | BA43: =COUNTIF(C43:AZ43,"<>") -> 1 | BB43: =IF(BA43=1,1,0) -> 1
A44: Western capercaillie | B44: Tjäder | T44: X | BA44: =COUNTIF(C44:AZ44,"<>") -> 1 | BB44: =IF(BA44=1,1,0) -> 1
A45: Grey partridge | B45: Rapphöna | BA45: =COUNTIF(C45:AZ45,"<>") -> 0 | BB45: =IF(BA45=1,1,0) -> 0
A46: Common quail | B46: Vaktel | BA46: =COUNTIF(C46:AZ46,"<>") -> 0 | BB46: =IF(BA46=1,1,0) -> 0
A47: Common pheasant | B47: Fasan | C47: x | D47: X | E47: X | F47: X | J47: x | Y47: x | BA47: =COUNTIF(C47:AZ47,"<>") -> 6 | BB47: =IF(BA47=1,1,0) -> 0
A48: Red-throated loon | B48: Smålom | K48: x | L48: X | O48: X | P48: X | BA48: =COUNTIF(C48:AZ48,"<>") -> 4 | BB48: =IF(BA48=1,1,0) -> 0
A49: Black-throated loon | B49: Storlom | C49: x | D49: X | E49: X | F49: X | J49: x | L49: X | O49: X | P49: X | W49: X | BA49: =COUNTIF(C49:AZ49,"<>") -> 9 | BB49: =IF(BA49=1,1,0) -> 0
A50: Common loon | B50: Svartnäbbad islom | BA50: =COUNTIF(C50:AZ50,"<>") -> 0 | BB50: =IF(BA50=1,1,0) -> 0
A51: Yellow-billed loon | B51: Vitnäbbad islom | BA51: =COUNTIF(C51:AZ51,"<>") -> 0 | BB51: =IF(BA51=1,1,0) -> 0
A52: Little grebe | B52: Smådopping | C52: x | D52: X | G52: X | H52: x | J52: x | BA52: =COUNTIF(C52:AZ52,"<>") -> 5 | BB52: =IF(BA52=1,1,0) -> 0
A53: Great crested grebe | B53: Skäggdopping | C53: x | D53: X | G53: X | H53: x | J53: x | BA53: =COUNTIF(C53:AZ53,"<>") -> 5 | BB53: =IF(BA53=1,1,0) -> 0
A54: Red-necked grebe | B54: Gråhakedopping | E54: X | J54: x | BA54: =COUNTIF(C54:AZ54,"<>") -> 2 | BB54: =IF(BA54=1,1,0) -> 0
A55: horned grebe | B55: Svarthakedopping | J55: x | BA55: =COUNTIF(C55:AZ55,"<>") -> 1 | BB55: =IF(BA55=1,1,0) -> 1
A56: Black-necked grebe | B56: Svarthalsad dopping | BA56: =COUNTIF(C56:AZ56,"<>") -> 0 | BB56: =IF(BA56=1,1,0) -> 0
A57: Northern fulmar | B57: Stormfågel | E57: X | F57: X | L57: X | O57: X | P57: X | Q57: X | W57: X | BA57: =COUNTIF(C57:AZ57,"<>") -> 7 | BB57: =IF(BA57=1,1,0) -> 0
A58: Sooty shearwater | B58: Grålira | E58: X | F58: X | L58: X | O58: X | P58: X | Q58: X | BA58: =COUNTIF(C58:AZ58,"<>") -> 6 | BB58: =IF(BA58=1,1,0) -> 0
A59: Manx shearwater | B59: Mindre lira | BA59: =COUNTIF(C59:AZ59,"<>") -> 0 | BB59: =IF(BA59=1,1,0) -> 0
A60: Leach's storm petrel | B60: Klykstjärtad stormsvala | L60: X | O60: X | P60: X | BA60: =COUNTIF(C60:AZ60,"<>") -> 3 | BB60: =IF(BA60=1,1,0) -> 0
A61: Northern gannet | B61: Havssula | E61: X | F61: X | J61: x | L61: X | O61: X | P61: X | Q61: X | U61: x | W61: X | BA61: =COUNTIF(C61:AZ61,"<>") -> 9 | BB61: =IF(BA61=1,1,0) -> 0
A62: Great cormorant | B62: Storskarv | C62: x | D62: X | E62: X | F62: X | G62: X | H62: x | J62: x | L62: X | O62: X | P62: X | Q62: X | S62: X | U62: x | V62: X | W62: X | BA62: =COUNTIF(C62:AZ62,"<>") -> 15 | BB62: =IF(BA62=1,1,0) -> 0
A63: European shag | B63: Toppskarv | E63: X | F63: X | J63: x | L63: X | O63: X | P63: X | Q63: X | U63: x | W63: X | BA63: =COUNTIF(C63:AZ63,"<>") -> 9 | BB63: =IF(BA63=1,1,0) -> 0
A64: Eurasian bittern | B64: Rördrom | BA64: =COUNTIF(C64:AZ64,"<>") -> 0 | BB64: =IF(BA64=1,1,0) -> 0
A65: Little egret | B65: Silkeshäger | BA65: =COUNTIF(C65:AZ65,"<>") -> 0 | BB65: =IF(BA65=1,1,0) -> 0
A66: Great egret | B66: Ägretthäger | C66: x | D66: X | E66: X | F66: X | G66: X | J66: x | U66: x | W66: X | BA66: =COUNTIF(C66:AZ66,"<>") -> 8 | BB66: =IF(BA66=1,1,0) -> 0
A67: Grey heron | B67: Gråhäger | C67: x | D67: X | E67: X | F67: X | G67: X | H67: x | J67: x | L67: X | R67: X | U67: x | V67: X | W67: X | BA67: =COUNTIF(C67:AZ67,"<>") -> 12 | BB67: =IF(BA67=1,1,0) -> 0
A68: Black stork | B68: Svart stork | BA68: =COUNTIF(C68:AZ68,"<>") -> 0 | BB68: =IF(BA68=1,1,0) -> 0
A69: White stork | B69: Vit stork | BA69: =COUNTIF(C69:AZ69,"<>") -> 0 | BB69: =IF(BA69=1,1,0) -> 0
A70: European honey buzzard | B70: Bivråk | C70: X | D70: X | E70: X | F70: X | J70: x | V70: X | BA70: =COUNTIF(C70:AZ70,"<>") -> 6 | BB70: =IF(BA70=1,1,0) -> 0
A71: Black kite | B71: Brun glada | BA71: =COUNTIF(C71:AZ71,"<>") -> 0 | BB71: =IF(BA71=1,1,0) -> 0
A72: Red kite | B72: Röd glada | C72: X | D72: X | E72: X | F72: X | G72: X | J72: x | W72: X | BA72: =COUNTIF(C72:AZ72,"<>") -> 7 | BB72: =IF(BA72=1,1,0) -> 0
A73: White-tailed eagle | B73: Havsörn | C73: x | D73: X | E73: X | G73: X | J73: x | N73: X | R73: X | S73: X | U73: x | V73: X | BA73: =COUNTIF(C73:AZ73,"<>") -> 10 | BB73: =IF(BA73=1,1,0) -> 0
A74: Eurasian marsh harrier | B74: Brun kärrhök | C74: X | D74: X | E74: X | F74: X | G74: X | J74: x | N74: X | BA74: =COUNTIF(C74:AZ74,"<>") -> 7 | BB74: =IF(BA74=1,1,0) -> 0
A75: Hen harrier | B75: Blå kärrhök | C75: X | D75: X | G75: X | R75: X | BA75: =COUNTIF(C75:AZ75,"<>") -> 4 | BB75: =IF(BA75=1,1,0) -> 0
A76: Pallid harrier | B76: Stäpphök | C76: X | D76: X | E76: X | F76: X | J76: x | W76: X | BA76: =COUNTIF(C76:AZ76,"<>") -> 6 | BB76: =IF(BA76=1,1,0) -> 0
A77: Montagu's harrier | B77: Ängshök | BA77: =COUNTIF(C77:AZ77,"<>") -> 0 | BB77: =IF(BA77=1,1,0) -> 0
A78: Eurasian goshawk | B78: Duvhök | C78: X | D78: X | V78: X | BA78: =COUNTIF(C78:AZ78,"<>") -> 3 | BB78: =IF(BA78=1,1,0) -> 0
A79: Eurasian sparrowhawk | B79: Sparvhök | C79: X | D79: X | E79: X | F79: X | G79: x | J79: x | L79: X | S79: X | V79: X | W79: X | BA79: =COUNTIF(C79:AZ79,"<>") -> 10 | BB79: =IF(BA79=1,1,0) -> 0
A80: Common buzzard | B80: Ormvråk | C80: X | D80: X | E80: X | G80: X | J80: x | N80: X | S80: X | U80: x | W80: X | BA80: =COUNTIF(C80:AZ80,"<>") -> 9 | BB80: =IF(BA80=1,1,0) -> 0
A81: Rough-legged hawk | B81: Fjällvråk | S81: X | BA81: =COUNTIF(C81:AZ81,"<>") -> 1 | BB81: =IF(BA81=1,1,0) -> 1
A82: Golden eagle | B82: Kungsörn | C82: X | D82: X | BA82: =COUNTIF(C82:AZ82,"<>") -> 2 | BB82: =IF(BA82=1,1,0) -> 0
A83: Osprey | B83: Fiskgjuse | G83: X | W83: X | BA83: =COUNTIF(C83:AZ83,"<>") -> 2 | BB83: =IF(BA83=1,1,0) -> 0
A84: Common kestrel | B84: Tornfalk | C84: X | D84: X | E84: X | F84: X | G84: X | J84: x | L84: X | O84: X | P84: X | Q84: X | S84: X | U84: x | V84: X | W84: X | BA84: =COUNTIF(C84:AZ84,"<>") -> 14 | BB84: =IF(BA84=1,1,0) -> 0
A85: Red-footed falcon | B85: Aftonfalk | BA85: =COUNTIF(C85:AZ85,"<>") -> 0 | BB85: =IF(BA85=1,1,0) -> 0
A86: Merlin | B86: Stenfalk | D86: X | E86: X | F86: X | G86: X | J86: x | O86: X | P86: X | Q86: X | S86: X | V86: X | W86: X | BA86: =COUNTIF(C86:AZ86,"<>") -> 11 | BB86: =IF(BA86=1,1,0) -> 0
A87: Eurasian hobby | B87: Lärkfalk | C87: x | D87: X | BA87: =COUNTIF(C87:AZ87,"<>") -> 2 | BB87: =IF(BA87=1,1,0) -> 0
A88: Gyrfalcon | B88: Jaktfalk | BA88: =COUNTIF(C88:AZ88,"<>") -> 0 | BB88: =IF(BA88=1,1,0) -> 0
A89: Peregrine falcon | B89: Pilgrimsfalk | E89: X | F89: X | G89: X | J89: x | K89: x | V89: X | W89: X | BA89: =COUNTIF(C89:AZ89,"<>") -> 7 | BB89: =IF(BA89=1,1,0) -> 0
A90: Water rail | B90: Vattenrall | BA90: =COUNTIF(C90:AZ90,"<>") -> 0 | BB90: =IF(BA90=1,1,0) -> 0
A91: Spotted crake | B91: Småfläckig sumphöna | BA91: =COUNTIF(C91:AZ91,"<>") -> 0 | BB91: =IF(BA91=1,1,0) -> 0
A92: Corn crake | B92: Kornknarr | BA92: =COUNTIF(C92:AZ92,"<>") -> 0 | BB92: =IF(BA92=1,1,0) -> 0
A93: Common moorhen | B93: Rörhöna | H93: x | J93: x | N93: X | BA93: =COUNTIF(C93:AZ93,"<>") -> 3 | BB93: =IF(BA93=1,1,0) -> 0
A94: Eurasian coot | B94: Sothöna | C94: x | D94: X | G94: X | H94: x | BA94: =COUNTIF(C94:AZ94,"<>") -> 4 | BB94: =IF(BA94=1,1,0) -> 0
A95: Common crane | B95: Trana | C95: X | D95: X | E95: X | G95: X | J95: x | S95: X | W95: X | BA95: =COUNTIF(C95:AZ95,"<>") -> 7 | BB95: =IF(BA95=1,1,0) -> 0
A96: Eurasian oystercatcher | B96: Strandskata | C96: x | D96: X | J96: x | L96: X | BA96: =COUNTIF(C96:AZ96,"<>") -> 4 | BB96: =IF(BA96=1,1,0) -> 0
A97: Pied avocet | B97: Skärfläcka | C97: x | D97: x | E97: X | J97: x | W97: X | BA97: =COUNTIF(C97:AZ97,"<>") -> 5 | BB97: =IF(BA97=1,1,0) -> 0
A98: Little ringed plover | B98: Mindre strandpipare | F98: X | BA98: =COUNTIF(C98:AZ98,"<>") -> 1 | BB98: =IF(BA98=1,1,0) -> 1
A99: Common ringed plover | B99: Större strandpipare | C99: x | D99: X | F99: X | G99: X | J99: x | L99: X | O99: X | P99: X | Q99: X | S99: X | U99: x | W99: X | BA99: =COUNTIF(C99:AZ99,"<>") -> 12 | BB99: =IF(BA99=1,1,0) -> 0
A100: Kentish plover | B100: Svartbent strandpipare | BA100: =COUNTIF(C100:AZ100,"<>") -> 0 | BB100: =IF(BA100=1,1,0) -> 0
A101: Eurasian dotterel | B101: Fjällpipare | BA101: =COUNTIF(C101:AZ101,"<>") -> 0 | BB101: =IF(BA101=1,1,0) -> 0
...

Sheet Calculations
A1: Calculation sheet - formulas feed the Nordic Bird Race 2026 dashboard | H1: <- is this an eco race? or this a typo?
A3: Country | B3: Species seen | C3: Active observers | D3: Species / active observer | F3: Country | G3: Observer | H3: Species | I3: Rare species <3 | K3: Species | L3: Denmark | M3: Norway | N3: Finland | O3: Sweden | P3: Total observers | Q3: Countries | S3: Species | T3: Total observers | U3: Countries | V3: Country list | X3: Species | Y3: Countries | Z3: Observer(s) | AA3: Total observers | AC3: Country | AD3: Species | AE3: Observers | AF3: Species / active observer | AG3: Rank score | AI3: Country | AJ3: Observer | AK3: Species | AL3: Rare species <3 | AM3: Rank score | AN3: Rank score (rare species) | AO3: Species | AP3: Total observers | AQ3: Countries | AR3: Seen in | AS3: Rank score | AU3: Species | AV3: Countries | AW3: Observer(s) | AX3: Total observers | AY3: Rank score | BA3: Species | BB3: Total observers | BC3: Countries | BD3: Seen in | BE3: Rank score | BG3: Species | BH3: Country | BI3: Observer(s) | BJ3: Total observers | BK3: Rank score
A4: ="Denmark" -> Denmark | B4: =COUNTIF(Denmark!$BA$5:$BA$311,">0") -> 0 | C4: =COUNTIF(Denmark!$C$4:$AZ$4,"<>") -> 0 | D4: =IF(C4=0,0,B4/C4) -> 0 | F4: ="Denmark" -> Denmark | G4: =IF(Denmark!C$4="","",Denmark!C$4) | H4: =IF(G4="","",COUNTIF(Denmark!C$5:C$311,"<>")) | I4: =IF(G4="","",SUMPRODUCT(--(Denmark!C$5:C$311<>""),--($P$4:$P$310>0),--($P$4:$P$310<3))) | K4: =Denmark!A5 -> Mute swan | L4: =Denmark!BA5 -> 0 | M4: =Norway!BA5 -> 2 | N4: =Finland!BA5 -> 11 | O4: =Sweden!BA5 -> 14 | P4: =SUM(L4:O4) -> 27 | Q4: =COUNTIF(L4:O4,">0") -> 3 | S4: =K4 -> Mute swan | T4: =P4 -> 27 | U4: =Q4 -> 3 | V4: =TRIM(IF(L4>0,"Denmark ","")&IF(M4>0,"Norway ","")&IF(N4>0,"Finland ","")&IF(O4>0,"Sweden ","")) -> Norway Finland Sweden | X4: =S4 -> Mute swan | Y4: =IF(AND(P4>0,P4<3),TRIM(IF(L4>0,"Denmark ","")&IF(M4>0,"Norway ","")&IF(N4>0,"Finland ","")&IF(O4>0,"Sweden ","")),"") | Z4: =IF(AND(P4>0,P4<3),TRIM(IF(L4>0,"Denmark: "&IFERROR(LOOKUP(2,1/(Denmark!$C5:$AZ5<>""),Denmark!$C$4:$AZ$4),"")&" ","")&IF(M4>0,"Norway: "&IFERROR(LOOKUP(2,1/(Norway!$C5:$AZ5<>""),Norway!$C$4:$AZ$4),"")&" ","")&IF(N4>0,"Finland: "&IFERROR(LOOKUP(2,1/(Finland!$C5:$AZ5<>""),Finland!$C$4:$AZ$4),"")&" ","")&IF(O4>0,"Sweden: "&IFERROR(LOOKUP(2,1/(Sweden!$C5:$AZ5<>""),Sweden!$C$4:$AZ$4),"")&" ","")),"") | AA4: =P4 -> 27 | AC4: =A4 -> Denmark | AD4: =B4 -> 0 | AE4: =C4 -> 0 | AF4: =D4 -> 0 | AG4: =B4+(8-ROW())/100000 -> 4e-05 | AI4: =F4 -> Denmark | AJ4: =G4 | AK4: =H4 | AL4: =I4 | AM4: =IF(G4="",-1,H4+(204-ROW())/100000) -> -1 | AN4: =IF(G4="",-1,I4+(204-ROW())/100000) -> -1 | AO4: =S4 -> Mute swan | AP4: =T4 -> 27 | AQ4: =U4 -> 3 | AR4: =V4 -> Norway Finland Sweden | AS4: =T4+(311-ROW())/100000 -> 27.00307 | AU4: =X4 -> Mute swan | AV4: =Y4 | AW4: =Z4 | AX4: =AA4 -> 27 | AY4: =IF(AND(AX4>0,AX4<3),(3-AX4)*1000+(311-ROW())/1000,-1) -> -1 | BA4: =S4 -> Mute swan | BB4: =T4 -> 27 | BC4: =U4 -> 3 | BD4: =V4 -> Norway Finland Sweden | BE4: =IF(U4=4,T4+(311-ROW())/100000,-1) -> -1 | BG4: =K4 -> Mute swan | BH4: =IF(Q4=1,V4,"") | BI4: =IF(Q4=1,TRIM(IF(L4>0,"Denmark: "&IFERROR(LOOKUP(2,1/(Denmark!$C5:$AZ5<>""),Denmark!$C$4:$AZ$4),"")&" ","")&IF(M4>0,"Norway: "&IFERROR(LOOKUP(2,1/(Norway!$C5:$AZ5<>""),Norway!$C$4:$AZ$4),"")&" ","")&IF(N4>0,"Finland: "&IFERROR(LOOKUP(2,1/(Finland!$C5:$AZ5<>""),Finland!$C$4:$AZ$4),"")&" ","")&IF(O4>0,"Sweden: "&IFERROR(LOOKUP(2,1/(Sweden!$C5:$AZ5<>""),Sweden!$C$4:$AZ$4),"")&" ","")),"") | BJ4: =P4 -> 27 | BK4: =IF(Q4=1,P4+(311-ROW())/100000,-1) -> -1
A5: ="Norway" -> Norway | B5: =COUNTIF(Norway!$BA$5:$BA$311,">0") -> 75 | C5: =COUNTIF(Norway!$C$4:$AZ$4,"<>") -> 5 | D5: =IF(C5=0,0,B5/C5) -> 15 | F5: ="Denmark" -> Denmark | G5: =IF(Denmark!D$4="","",Denmark!D$4) | H5: =IF(G5="","",COUNTIF(Denmark!D$5:D$311,"<>")) | I5: =IF(G5="","",SUMPRODUCT(--(Denmark!D$5:D$311<>""),--($P$4:$P$310>0),--($P$4:$P$310<3))) | K5: =Denmark!A6 -> Tundra swan | L5: =Denmark!BA6 -> 0 | M5: =Norway!BA6 -> 0 | N5: =Finland!BA6 -> 0 | O5: =Sweden!BA6 -> 0 | P5: =SUM(L5:O5) -> 0 | Q5: =COUNTIF(L5:O5,">0") -> 0 | S5: =K5 -> Tundra swan | T5: =P5 -> 0 | U5: =Q5 -> 0 | V5: =TRIM(IF(L5>0,"Denmark ","")&IF(M5>0,"Norway ","")&IF(N5>0,"Finland ","")&IF(O5>0,"Sweden ","")) | X5: =S5 -> Tundra swan | Y5: =IF(AND(P5>0,P5<3),TRIM(IF(L5>0,"Denmark ","")&IF(M5>0,"Norway ","")&IF(N5>0,"Finland ","")&IF(O5>0,"Sweden ","")),"") | Z5: =IF(AND(P5>0,P5<3),TRIM(IF(L5>0,"Denmark: "&IFERROR(LOOKUP(2,1/(Denmark!$C6:$AZ6<>""),Denmark!$C$4:$AZ$4),"")&" ","")&IF(M5>0,"Norway: "&IFERROR(LOOKUP(2,1/(Norway!$C6:$AZ6<>""),Norway!$C$4:$AZ$4),"")&" ","")&IF(N5>0,"Finland: "&IFERROR(LOOKUP(2,1/(Finland!$C6:$AZ6<>""),Finland!$C$4:$AZ$4),"")&" ","")&IF(O5>0,"Sweden: "&IFERROR(LOOKUP(2,1/(Sweden!$C6:$AZ6<>""),Sweden!$C$4:$AZ$4),"")&" ","")),"") | AA5: =P5 -> 0 | AC5: =A5 -> Norway | AD5: =B5 -> 75 | AE5: =C5 -> 5 | AF5: =D5 -> 15 | AG5: =B5+(8-ROW())/100000 -> 75.00003 | AI5: =F5 -> Denmark | AJ5: =G5 | AK5: =H5 | AL5: =I5 | AM5: =IF(G5="",-1,H5+(204-ROW())/100000) -> -1 | AN5: =IF(G5="",-1,I5+(204-ROW())/100000) -> -1 | AO5: =S5 -> Tundra swan | AP5: =T5 -> 0 | AQ5: =U5 -> 0 | AR5: =V5 | AS5: =T5+(311-ROW())/100000 -> 0.00306 | AU5: =X5 -> Tundra swan | AV5: =Y5 | AW5: =Z5 | AX5: =AA5 -> 0 | AY5: =IF(AND(AX5>0,AX5<3),(3-AX5)*1000+(311-ROW())/1000,-1) -> -1 | BA5: =S5 -> Tundra swan | BB5: =T5 -> 0 | BC5: =U5 -> 0 | BD5: =V5 | BE5: =IF(U5=4,T5+(311-ROW())/100000,-1) -> -1 | BG5: =K5 -> Tundra swan | BH5: =IF(Q5=1,V5,"") | BI5: =IF(Q5=1,TRIM(IF(L5>0,"Denmark: "&IFERROR(LOOKUP(2,1/(Denmark!$C6:$AZ6<>""),Denmark!$C$4:$AZ$4),"")&" ","")&IF(M5>0,"Norway: "&IFERROR(LOOKUP(2,1/(Norway!$C6:$AZ6<>""),Norway!$C$4:$AZ$4),"")&" ","")&IF(N5>0,"Finland: "&IFERROR(LOOKUP(2,1/(Finland!$C6:$AZ6<>""),Finland!$C$4:$AZ$4),"")&" ","")&IF(O5>0,"Sweden: "&IFERROR(LOOKUP(2,1/(Sweden!$C6:$AZ6<>""),Sweden!$C$4:$AZ$4),"")&" ","")),"") | BJ5: =P5 -> 0 | BK5: =IF(Q5=1,P5+(311-ROW())/100000,-1) -> -1
A6: ="Finland" -> Finland | B6: =COUNTIF(Finland!$BA$5:$BA$311,">0") -> 177 | C6: =COUNTIF(Finland!$C$4:$AZ$4,"<>") -> 31 | D6: =IF(C6=0,0,B6/C6) -> 5.7096774 | F6: ="Denmark" -> Denmark | G6: =IF(Denmark!E$4="","",Denmark!E$4) | H6: =IF(G6="","",COUNTIF(Denmark!E$5:E$311,"<>")) | I6: =IF(G6="","",SUMPRODUCT(--(Denmark!E$5:E$311<>""),--($P$4:$P$310>0),--($P$4:$P$310<3))) | K6: =Denmark!A7 -> Whooper swan | L6: =Denmark!BA7 -> 0 | M6: =Norway!BA7 -> 0 | N6: =Finland!BA7 -> 23 | O6: =Sweden!BA7 -> 5 | P6: =SUM(L6:O6) -> 28 | Q6: =COUNTIF(L6:O6,">0") -> 2 | S6: =K6 -> Whooper swan | T6: =P6 -> 28 | U6: =Q6 -> 2 | V6: =TRIM(IF(L6>0,"Denmark ","")&IF(M6>0,"Norway ","")&IF(N6>0,"Finland ","")&IF(O6>0,"Sweden ","")) -> Finland Sweden | X6: =S6 -> Whooper swan | Y6: =IF(AND(P6>0,P6<3),TRIM(IF(L6>0,"Denmark ","")&IF(M6>0,"Norway ","")&IF(N6>0,"Finland ","")&IF(O6>0,"Sweden ","")),"") | Z6: =IF(AND(P6>0,P6<3),TRIM(IF(L6>0,"Denmark: "&IFERROR(LOOKUP(2,1/(Denmark!$C7:$AZ7<>""),Denmark!$C$4:$AZ$4),"")&" ","")&IF(M6>0,"Norway: "&IFERROR(LOOKUP(2,1/(Norway!$C7:$AZ7<>""),Norway!$C$4:$AZ$4),"")&" ","")&IF(N6>0,"Finland: "&IFERROR(LOOKUP(2,1/(Finland!$C7:$AZ7<>""),Finland!$C$4:$AZ$4),"")&" ","")&IF(O6>0,"Sweden: "&IFERROR(LOOKUP(2,1/(Sweden!$C7:$AZ7<>""),Sweden!$C$4:$AZ$4),"")&" ","")),"") | AA6: =P6 -> 28 | AC6: =A6 -> Finland | AD6: =B6 -> 177 | AE6: =C6 -> 31 | AF6: =D6 -> 5.7096774 | AG6: =B6+(8-ROW())/100000 -> 177.00002 | AI6: =F6 -> Denmark | AJ6: =G6 | AK6: =H6 | AL6: =I6 | AM6: =IF(G6="",-1,H6+(204-ROW())/100000) -> -1 | AN6: =IF(G6="",-1,I6+(204-ROW())/100000) -> -1 | AO6: =S6 -> Whooper swan | AP6: =T6 -> 28 | AQ6: =U6 -> 2 | AR6: =V6 -> Finland Sweden | AS6: =T6+(311-ROW())/100000 -> 28.00305 | AU6: =X6 -> Whooper swan | AV6: =Y6 | AW6: =Z6 | AX6: =AA6 -> 28 | AY6: =IF(AND(AX6>0,AX6<3),(3-AX6)*1000+(311-ROW())/1000,-1) -> -1 | BA6: =S6 -> Whooper swan | BB6: =T6 -> 28 | BC6: =U6 -> 2 | BD6: =V6 -> Finland Sweden | BE6: =IF(U6=4,T6+(311-ROW())/100000,-1) -> -1 | BG6: =K6 -> Whooper swan | BH6: =IF(Q6=1,V6,"") | BI6: =IF(Q6=1,TRIM(IF(L6>0,"Denmark: "&IFERROR(LOOKUP(2,1/(Denmark!$C7:$AZ7<>""),Denmark!$C$4:$AZ$4),"")&" ","")&IF(M6>0,"Norway: "&IFERROR(LOOKUP(2,1/(Norway!$C7:$AZ7<>""),Norway!$C$4:$AZ$4),"")&" ","")&IF(N6>0,"Finland: "&IFERROR(LOOKUP(2,1/(Finland!$C7:$AZ7<>""),Finland!$C$4:$AZ$4),"")&" ","")&IF(O6>0,"Sweden: "&IFERROR(LOOKUP(2,1/(Sweden!$C7:$AZ7<>""),Sweden!$C$4:$AZ$4),"")&" ","")),"") | BJ6: =P6 -> 28 | BK6: =IF(Q6=1,P6+(311-ROW())/100000,-1) -> -1
A7: ="Sweden" -> Sweden | B7: =COUNTIF(Sweden!$BA$5:$BA$311,">0") -> 180 | C7: =COUNTIF(Sweden!$C$4:$AZ$4,"<>") -> 23 | D7: =IF(C7=0,0,B7/C7) -> 7.826087 | F7: ="Denmark" -> Denmark | G7: =IF(Denmark!F$4="","",Denmark!F$4) | H7: =IF(G7="","",COUNTIF(Denmark!F$5:F$311,"<>")) | I7: =IF(G7="","",SUMPRODUCT(--(Denmark!F$5:F$311<>""),--($P$4:$P$310>0),--($P$4:$P$310<3))) | K7: =Denmark!A8 -> Tundra bean goose | L7: =Denmark!BA8 -> 0 | M7: =Norway!BA8 -> 0 | N7: =Finland!BA8 -> 3 | O7: =Sweden!BA8 -> 1 | P7: =SUM(L7:O7) -> 4 | Q7: =COUNTIF(L7:O7,">0") -> 2 | S7: =K7 -> Tundra bean goose | T7: =P7 -> 4 | U7: =Q7 -> 2 | V7: =TRIM(IF(L7>0,"Denmark ","")&IF(M7>0,"Norway ","")&IF(N7>0,"Finland ","")&IF(O7>0,"Sweden ","")) -> Finland Sweden | X7: =S7 -> Tundra bean goose | Y7: =IF(AND(P7>0,P7<3),TRIM(IF(L7>0,"Denmark ","")&IF(M7>0,"Norway ","")&IF(N7>0,"Finland ","")&IF(O7>0,"Sweden ","")),"") | Z7: =IF(AND(P7>0,P7<3),TRIM(IF(L7>0,"Denmark: "&IFERROR(LOOKUP(2,1/(Denmark!$C8:$AZ8<>""),Denmark!$C$4:$AZ$4),"")&" ","")&IF(M7>0,"Norway: "&IFERROR(LOOKUP(2,1/(Norway!$C8:$AZ8<>""),Norway!$C$4:$AZ$4),"")&" ","")&IF(N7>0,"Finland: "&IFERROR(LOOKUP(2,1/(Finland!$C8:$AZ8<>""),Finland!$C$4:$AZ$4),"")&" ","")&IF(O7>0,"Sweden: "&IFERROR(LOOKUP(2,1/(Sweden!$C8:$AZ8<>""),Sweden!$C$4:$AZ$4),"")&" ","")),"") | AA7: =P7 -> 4 | AC7: =A7 -> Sweden | AD7: =B7 -> 180 | AE7: =C7 -> 23 | AF7: =D7 -> 7.826087 | AG7: =B7+(8-ROW())/100000 -> 180.00001 | AI7: =F7 -> Denmark | AJ7: =G7 | AK7: =H7 | AL7: =I7 | AM7: =IF(G7="",-1,H7+(204-ROW())/100000) -> -1 | AN7: =IF(G7="",-1,I7+(204-ROW())/100000) -> -1 | AO7: =S7 -> Tundra bean goose | AP7: =T7 -> 4 | AQ7: =U7 -> 2 | AR7: =V7 -> Finland Sweden | AS7: =T7+(311-ROW())/100000 -> 4.00304 | AU7: =X7 -> Tundra bean goose | AV7: =Y7 | AW7: =Z7 | AX7: =AA7 -> 4 | AY7: =IF(AND(AX7>0,AX7<3),(3-AX7)*1000+(311-ROW())/1000,-1) -> -1 | BA7: =S7 -> Tundra bean goose | BB7: =T7 -> 4 | BC7: =U7 -> 2 | BD7: =V7 -> Finland Sweden | BE7: =IF(U7=4,T7+(311-ROW())/100000,-1) -> -1 | BG7: =K7 -> Tundra bean goose | BH7: =IF(Q7=1,V7,"") | BI7: =IF(Q7=1,TRIM(IF(L7>0,"Denmark: "&IFERROR(LOOKUP(2,1/(Denmark!$C8:$AZ8<>""),Denmark!$C$4:$AZ$4),"")&" ","")&IF(M7>0,"Norway: "&IFERROR(LOOKUP(2,1/(Norway!$C8:$AZ8<>""),Norway!$C$4:$AZ$4),"")&" ","")&IF(N7>0,"Finland: "&IFERROR(LOOKUP(2,1/(Finland!$C8:$AZ8<>""),Finland!$C$4:$AZ$4),"")&" ","")&IF(O7>0,"Sweden: "&IFERROR(LOOKUP(2,1/(Sweden!$C8:$AZ8<>""),Sweden!$C$4:$AZ$4),"")&" ","")),"") | BJ7: =P7 -> 4 | BK7: =IF(Q7=1,P7+(311-ROW())/100000,-1) -> -1
F8: ="Denmark" -> Denmark | G8: =IF(Denmark!G$4="","",Denmark!G$4) | H8: =IF(G8="","",COUNTIF(Denmark!G$5:G$311,"<>")) | I8: =IF(G8="","",SUMPRODUCT(--(Denmark!G$5:G$311<>""),--($P$4:$P$310>0),--($P$4:$P$310<3))) | K8: =Denmark!A9 -> Pink-footed goose | L8: =Denmark!BA9 -> 0 | M8: =Norway!BA9 -> 1 | N8: =Finland!BA9 -> 3 | O8: =Sweden!BA9 -> 0 | P8: =SUM(L8:O8) -> 4 | Q8: =COUNTIF(L8:O8,">0") -> 2 | S8: =K8 -> Pink-footed goose | T8: =P8 -> 4 | U8: =Q8 -> 2 | V8: =TRIM(IF(L8>0,"Denmark ","")&IF(M8>0,"Norway ","")&IF(N8>0,"Finland ","")&IF(O8>0,"Sweden ","")) -> Norway Finland | X8: =S8 -> Pink-footed goose | Y8: =IF(AND(P8>0,P8<3),TRIM(IF(L8>0,"Denmark ","")&IF(M8>0,"Norway ","")&IF(N8>0,"Finland ","")&IF(O8>0,"Sweden ","")),"") | Z8: =IF(AND(P8>0,P8<3),TRIM(IF(L8>0,"Denmark: "&IFERROR(LOOKUP(2,1/(Denmark!$C9:$AZ9<>""),Denmark!$C$4:$AZ$4),"")&" ","")&IF(M8>0,"Norway: "&IFERROR(LOOKUP(2,1/(Norway!$C9:$AZ9<>""),Norway!$C$4:$AZ$4),"")&" ","")&IF(N8>0,"Finland: "&IFERROR(LOOKUP(2,1/(Finland!$C9:$AZ9<>""),Finland!$C$4:$AZ$4),"")&" ","")&IF(O8>0,"Sweden: "&IFERROR(LOOKUP(2,1/(Sweden!$C9:$AZ9<>""),Sweden!$C$4:$AZ$4),"")&" ","")),"") | AA8: =P8 -> 4 | AI8: =F8 -> Denmark | AJ8: =G8 | AK8: =H8 | AL8: =I8 | AM8: =IF(G8="",-1,H8+(204-ROW())/100000) -> -1 | AN8: =IF(G8="",-1,I8+(204-ROW())/100000) -> -1 | AO8: =S8 -> Pink-footed goose | AP8: =T8 -> 4 | AQ8: =U8 -> 2 | AR8: =V8 -> Norway Finland | AS8: =T8+(311-ROW())/100000 -> 4.00303 | AU8: =X8 -> Pink-footed goose | AV8: =Y8 | AW8: =Z8 | AX8: =AA8 -> 4 | AY8: =IF(AND(AX8>0,AX8<3),(3-AX8)*1000+(311-ROW())/1000,-1) -> -1 | BA8: =S8 -> Pink-footed goose | BB8: =T8 -> 4 | BC8: =U8 -> 2 | BD8: =V8 -> Norway Finland | BE8: =IF(U8=4,T8+(311-ROW())/100000,-1) -> -1 | BG8: =K8 -> Pink-footed goose | BH8: =IF(Q8=1,V8,"") | BI8: =IF(Q8=1,TRIM(IF(L8>0,"Denmark: "&IFERROR(LOOKUP(2,1/(Denmark!$C9:$AZ9<>""),Denmark!$C$4:$AZ$4),"")&" ","")&IF(M8>0,"Norway: "&IFERROR(LOOKUP(2,1/(Norway!$C9:$AZ9<>""),Norway!$C$4:$AZ$4),"")&" ","")&IF(N8>0,"Finland: "&IFERROR(LOOKUP(2,1/(Finland!$C9:$AZ9<>""),Finland!$C$4:$AZ$4),"")&" ","")&IF(O8>0,"Sweden: "&IFERROR(LOOKUP(2,1/(Sweden!$C9:$AZ9<>""),Sweden!$C$4:$AZ$4),"")&" ","")),"") | BJ8: =P8 -> 4 | BK8: =IF(Q8=1,P8+(311-ROW())/100000,-1) -> -1
F9: ="Denmark" -> Denmark | G9: =IF(Denmark!H$4="","",Denmark!H$4) | H9: =IF(G9="","",COUNTIF(Denmark!H$5:H$311,"<>")) | I9: =IF(G9="","",SUMPRODUCT(--(Denmark!H$5:H$311<>""),--($P$4:$P$310>0),--($P$4:$P$310<3))) | K9: =Denmark!A10 -> Taiga bean goose | L9: =Denmark!BA10 -> 0 | M9: =Norway!BA10 -> 0 | N9: =Finland!BA10 -> 8 | O9: =Sweden!BA10 -> 1 | P9: =SUM(L9:O9) -> 9 | Q9: =COUNTIF(L9:O9,">0") -> 2 | S9: =K9 -> Taiga bean goose | T9: =P9 -> 9 | U9: =Q9 -> 2 | V9: =TRIM(IF(L9>0,"Denmark ","")&IF(M9>0,"Norway ","")&IF(N9>0,"Finland ","")&IF(O9>0,"Sweden ","")) -> Finland Sweden | X9: =S9 -> Taiga bean goose | Y9: =IF(AND(P9>0,P9<3),TRIM(IF(L9>0,"Denmark ","")&IF(M9>0,"Norway ","")&IF(N9>0,"Finland ","")&IF(O9>0,"Sweden ","")),"") | Z9: =IF(AND(P9>0,P9<3),TRIM(IF(L9>0,"Denmark: "&IFERROR(LOOKUP(2,1/(Denmark!$C10:$AZ10<>""),Denmark!$C$4:$AZ$4),"")&" ","")&IF(M9>0,"Norway: "&IFERROR(LOOKUP(2,1/(Norway!$C10:$AZ10<>""),Norway!$C$4:$AZ$4),"")&" ","")&IF(N9>0,"Finland: "&IFERROR(LOOKUP(2,1/(Finland!$C10:$AZ10<>""),Finland!$C$4:$AZ$4),"")&" ","")&IF(O9>0,"Sweden: "&IFERROR(LOOKUP(2,1/(Sweden!$C10:$AZ10<>""),Sweden!$C$4:$AZ$4),"")&" ","")),"") | AA9: =P9 -> 9 | AI9: =F9 -> Denmark | AJ9: =G9 | AK9: =H9 | AL9: =I9 | AM9: =IF(G9="",-1,H9+(204-ROW())/100000) -> -1 | AN9: =IF(G9="",-1,I9+(204-ROW())/100000) -> -1 | AO9: =S9 -> Taiga bean goose | AP9: =T9 -> 9 | AQ9: =U9 -> 2 | AR9: =V9 -> Finland Sweden | AS9: =T9+(311-ROW())/100000 -> 9.00302 | AU9: =X9 -> Taiga bean goose | AV9: =Y9 | AW9: =Z9 | AX9: =AA9 -> 9 | AY9: =IF(AND(AX9>0,AX9<3),(3-AX9)*1000+(311-ROW())/1000,-1) -> -1 | BA9: =S9 -> Taiga bean goose | BB9: =T9 -> 9 | BC9: =U9 -> 2 | BD9: =V9 -> Finland Sweden | BE9: =IF(U9=4,T9+(311-ROW())/100000,-1) -> -1 | BG9: =K9 -> Taiga bean goose | BH9: =IF(Q9=1,V9,"") | BI9: =IF(Q9=1,TRIM(IF(L9>0,"Denmark: "&IFERROR(LOOKUP(2,1/(Denmark!$C10:$AZ10<>""),Denmark!$C$4:$AZ$4),"")&" ","")&IF(M9>0,"Norway: "&IFERROR(LOOKUP(2,1/(Norway!$C10:$AZ10<>""),Norway!$C$4:$AZ$4),"")&" ","")&IF(N9>0,"Finland: "&IFERROR(LOOKUP(2,1/(Finland!$C10:$AZ10<>""),Finland!$C$4:$AZ$4),"")&" ","")&IF(O9>0,"Sweden: "&IFERROR(LOOKUP(2,1/(Sweden!$C10:$AZ10<>""),Sweden!$C$4:$AZ$4),"")&" ","")),"") | BJ9: =P9 -> 9 | BK9: =IF(Q9=1,P9+(311-ROW())/100000,-1) -> -1
F10: ="Denmark" -> Denmark | G10: =IF(Denmark!I$4="","",Denmark!I$4) | H10: =IF(G10="","",COUNTIF(Denmark!I$5:I$311,"<>")) | I10: =IF(G10="","",SUMPRODUCT(--(Denmark!I$5:I$311<>""),--($P$4:$P$310>0),--($P$4:$P$310<3))) | K10: =Denmark!A11 -> Greater white-fronted goose | L10: =Denmark!BA11 -> 0 | M10: =Norway!BA11 -> 0 | N10: =Finland!BA11 -> 0 | O10: =Sweden!BA11 -> 1 | P10: =SUM(L10:O10) -> 1 | Q10: =COUNTIF(L10:O10,">0") -> 1 | S10: =K10 -> Greater white-fronted goose | T10: =P10 -> 1 | U10: =Q10 -> 1 | V10: =TRIM(IF(L10>0,"Denmark ","")&IF(M10>0,"Norway ","")&IF(N10>0,"Finland ","")&IF(O10>0,"Sweden ","")) -> Sweden | X10: =S10 -> Greater white-fronted goose | Y10: =IF(AND(P10>0,P10<3),TRIM(IF(L10>0,"Denmark ","")&IF(M10>0,"Norway ","")&IF(N10>0,"Finland ","")&IF(O10>0,"Sweden ","")),"") -> Sweden | Z10: =IF(AND(P10>0,P10<3),TRIM(IF(L10>0,"Denmark: "&IFERROR(LOOKUP(2,1/(Denmark!$C11:$AZ11<>""),Denmark!$C$4:$AZ$4),"")&" ","")&IF(M10>0,"Norway: "&IFERROR(LOOKUP(2,1/(Norway!$C11:$AZ11<>""),Norway!$C$4:$AZ$4),"")&" ","")&IF(N10>0,"Finland: "&IFERROR(LOOKUP(2,1/(Finland!$C11:$AZ11<>""),Finland!$C$4:$AZ$4),"")&" ","")&IF(O10>0,"Sweden: "&IFERROR(LOOKUP(2,1/(Sweden!$C11:$AZ11<>""),Sweden!$C$4:$AZ$4),"")&" ","")),"") -> Sweden: Max Lundell | AA10: =P10 -> 1 | AI10: =F10 -> Denmark | AJ10: =G10 | AK10: =H10 | AL10: =I10 | AM10: =IF(G10="",-1,H10+(204-ROW())/100000) -> -1 | AN10: =IF(G10="",-1,I10+(204-ROW())/100000) -> -1 | AO10: =S10 -> Greater white-fronted goose | AP10: =T10 -> 1 | AQ10: =U10 -> 1 | AR10: =V10 -> Sweden | AS10: =T10+(311-ROW())/100000 -> 1.00301 | AU10: =X10 -> Greater white-fronted goose | AV10: =Y10 -> Sweden | AW10: =Z10 -> Sweden: Max Lundell | AX10: =AA10 -> 1 | AY10: =IF(AND(AX10>0,AX10<3),(3-AX10)*1000+(311-ROW())/1000,-1) -> 2000.301 | BA10: =S10 -> Greater white-fronted goose | BB10: =T10 -> 1 | BC10: =U10 -> 1 | BD10: =V10 -> Sweden | BE10: =IF(U10=4,T10+(311-ROW())/100000,-1) -> -1 | BG10: =K10 -> Greater white-fronted goose | BH10: =IF(Q10=1,V10,"") -> Sweden | BI10: =IF(Q10=1,TRIM(IF(L10>0,"Denmark: "&IFERROR(LOOKUP(2,1/(Denmark!$C11:$AZ11<>""),Denmark!$C$4:$AZ$4),"")&" ","")&IF(M10>0,"Norway: "&IFERROR(LOOKUP(2,1/(Norway!$C11:$AZ11<>""),Norway!$C$4:$AZ$4),"")&" ","")&IF(N10>0,"Finland: "&IFERROR(LOOKUP(2,1/(Finland!$C11:$AZ11<>""),Finland!$C$4:$AZ$4),"")&" ","")&IF(O10>0,"Sweden: "&IFERROR(LOOKUP(2,1/(Sweden!$C11:$AZ11<>""),Sweden!$C$4:$AZ$4),"")&" ","")),"") -> Sweden: Max Lundell | BJ10: =P10 -> 1 | BK10: =IF(Q10=1,P10+(311-ROW())/100000,-1) -> 1.00301
F11: ="Denmark" -> Denmark | G11: =IF(Denmark!J$4="","",Denmark!J$4) | H11: =IF(G11="","",COUNTIF(Denmark!J$5:J$311,"<>")) | I11: =IF(G11="","",SUMPRODUCT(--(Denmark!J$5:J$311<>""),--($P$4:$P$310>0),--($P$4:$P$310<3))) | K11: =Denmark!A12 -> Lesser white-fronted goose | L11: =Denmark!BA12 -> 0 | M11: =Norway!BA12 -> 0 | N11: =Finland!BA12 -> 0 | O11: =Sweden!BA12 -> 0 | P11: =SUM(L11:O11) -> 0 | Q11: =COUNTIF(L11:O11,">0") -> 0 | S11: =K11 -> Lesser white-fronted goose | T11: =P11 -> 0 | U11: =Q11 -> 0 | V11: =TRIM(IF(L11>0,"Denmark ","")&IF(M11>0,"Norway ","")&IF(N11>0,"Finland ","")&IF(O11>0,"Sweden ","")) | X11: =S11 -> Lesser white-fronted goose | Y11: =IF(AND(P11>0,P11<3),TRIM(IF(L11>0,"Denmark ","")&IF(M11>0,"Norway ","")&IF(N11>0,"Finland ","")&IF(O11>0,"Sweden ","")),"") | Z11: =IF(AND(P11>0,P11<3),TRIM(IF(L11>0,"Denmark: "&IFERROR(LOOKUP(2,1/(Denmark!$C12:$AZ12<>""),Denmark!$C$4:$AZ$4),"")&" ","")&IF(M11>0,"Norway: "&IFERROR(LOOKUP(2,1/(Norway!$C12:$AZ12<>""),Norway!$C$4:$AZ$4),"")&" ","")&IF(N11>0,"Finland: "&IFERROR(LOOKUP(2,1/(Finland!$C12:$AZ12<>""),Finland!$C$4:$AZ$4),"")&" ","")&IF(O11>0,"Sweden: "&IFERROR(LOOKUP(2,1/(Sweden!$C12:$AZ12<>""),Sweden!$C$4:$AZ$4),"")&" ","")),"") | AA11: =P11 -> 0 | AI11: =F11 -> Denmark | AJ11: =G11 | AK11: =H11 | AL11: =I11 | AM11: =IF(G11="",-1,H11+(204-ROW())/100000) -> -1 | AN11: =IF(G11="",-1,I11+(204-ROW())/100000) -> -1 | AO11: =S11 -> Lesser white-fronted goose | AP11: =T11 -> 0 | AQ11: =U11 -> 0 | AR11: =V11 | AS11: =T11+(311-ROW())/100000 -> 0.003 | AU11: =X11 -> Lesser white-fronted goose | AV11: =Y11 | AW11: =Z11 | AX11: =AA11 -> 0 | AY11: =IF(AND(AX11>0,AX11<3),(3-AX11)*1000+(311-ROW())/1000,-1) -> -1 | BA11: =S11 -> Lesser white-fronted goose | BB11: =T11 -> 0 | BC11: =U11 -> 0 | BD11: =V11 | BE11: =IF(U11=4,T11+(311-ROW())/100000,-1) -> -1 | BG11: =K11 -> Lesser white-fronted goose | BH11: =IF(Q11=1,V11,"") | BI11: =IF(Q11=1,TRIM(IF(L11>0,"Denmark: "&IFERROR(LOOKUP(2,1/(Denmark!$C12:$AZ12<>""),Denmark!$C$4:$AZ$4),"")&" ","")&IF(M11>0,"Norway: "&IFERROR(LOOKUP(2,1/(Norway!$C12:$AZ12<>""),Norway!$C$4:$AZ$4),"")&" ","")&IF(N11>0,"Finland: "&IFERROR(LOOKUP(2,1/(Finland!$C12:$AZ12<>""),Finland!$C$4:$AZ$4),"")&" ","")&IF(O11>0,"Sweden: "&IFERROR(LOOKUP(2,1/(Sweden!$C12:$AZ12<>""),Sweden!$C$4:$AZ$4),"")&" ","")),"") | BJ11: =P11 -> 0 | BK11: =IF(Q11=1,P11+(311-ROW())/100000,-1) -> -1
F12: ="Denmark" -> Denmark | G12: =IF(Denmark!K$4="","",Denmark!K$4) | H12: =IF(G12="","",COUNTIF(Denmark!K$5:K$311,"<>")) | I12: =IF(G12="","",SUMPRODUCT(--(Denmark!K$5:K$311<>""),--($P$4:$P$310>0),--($P$4:$P$310<3))) | K12: =Denmark!A13 -> Greylag goose | L12: =Denmark!BA13 -> 0 | M12: =Norway!BA13 -> 3 | N12: =Finland!BA13 -> 9 | O12: =Sweden!BA13 -> 12 | P12: =SUM(L12:O12) -> 24 | Q12: =COUNTIF(L12:O12,">0") -> 3 | S12: =K12 -> Greylag goose | T12: =P12 -> 24 | U12: =Q12 -> 3 | V12: =TRIM(IF(L12>0,"Denmark ","")&IF(M12>0,"Norway ","")&IF(N12>0,"Finland ","")&IF(O12>0,"Sweden ","")) -> Norway Finland Sweden | X12: =S12 -> Greylag goose | Y12: =IF(AND(P12>0,P12<3),TRIM(IF(L12>0,"Denmark ","")&IF(M12>0,"Norway ","")&IF(N12>0,"Finland ","")&IF(O12>0,"Sweden ","")),"") | Z12: =IF(AND(P12>0,P12<3),TRIM(IF(L12>0,"Denmark: "&IFERROR(LOOKUP(2,1/(Denmark!$C13:$AZ13<>""),Denmark!$C$4:$AZ$4),"")&" ","")&IF(M12>0,"Norway: "&IFERROR(LOOKUP(2,1/(Norway!$C13:$AZ13<>""),Norway!$C$4:$AZ$4),"")&" ","")&IF(N12>0,"Finland: "&IFERROR(LOOKUP(2,1/(Finland!$C13:$AZ13<>""),Finland!$C$4:$AZ$4),"")&" ","")&IF(O12>0,"Sweden: "&IFERROR(LOOKUP(2,1/(Sweden!$C13:$AZ13<>""),Sweden!$C$4:$AZ$4),"")&" ","")),"") | AA12: =P12 -> 24 | AI12: =F12 -> Denmark | AJ12: =G12 | AK12: =H12 | AL12: =I12 | AM12: =IF(G12="",-1,H12+(204-ROW())/100000) -> -1 | AN12: =IF(G12="",-1,I12+(204-ROW())/100000) -> -1 | AO12: =S12 -> Greylag goose | AP12: =T12 -> 24 | AQ12: =U12 -> 3 | AR12: =V12 -> Norway Finland Sweden | AS12: =T12+(311-ROW())/100000 -> 24.00299 | AU12: =X12 -> Greylag goose | AV12: =Y12 | AW12: =Z12 | AX12: =AA12 -> 24 | AY12: =IF(AND(AX12>0,AX12<3),(3-AX12)*1000+(311-ROW())/1000,-1) -> -1 | BA12: =S12 -> Greylag goose | BB12: =T12 -> 24 | BC12: =U12 -> 3 | BD12: =V12 -> Norway Finland Sweden | BE12: =IF(U12=4,T12+(311-ROW())/100000,-1) -> -1 | BG12: =K12 -> Greylag goose | BH12: =IF(Q12=1,V12,"") | BI12: =IF(Q12=1,TRIM(IF(L12>0,"Denmark: "&IFERROR(LOOKUP(2,1/(Denmark!$C13:$AZ13<>""),Denmark!$C$4:$AZ$4),"")&" ","")&IF(M12>0,"Norway: "&IFERROR(LOOKUP(2,1/(Norway!$C13:$AZ13<>""),Norway!$C$4:$AZ$4),"")&" ","")&IF(N12>0,"Finland: "&IFERROR(LOOKUP(2,1/(Finland!$C13:$AZ13<>""),Finland!$C$4:$AZ$4),"")&" ","")&IF(O12>0,"Sweden: "&IFERROR(LOOKUP(2,1/(Sweden!$C13:$AZ13<>""),Sweden!$C$4:$AZ$4),"")&" ","")),"") | BJ12: =P12 -> 24 | BK12: =IF(Q12=1,P12+(311-ROW())/100000,-1) -> -1
F13: ="Denmark" -> Denmark | G13: =IF(Denmark!L$4="","",Denmark!L$4) | H13: =IF(G13="","",COUNTIF(Denmark!L$5:L$311,"<>")) | I13: =IF(G13="","",SUMPRODUCT(--(Denmark!L$5:L$311<>""),--($P$4:$P$310>0),--($P$4:$P$310<3))) | K13: =Denmark!A14 -> Canada goose | L13: =Denmark!BA14 -> 0 | M13: =Norway!BA14 -> 1 | N13: =Finland!BA14 -> 6 | O13: =Sweden!BA14 -> 12 | P13: =SUM(L13:O13) -> 19 | Q13: =COUNTIF(L13:O13,">0") -> 3 | S13: =K13 -> Canada goose | T13: =P13 -> 19 | U13: =Q13 -> 3 | V13: =TRIM(IF(L13>0,"Denmark ","")&IF(M13>0,"Norway ","")&IF(N13>0,"Finland ","")&IF(O13>0,"Sweden ","")) -> Norway Finland Sweden | X13: =S13 -> Canada goose | Y13: =IF(AND(P13>0,P13<3),TRIM(IF(L13>0,"Denmark ","")&IF(M13>0,"Norway ","")&IF(N13>0,"Finland ","")&IF(O13>0,"Sweden ","")),"") | Z13: =IF(AND(P13>0,P13<3),TRIM(IF(L13>0,"Denmark: "&IFERROR(LOOKUP(2,1/(Denmark!$C14:$AZ14<>""),Denmark!$C$4:$AZ$4),"")&" ","")&IF(M13>0,"Norway: "&IFERROR(LOOKUP(2,1/(Norway!$C14:$AZ14<>""),Norway!$C$4:$AZ$4),"")&" ","")&IF(N13>0,"Finland: "&IFERROR(LOOKUP(2,1/(Finland!$C14:$AZ14<>""),Finland!$C$4:$AZ$4),"")&" ","")&IF(O13>0,"Sweden: "&IFERROR(LOOKUP(2,1/(Sweden!$C14:$AZ14<>""),Sweden!$C$4:$AZ$4),"")&" ","")),"") | AA13: =P13 -> 19 | AI13: =F13 -> Denmark | AJ13: =G13 | AK13: =H13 | AL13: =I13 | AM13: =IF(G13="",-1,H13+(204-ROW())/100000) -> -1 | AN13: =IF(G13="",-1,I13+(204-ROW())/100000) -> -1 | AO13: =S13 -> Canada goose | AP13: =T13 -> 19 | AQ13: =U13 -> 3 | AR13: =V13 -> Norway Finland Sweden | AS13: =T13+(311-ROW())/100000 -> 19.00298 | AU13: =X13 -> Canada goose | AV13: =Y13 | AW13: =Z13 | AX13: =AA13 -> 19 | AY13: =IF(AND(AX13>0,AX13<3),(3-AX13)*1000+(311-ROW())/1000,-1) -> -1 | BA13: =S13 -> Canada goose | BB13: =T13 -> 19 | BC13: =U13 -> 3 | BD13: =V13 -> Norway Finland Sweden | BE13: =IF(U13=4,T13+(311-ROW())/100000,-1) -> -1 | BG13: =K13 -> Canada goose | BH13: =IF(Q13=1,V13,"") | BI13: =IF(Q13=1,TRIM(IF(L13>0,"Denmark: "&IFERROR(LOOKUP(2,1/(Denmark!$C14:$AZ14<>""),Denmark!$C$4:$AZ$4),"")&" ","")&IF(M13>0,"Norway: "&IFERROR(LOOKUP(2,1/(Norway!$C14:$AZ14<>""),Norway!$C$4:$AZ$4),"")&" ","")&IF(N13>0,"Finland: "&IFERROR(LOOKUP(2,1/(Finland!$C14:$AZ14<>""),Finland!$C$4:$AZ$4),"")&" ","")&IF(O13>0,"Sweden: "&IFERROR(LOOKUP(2,1/(Sweden!$C14:$AZ14<>""),Sweden!$C$4:$AZ$4),"")&" ","")),"") | BJ13: =P13 -> 19 | BK13: =IF(Q13=1,P13+(311-ROW())/100000,-1) -> -1
F14: ="Denmark" -> Denmark | G14: =IF(Denmark!M$4="","",Denmark!M$4) | H14: =IF(G14="","",COUNTIF(Denmark!M$5:M$311,"<>")) | I14: =IF(G14="","",SUMPRODUCT(--(Denmark!M$5:M$311<>""),--($P$4:$P$310>0),--($P$4:$P$310<3))) | K14: =Denmark!A15 -> Barnacle goose | L14: =Denmark!BA15 -> 0 | M14: =Norway!BA15 -> 1 | N14: =Finland!BA15 -> 8 | O14: =Sweden!BA15 -> 5 | P14: =SUM(L14:O14) -> 14 | Q14: =COUNTIF(L14:O14,">0") -> 3 | S14: =K14 -> Barnacle goose | T14: =P14 -> 14 | U14: =Q14 -> 3 | V14: =TRIM(IF(L14>0,"Denmark ","")&IF(M14>0,"Norway ","")&IF(N14>0,"Finland ","")&IF(O14>0,"Sweden ","")) -> Norway Finland Sweden | X14: =S14 -> Barnacle goose | Y14: =IF(AND(P14>0,P14<3),TRIM(IF(L14>0,"Denmark ","")&IF(M14>0,"Norway ","")&IF(N14>0,"Finland ","")&IF(O14>0,"Sweden ","")),"") | Z14: =IF(AND(P14>0,P14<3),TRIM(IF(L14>0,"Denmark: "&IFERROR(LOOKUP(2,1/(Denmark!$C15:$AZ15<>""),Denmark!$C$4:$AZ$4),"")&" ","")&IF(M14>0,"Norway: "&IFERROR(LOOKUP(2,1/(Norway!$C15:$AZ15<>""),Norway!$C$4:$AZ$4),"")&" ","")&IF(N14>0,"Finland: "&IFERROR(LOOKUP(2,1/(Finland!$C15:$AZ15<>""),Finland!$C$4:$AZ$4),"")&" ","")&IF(O14>0,"Sweden: "&IFERROR(LOOKUP(2,1/(Sweden!$C15:$AZ15<>""),Sweden!$C$4:$AZ$4),"")&" ","")),"") | AA14: =P14 -> 14 | AI14: =F14 -> Denmark | AJ14: =G14 | AK14: =H14 | AL14: =I14 | AM14: =IF(G14="",-1,H14+(204-ROW())/100000) -> -1 | AN14: =IF(G14="",-1,I14+(204-ROW())/100000) -> -1 | AO14: =S14 -> Barnacle goose | AP14: =T14 -> 14 | AQ14: =U14 -> 3 | AR14: =V14 -> Norway Finland Sweden | AS14: =T14+(311-ROW())/100000 -> 14.00297 | AU14: =X14 -> Barnacle goose | AV14: =Y14 | AW14: =Z14 | AX14: =AA14 -> 14 | AY14: =IF(AND(AX14>0,AX14<3),(3-AX14)*1000+(311-ROW())/1000,-1) -> -1 | BA14: =S14 -> Barnacle goose | BB14: =T14 -> 14 | BC14: =U14 -> 3 | BD14: =V14 -> Norway Finland Sweden | BE14: =IF(U14=4,T14+(311-ROW())/100000,-1) -> -1 | BG14: =K14 -> Barnacle goose | BH14: =IF(Q14=1,V14,"") | BI14: =IF(Q14=1,TRIM(IF(L14>0,"Denmark: "&IFERROR(LOOKUP(2,1/(Denmark!$C15:$AZ15<>""),Denmark!$C$4:$AZ$4),"")&" ","")&IF(M14>0,"Norway: "&IFERROR(LOOKUP(2,1/(Norway!$C15:$AZ15<>""),Norway!$C$4:$AZ$4),"")&" ","")&IF(N14>0,"Finland: "&IFERROR(LOOKUP(2,1/(Finland!$C15:$AZ15<>""),Finland!$C$4:$AZ$4),"")&" ","")&IF(O14>0,"Sweden: "&IFERROR(LOOKUP(2,1/(Sweden!$C15:$AZ15<>""),Sweden!$C$4:$AZ$4),"")&" ","")),"") | BJ14: =P14 -> 14 | BK14: =IF(Q14=1,P14+(311-ROW())/100000,-1) -> -1
F15: ="Denmark" -> Denmark | G15: =IF(Denmark!N$4="","",Denmark!N$4) | H15: =IF(G15="","",COUNTIF(Denmark!N$5:N$311,"<>")) | I15: =IF(G15="","",SUMPRODUCT(--(Denmark!N$5:N$311<>""),--($P$4:$P$310>0),--($P$4:$P$310<3))) | K15: =Denmark!A16 -> Brant goose | L15: =Denmark!BA16 -> 0 | M15: =Norway!BA16 -> 1 | N15: =Finland!BA16 -> 0 | O15: =Sweden!BA16 -> 0 | P15: =SUM(L15:O15) -> 1 | Q15: =COUNTIF(L15:O15,">0") -> 1 | S15: =K15 -> Brant goose | T15: =P15 -> 1 | U15: =Q15 -> 1 | V15: =TRIM(IF(L15>0,"Denmark ","")&IF(M15>0,"Norway ","")&IF(N15>0,"Finland ","")&IF(O15>0,"Sweden ","")) -> Norway | X15: =S15 -> Brant goose | Y15: =IF(AND(P15>0,P15<3),TRIM(IF(L15>0,"Denmark ","")&IF(M15>0,"Norway ","")&IF(N15>0,"Finland ","")&IF(O15>0,"Sweden ","")),"") -> Norway | Z15: =IF(AND(P15>0,P15<3),TRIM(IF(L15>0,"Denmark: "&IFERROR(LOOKUP(2,1/(Denmark!$C16:$AZ16<>""),Denmark!$C$4:$AZ$4),"")&" ","")&IF(M15>0,"Norway: "&IFERROR(LOOKUP(2,1/(Norway!$C16:$AZ16<>""),Norway!$C$4:$AZ$4),"")&" ","")&IF(N15>0,"Finland: "&IFERROR(LOOKUP(2,1/(Finland!$C16:$AZ16<>""),Finland!$C$4:$AZ$4),"")&" ","")&IF(O15>0,"Sweden: "&IFERROR(LOOKUP(2,1/(Sweden!$C16:$AZ16<>""),Sweden!$C$4:$AZ$4),"")&" ","")),"") -> Norway: Aleksanteri Mikkola | AA15: =P15 -> 1 | AI15: =F15 -> Denmark | AJ15: =G15 | AK15: =H15 | AL15: =I15 | AM15: =IF(G15="",-1,H15+(204-ROW())/100000) -> -1 | AN15: =IF(G15="",-1,I15+(204-ROW())/100000) -> -1 | AO15: =S15 -> Brant goose | AP15: =T15 -> 1 | AQ15: =U15 -> 1 | AR15: =V15 -> Norway | AS15: =T15+(311-ROW())/100000 -> 1.00296 | AU15: =X15 -> Brant goose | AV15: =Y15 -> Norway | AW15: =Z15 -> Norway: Aleksanteri Mikkola | AX15: =AA15 -> 1 | AY15: =IF(AND(AX15>0,AX15<3),(3-AX15)*1000+(311-ROW())/1000,-1) -> 2000.296 | BA15: =S15 -> Brant goose | BB15: =T15 -> 1 | BC15: =U15 -> 1 | BD15: =V15 -> Norway | BE15: =IF(U15=4,T15+(311-ROW())/100000,-1) -> -1 | BG15: =K15 -> Brant goose | BH15: =IF(Q15=1,V15,"") -> Norway | BI15: =IF(Q15=1,TRIM(IF(L15>0,"Denmark: "&IFERROR(LOOKUP(2,1/(Denmark!$C16:$AZ16<>""),Denmark!$C$4:$AZ$4),"")&" ","")&IF(M15>0,"Norway: "&IFERROR(LOOKUP(2,1/(Norway!$C16:$AZ16<>""),Norway!$C$4:$AZ$4),"")&" ","")&IF(N15>0,"Finland: "&IFERROR(LOOKUP(2,1/(Finland!$C16:$AZ16<>""),Finland!$C$4:$AZ$4),"")&" ","")&IF(O15>0,"Sweden: "&IFERROR(LOOKUP(2,1/(Sweden!$C16:$AZ16<>""),Sweden!$C$4:$AZ$4),"")&" ","")),"") -> Norway: Aleksanteri Mikkola | BJ15: =P15 -> 1 | BK15: =IF(Q15=1,P15+(311-ROW())/100000,-1) -> 1.00296
F16: ="Denmark" -> Denmark | G16: =IF(Denmark!O$4="","",Denmark!O$4) | H16: =IF(G16="","",COUNTIF(Denmark!O$5:O$311,"<>")) | I16: =IF(G16="","",SUMPRODUCT(--(Denmark!O$5:O$311<>""),--($P$4:$P$310>0),--($P$4:$P$310<3))) | K16: =Denmark!A17 -> Red-breasted goose | L16: =Denmark!BA17 -> 0 | M16: =Norway!BA17 -> 0 | N16: =Finland!BA17 -> 0 | O16: =Sweden!BA17 -> 0 | P16: =SUM(L16:O16) -> 0 | Q16: =COUNTIF(L16:O16,">0") -> 0 | S16: =K16 -> Red-breasted goose | T16: =P16 -> 0 | U16: =Q16 -> 0 | V16: =TRIM(IF(L16>0,"Denmark ","")&IF(M16>0,"Norway ","")&IF(N16>0,"Finland ","")&IF(O16>0,"Sweden ","")) | X16: =S16 -> Red-breasted goose | Y16: =IF(AND(P16>0,P16<3),TRIM(IF(L16>0,"Denmark ","")&IF(M16>0,"Norway ","")&IF(N16>0,"Finland ","")&IF(O16>0,"Sweden ","")),"") | Z16: =IF(AND(P16>0,P16<3),TRIM(IF(L16>0,"Denmark: "&IFERROR(LOOKUP(2,1/(Denmark!$C17:$AZ17<>""),Denmark!$C$4:$AZ$4),"")&" ","")&IF(M16>0,"Norway: "&IFERROR(LOOKUP(2,1/(Norway!$C17:$AZ17<>""),Norway!$C$4:$AZ$4),"")&" ","")&IF(N16>0,"Finland: "&IFERROR(LOOKUP(2,1/(Finland!$C17:$AZ17<>""),Finland!$C$4:$AZ$4),"")&" ","")&IF(O16>0,"Sweden: "&IFERROR(LOOKUP(2,1/(Sweden!$C17:$AZ17<>""),Sweden!$C$4:$AZ$4),"")&" ","")),"") | AA16: =P16 -> 0 | AI16: =F16 -> Denmark | AJ16: =G16 | AK16: =H16 | AL16: =I16 | AM16: =IF(G16="",-1,H16+(204-ROW())/100000) -> -1 | AN16: =IF(G16="",-1,I16+(204-ROW())/100000) -> -1 | AO16: =S16 -> Red-breasted goose | AP16: =T16 -> 0 | AQ16: =U16 -> 0 | AR16: =V16 | AS16: =T16+(311-ROW())/100000 -> 0.00295 | AU16: =X16 -> Red-breasted goose | AV16: =Y16 | AW16: =Z16 | AX16: =AA16 -> 0 | AY16: =IF(AND(AX16>0,AX16<3),(3-AX16)*1000+(311-ROW())/1000,-1) -> -1 | BA16: =S16 -> Red-breasted goose | BB16: =T16 -> 0 | BC16: =U16 -> 0 | BD16: =V16 | BE16: =IF(U16=4,T16+(311-ROW())/100000,-1) -> -1 | BG16: =K16 -> Red-breasted goose | BH16: =IF(Q16=1,V16,"") | BI16: =IF(Q16=1,TRIM(IF(L16>0,"Denmark: "&IFERROR(LOOKUP(2,1/(Denmark!$C17:$AZ17<>""),Denmark!$C$4:$AZ$4),"")&" ","")&IF(M16>0,"Norway: "&IFERROR(LOOKUP(2,1/(Norway!$C17:$AZ17<>""),Norway!$C$4:$AZ$4),"")&" ","")&IF(N16>0,"Finland: "&IFERROR(LOOKUP(2,1/(Finland!$C17:$AZ17<>""),Finland!$C$4:$AZ$4),"")&" ","")&IF(O16>0,"Sweden: "&IFERROR(LOOKUP(2,1/(Sweden!$C17:$AZ17<>""),Sweden!$C$4:$AZ$4),"")&" ","")),"") | BJ16: =P16 -> 0 | BK16: =IF(Q16=1,P16+(311-ROW())/100000,-1) -> -1
F17: ="Denmark" -> Denmark | G17: =IF(Denmark!P$4="","",Denmark!P$4) | H17: =IF(G17="","",COUNTIF(Denmark!P$5:P$311,"<>")) | I17: =IF(G17="","",SUMPRODUCT(--(Denmark!P$5:P$311<>""),--($P$4:$P$310>0),--($P$4:$P$310<3))) | K17: =Denmark!A18 -> Ruddy shelduck | L17: =Denmark!BA18 -> 0 | M17: =Norway!BA18 -> 0 | N17: =Finland!BA18 -> 0 | O17: =Sweden!BA18 -> 0 | P17: =SUM(L17:O17) -> 0 | Q17: =COUNTIF(L17:O17,">0") -> 0 | S17: =K17 -> Ruddy shelduck | T17: =P17 -> 0 | U17: =Q17 -> 0 | V17: =TRIM(IF(L17>0,"Denmark ","")&IF(M17>0,"Norway ","")&IF(N17>0,"Finland ","")&IF(O17>0,"Sweden ","")) | X17: =S17 -> Ruddy shelduck | Y17: =IF(AND(P17>0,P17<3),TRIM(IF(L17>0,"Denmark ","")&IF(M17>0,"Norway ","")&IF(N17>0,"Finland ","")&IF(O17>0,"Sweden ","")),"") | Z17: =IF(AND(P17>0,P17<3),TRIM(IF(L17>0,"Denmark: "&IFERROR(LOOKUP(2,1/(Denmark!$C18:$AZ18<>""),Denmark!$C$4:$AZ$4),"")&" ","")&IF(M17>0,"Norway: "&IFERROR(LOOKUP(2,1/(Norway!$C18:$AZ18<>""),Norway!$C$4:$AZ$4),"")&" ","")&IF(N17>0,"Finland: "&IFERROR(LOOKUP(2,1/(Finland!$C18:$AZ18<>""),Finland!$C$4:$AZ$4),"")&" ","")&IF(O17>0,"Sweden: "&IFERROR(LOOKUP(2,1/(Sweden!$C18:$AZ18<>""),Sweden!$C$4:$AZ$4),"")&" ","")),"") | AA17: =P17 -> 0 | AI17: =F17 -> Denmark | AJ17: =G17 | AK17: =H17 | AL17: =I17 | AM17: =IF(G17="",-1,H17+(204-ROW())/100000) -> -1 | AN17: =IF(G17="",-1,I17+(204-ROW())/100000) -> -1 | AO17: =S17 -> Ruddy shelduck | AP17: =T17 -> 0 | AQ17: =U17 -> 0 | AR17: =V17 | AS17: =T17+(311-ROW())/100000 -> 0.00294 | AU17: =X17 -> Ruddy shelduck | AV17: =Y17 | AW17: =Z17 | AX17: =AA17 -> 0 | AY17: =IF(AND(AX17>0,AX17<3),(3-AX17)*1000+(311-ROW())/1000,-1) -> -1 | BA17: =S17 -> Ruddy shelduck | BB17: =T17 -> 0 | BC17: =U17 -> 0 | BD17: =V17 | BE17: =IF(U17=4,T17+(311-ROW())/100000,-1) -> -1 | BG17: =K17 -> Ruddy shelduck | BH17: =IF(Q17=1,V17,"") | BI17: =IF(Q17=1,TRIM(IF(L17>0,"Denmark: "&IFERROR(LOOKUP(2,1/(Denmark!$C18:$AZ18<>""),Denmark!$C$4:$AZ$4),"")&" ","")&IF(M17>0,"Norway: "&IFERROR(LOOKUP(2,1/(Norway!$C18:$AZ18<>""),Norway!$C$4:$AZ$4),"")&" ","")&IF(N17>0,"Finland: "&IFERROR(LOOKUP(2,1/(Finland!$C18:$AZ18<>""),Finland!$C$4:$AZ$4),"")&" ","")&IF(O17>0,"Sweden: "&IFERROR(LOOKUP(2,1/(Sweden!$C18:$AZ18<>""),Sweden!$C$4:$AZ$4),"")&" ","")),"") | BJ17: =P17 -> 0 | BK17: =IF(Q17=1,P17+(311-ROW())/100000,-1) -> -1
F18: ="Denmark" -> Denmark | G18: =IF(Denmark!Q$4="","",Denmark!Q$4) | H18: =IF(G18="","",COUNTIF(Denmark!Q$5:Q$311,"<>")) | I18: =IF(G18="","",SUMPRODUCT(--(Denmark!Q$5:Q$311<>""),--($P$4:$P$310>0),--($P$4:$P$310<3))) | K18: =Denmark!A19 -> Common shelduck | L18: =Denmark!BA19 -> 0 | M18: =Norway!BA19 -> 1 | N18: =Finland!BA19 -> 0 | O18: =Sweden!BA19 -> 2 | P18: =SUM(L18:O18) -> 3 | Q18: =COUNTIF(L18:O18,">0") -> 2 | S18: =K18 -> Common shelduck | T18: =P18 -> 3 | U18: =Q18 -> 2 | V18: =TRIM(IF(L18>0,"Denmark ","")&IF(M18>0,"Norway ","")&IF(N18>0,"Finland ","")&IF(O18>0,"Sweden ","")) -> Norway Sweden | X18: =S18 -> Common shelduck | Y18: =IF(AND(P18>0,P18<3),TRIM(IF(L18>0,"Denmark ","")&IF(M18>0,"Norway ","")&IF(N18>0,"Finland ","")&IF(O18>0,"Sweden ","")),"") | Z18: =IF(AND(P18>0,P18<3),TRIM(IF(L18>0,"Denmark: "&IFERROR(LOOKUP(2,1/(Denmark!$C19:$AZ19<>""),Denmark!$C$4:$AZ$4),"")&" ","")&IF(M18>0,"Norway: "&IFERROR(LOOKUP(2,1/(Norway!$C19:$AZ19<>""),Norway!$C$4:$AZ$4),"")&" ","")&IF(N18>0,"Finland: "&IFERROR(LOOKUP(2,1/(Finland!$C19:$AZ19<>""),Finland!$C$4:$AZ$4),"")&" ","")&IF(O18>0,"Sweden: "&IFERROR(LOOKUP(2,1/(Sweden!$C19:$AZ19<>""),Sweden!$C$4:$AZ$4),"")&" ","")),"") | AA18: =P18 -> 3 | AI18: =F18 -> Denmark | AJ18: =G18 | AK18: =H18 | AL18: =I18 | AM18: =IF(G18="",-1,H18+(204-ROW())/100000) -> -1 | AN18: =IF(G18="",-1,I18+(204-ROW())/100000) -> -1 | AO18: =S18 -> Common shelduck | AP18: =T18 -> 3 | AQ18: =U18 -> 2 | AR18: =V18 -> Norway Sweden | AS18: =T18+(311-ROW())/100000 -> 3.00293 | AU18: =X18 -> Common shelduck | AV18: =Y18 | AW18: =Z18 | AX18: =AA18 -> 3 | AY18: =IF(AND(AX18>0,AX18<3),(3-AX18)*1000+(311-ROW())/1000,-1) -> -1 | BA18: =S18 -> Common shelduck | BB18: =T18 -> 3 | BC18: =U18 -> 2 | BD18: =V18 -> Norway Sweden | BE18: =IF(U18=4,T18+(311-ROW())/100000,-1) -> -1 | BG18: =K18 -> Common shelduck | BH18: =IF(Q18=1,V18,"") | BI18: =IF(Q18=1,TRIM(IF(L18>0,"Denmark: "&IFERROR(LOOKUP(2,1/(Denmark!$C19:$AZ19<>""),Denmark!$C$4:$AZ$4),"")&" ","")&IF(M18>0,"Norway: "&IFERROR(LOOKUP(2,1/(Norway!$C19:$AZ19<>""),Norway!$C$4:$AZ$4),"")&" ","")&IF(N18>0,"Finland: "&IFERROR(LOOKUP(2,1/(Finland!$C19:$AZ19<>""),Finland!$C$4:$AZ$4),"")&" ","")&IF(O18>0,"Sweden: "&IFERROR(LOOKUP(2,1/(Sweden!$C19:$AZ19<>""),Sweden!$C$4:$AZ$4),"")&" ","")),"") | BJ18: =P18 -> 3 | BK18: =IF(Q18=1,P18+(311-ROW())/100000,-1) -> -1
F19: ="Denmark" -> Denmark | G19: =IF(Denmark!R$4="","",Denmark!R$4) | H19: =IF(G19="","",COUNTIF(Denmark!R$5:R$311,"<>")) | I19: =IF(G19="","",SUMPRODUCT(--(Denmark!R$5:R$311<>""),--($P$4:$P$310>0),--($P$4:$P$310<3))) | K19: =Denmark!A20 -> Eurasian wigeon | L19: =Denmark!BA20 -> 0 | M19: =Norway!BA20 -> 2 | N19: =Finland!BA20 -> 19 | O19: =Sweden!BA20 -> 17 | P19: =SUM(L19:O19) -> 38 | Q19: =COUNTIF(L19:O19,">0") -> 3 | S19: =K19 -> Eurasian wigeon | T19: =P19 -> 38 | U19: =Q19 -> 3 | V19: =TRIM(IF(L19>0,"Denmark ","")&IF(M19>0,"Norway ","")&IF(N19>0,"Finland ","")&IF(O19>0,"Sweden ","")) -> Norway Finland Sweden | X19: =S19 -> Eurasian wigeon | Y19: =IF(AND(P19>0,P19<3),TRIM(IF(L19>0,"Denmark ","")&IF(M19>0,"Norway ","")&IF(N19>0,"Finland ","")&IF(O19>0,"Sweden ","")),"") | Z19: =IF(AND(P19>0,P19<3),TRIM(IF(L19>0,"Denmark: "&IFERROR(LOOKUP(2,1/(Denmark!$C20:$AZ20<>""),Denmark!$C$4:$AZ$4),"")&" ","")&IF(M19>0,"Norway: "&IFERROR(LOOKUP(2,1/(Norway!$C20:$AZ20<>""),Norway!$C$4:$AZ$4),"")&" ","")&IF(N19>0,"Finland: "&IFERROR(LOOKUP(2,1/(Finland!$C20:$AZ20<>""),Finland!$C$4:$AZ$4),"")&" ","")&IF(O19>0,"Sweden: "&IFERROR(LOOKUP(2,1/(Sweden!$C20:$AZ20<>""),Sweden!$C$4:$AZ$4),"")&" ","")),"") | AA19: =P19 -> 38 | AI19: =F19 -> Denmark | AJ19: =G19 | AK19: =H19 | AL19: =I19 | AM19: =IF(G19="",-1,H19+(204-ROW())/100000) -> -1 | AN19: =IF(G19="",-1,I19+(204-ROW())/100000) -> -1 | AO19: =S19 -> Eurasian wigeon | AP19: =T19 -> 38 | AQ19: =U19 -> 3 | AR19: =V19 -> Norway Finland Sweden | AS19: =T19+(311-ROW())/100000 -> 38.00292 | AU19: =X19 -> Eurasian wigeon | AV19: =Y19 | AW19: =Z19 | AX19: =AA19 -> 38 | AY19: =IF(AND(AX19>0,AX19<3),(3-AX19)*1000+(311-ROW())/1000,-1) -> -1 | BA19: =S19 -> Eurasian wigeon | BB19: =T19 -> 38 | BC19: =U19 -> 3 | BD19: =V19 -> Norway Finland Sweden | BE19: =IF(U19=4,T19+(311-ROW())/100000,-1) -> -1 | BG19: =K19 -> Eurasian wigeon | BH19: =IF(Q19=1,V19,"") | BI19: =IF(Q19=1,TRIM(IF(L19>0,"Denmark: "&IFERROR(LOOKUP(2,1/(Denmark!$C20:$AZ20<>""),Denmark!$C$4:$AZ$4),"")&" ","")&IF(M19>0,"Norway: "&IFERROR(LOOKUP(2,1/(Norway!$C20:$AZ20<>""),Norway!$C$4:$AZ$4),"")&" ","")&IF(N19>0,"Finland: "&IFERROR(LOOKUP(2,1/(Finland!$C20:$AZ20<>""),Finland!$C$4:$AZ$4),"")&" ","")&IF(O19>0,"Sweden: "&IFERROR(LOOKUP(2,1/(Sweden!$C20:$AZ20<>""),Sweden!$C$4:$AZ$4),"")&" ","")),"") | BJ19: =P19 -> 38 | BK19: =IF(Q19=1,P19+(311-ROW())/100000,-1) -> -1
F20: ="Denmark" -> Denmark | G20: =IF(Denmark!S$4="","",Denmark!S$4) | H20: =IF(G20="","",COUNTIF(Denmark!S$5:S$311,"<>")) | I20: =IF(G20="","",SUMPRODUCT(--(Denmark!S$5:S$311<>""),--($P$4:$P$310>0),--($P$4:$P$310<3))) | K20: =Denmark!A21 -> Gadwall | L20: =Denmark!BA21 -> 0 | M20: =Norway!BA21 -> 1 | N20: =Finland!BA21 -> 10 | O20: =Sweden!BA21 -> 8 | P20: =SUM(L20:O20) -> 19 | Q20: =COUNTIF(L20:O20,">0") -> 3 | S20: =K20 -> Gadwall | T20: =P20 -> 19 | U20: =Q20 -> 3 | V20: =TRIM(IF(L20>0,"Denmark ","")&IF(M20>0,"Norway ","")&IF(N20>0,"Finland ","")&IF(O20>0,"Sweden ","")) -> Norway Finland Sweden | X20: =S20 -> Gadwall | Y20: =IF(AND(P20>0,P20<3),TRIM(IF(L20>0,"Denmark ","")&IF(M20>0,"Norway ","")&IF(N20>0,"Finland ","")&IF(O20>0,"Sweden ","")),"") | Z20: =IF(AND(P20>0,P20<3),TRIM(IF(L20>0,"Denmark: "&IFERROR(LOOKUP(2,1/(Denmark!$C21:$AZ21<>""),Denmark!$C$4:$AZ$4),"")&" ","")&IF(M20>0,"Norway: "&IFERROR(LOOKUP(2,1/(Norway!$C21:$AZ21<>""),Norway!$C$4:$AZ$4),"")&" ","")&IF(N20>0,"Finland: "&IFERROR(LOOKUP(2,1/(Finland!$C21:$AZ21<>""),Finland!$C$4:$AZ$4),"")&" ","")&IF(O20>0,"Sweden: "&IFERROR(LOOKUP(2,1/(Sweden!$C21:$AZ21<>""),Sweden!$C$4:$AZ$4),"")&" ","")),"") | AA20: =P20 -> 19 | AI20: =F20 -> Denmark | AJ20: =G20 | AK20: =H20 | AL20: =I20 | AM20: =IF(G20="",-1,H20+(204-ROW())/100000) -> -1 | AN20: =IF(G20="",-1,I20+(204-ROW())/100000) -> -1 | AO20: =S20 -> Gadwall | AP20: =T20 -> 19 | AQ20: =U20 -> 3 | AR20: =V20 -> Norway Finland Sweden | AS20: =T20+(311-ROW())/100000 -> 19.00291 | AU20: =X20 -> Gadwall | AV20: =Y20 | AW20: =Z20 | AX20: =AA20 -> 19 | AY20: =IF(AND(AX20>0,AX20<3),(3-AX20)*1000+(311-ROW())/1000,-1) -> -1 | BA20: =S20 -> Gadwall | BB20: =T20 -> 19 | BC20: =U20 -> 3 | BD20: =V20 -> Norway Finland Sweden | BE20: =IF(U20=4,T20+(311-ROW())/100000,-1) -> -1 | BG20: =K20 -> Gadwall | BH20: =IF(Q20=1,V20,"") | BI20: =IF(Q20=1,TRIM(IF(L20>0,"Denmark: "&IFERROR(LOOKUP(2,1/(Denmark!$C21:$AZ21<>""),Denmark!$C$4:$AZ$4),"")&" ","")&IF(M20>0,"Norway: "&IFERROR(LOOKUP(2,1/(Norway!$C21:$AZ21<>""),Norway!$C$4:$AZ$4),"")&" ","")&IF(N20>0,"Finland: "&IFERROR(LOOKUP(2,1/(Finland!$C21:$AZ21<>""),Finland!$C$4:$AZ$4),"")&" ","")&IF(O20>0,"Sweden: "&IFERROR(LOOKUP(2,1/(Sweden!$C21:$AZ21<>""),Sweden!$C$4:$AZ$4),"")&" ","")),"") | BJ20: =P20 -> 19 | BK20: =IF(Q20=1,P20+(311-ROW())/100000,-1) -> -1
F21: ="Denmark" -> Denmark | G21: =IF(Denmark!T$4="","",Denmark!T$4) | H21: =IF(G21="","",COUNTIF(Denmark!T$5:T$311,"<>")) | I21: =IF(G21="","",SUMPRODUCT(--(Denmark!T$5:T$311<>""),--($P$4:$P$310>0),--($P$4:$P$310<3))) | K21: =Denmark!A22 -> Green-winged teal | L21: =Denmark!BA22 -> 0 | M21: =Norway!BA22 -> 1 | N21: =Finland!BA22 -> 13 | O21: =Sweden!BA22 -> 12 | P21: =SUM(L21:O21) -> 26 | Q21: =COUNTIF(L21:O21,">0") -> 3 | S21: =K21 -> Green-winged teal | T21: =P21 -> 26 | U21: =Q21 -> 3 | V21: =TRIM(IF(L21>0,"Denmark ","")&IF(M21>0,"Norway ","")&IF(N21>0,"Finland ","")&IF(O21>0,"Sweden ","")) -> Norway Finland Sweden | X21: =S21 -> Green-winged teal | Y21: =IF(AND(P21>0,P21<3),TRIM(IF(L21>0,"Denmark ","")&IF(M21>0,"Norway ","")&IF(N21>0,"Finland ","")&IF(O21>0,"Sweden ","")),"") | Z21: =IF(AND(P21>0,P21<3),TRIM(IF(L21>0,"Denmark: "&IFERROR(LOOKUP(2,1/(Denmark!$C22:$AZ22<>""),Denmark!$C$4:$AZ$4),"")&" ","")&IF(M21>0,"Norway: "&IFERROR(LOOKUP(2,1/(Norway!$C22:$AZ22<>""),Norway!$C$4:$AZ$4),"")&" ","")&IF(N21>0,"Finland: "&IFERROR(LOOKUP(2,1/(Finland!$C22:$AZ22<>""),Finland!$C$4:$AZ$4),"")&" ","")&IF(O21>0,"Sweden: "&IFERROR(LOOKUP(2,1/(Sweden!$C22:$AZ22<>""),Sweden!$C$4:$AZ$4),"")&" ","")),"") | AA21: =P21 -> 26 | AI21: =F21 -> Denmark | AJ21: =G21 | AK21: =H21 | AL21: =I21 | AM21: =IF(G21="",-1,H21+(204-ROW())/100000) -> -1 | AN21: =IF(G21="",-1,I21+(204-ROW())/100000) -> -1 | AO21: =S21 -> Green-winged teal | AP21: =T21 -> 26 | AQ21: =U21 -> 3 | AR21: =V21 -> Norway Finland Sweden | AS21: =T21+(311-ROW())/100000 -> 26.0029 | AU21: =X21 -> Green-winged teal | AV21: =Y21 | AW21: =Z21 | AX21: =AA21 -> 26 | AY21: =IF(AND(AX21>0,AX21<3),(3-AX21)*1000+(311-ROW())/1000,-1) -> -1 | BA21: =S21 -> Green-winged teal | BB21: =T21 -> 26 | BC21: =U21 -> 3 | BD21: =V21 -> Norway Finland Sweden | BE21: =IF(U21=4,T21+(311-ROW())/100000,-1) -> -1 | BG21: =K21 -> Green-winged teal | BH21: =IF(Q21=1,V21,"") | BI21: =IF(Q21=1,TRIM(IF(L21>0,"Denmark: "&IFERROR(LOOKUP(2,1/(Denmark!$C22:$AZ22<>""),Denmark!$C$4:$AZ$4),"")&" ","")&IF(M21>0,"Norway: "&IFERROR(LOOKUP(2,1/(Norway!$C22:$AZ22<>""),Norway!$C$4:$AZ$4),"")&" ","")&IF(N21>0,"Finland: "&IFERROR(LOOKUP(2,1/(Finland!$C22:$AZ22<>""),Finland!$C$4:$AZ$4),"")&" ","")&IF(O21>0,"Sweden: "&IFERROR(LOOKUP(2,1/(Sweden!$C22:$AZ22<>""),Sweden!$C$4:$AZ$4),"")&" ","")),"") | BJ21: =P21 -> 26 | BK21: =IF(Q21=1,P21+(311-ROW())/100000,-1) -> -1
